BEGIN:VCALENDAR
VERSION:2.0
PRODID:-//achurchnearyou.com//eventfeed//EN
CALSCALE:GREGORIAN
METHOD:PUBLISH
X-WR-TIMEZONE:UTC
BEGIN:VEVENT
SUMMARY:Morris & Co. Stained Glass Window Tour of Bradford Cathedral
DTSTART:20250322T113000Z
DTEND:20250322T123000Z
DTSTAMP:20260422T155452Z
UID:11305722025-03-22 11:30:00+00:00achurchnearyou
CATEGORIES:
DESCRIPTION:On 24th March it will be 191 years since the birth of William 
 Morris. To celebrate the life and work of this remarkable man\, join us fo
 r a special Morris & Co. stained glass window tour of Bradford Cathedral o
 n Saturday 22nd March.\n\nThe famous Victorian artist and designer William
  Morris founded Morris & Co. and\, along with renowned figures such as Dan
 te Gabriel Rossetti\, Edward Burne-Jones and Ford Madox Brown\, created ma
 ny pieces of stunning stained glass\, some early examples of which are on 
 display in four locations in Bradford Cathedral. The stained glass also in
 cludes a figure\, recently discovered to have been designed by William De 
 Morgan.  \n\n* The tour will also include an appreciation of the magnifice
 nt West Window\, a beautiful Pre-Raphaelite window designed by Heaton\, Bu
 tler and Bayne.\n\nLight refreshments will be available after the tours.\n
 Places are limited. Book early to avoid disappointment.
GEO:-1.747422;53.795486
LOCATION:Bradford Cathedral
URL:https://www.eventbrite.co.uk/e/morris-co-stained-glass-window-tour-tic
 kets-1089905238909?aff=oddtdtcreator
END:VEVENT
END:VCALENDAR
