BEGIN:VCALENDAR
VERSION:2.0
PRODID:-//achurchnearyou.com//eventfeed//EN
CALSCALE:GREGORIAN
METHOD:PUBLISH
X-WR-TIMEZONE:UTC
BEGIN:VEVENT
SUMMARY:Bradford Cathedral Easter Holiday Family Activities (Afternoon Ses
 sion)
DTSTART:20250408T120000Z
DTEND:20250408T140000Z
DTSTAMP:20260422T155347Z
UID:11331862025-04-08 12:00:00+00:00achurchnearyou
CATEGORIES:
DESCRIPTION:Join us for more free family activities during the Easter holi
 day\, with crafts\, colouring\, trails\, quizzes and fun for all the famil
 y. \n \nFamily-friendly guided tours take place at 11am and 2pm. You are a
 lso welcome to visit the Cathedral with your family and do your own self-g
 uided tour.\n \nAll welcome. Children must be accompanied by an adult.\n \
 nBooking is essential to avoid disappointment.
GEO:-1.747422;53.795486
LOCATION:Bradford Cathedral
URL:https://bradfordcathedral.churchsuite.com/events/jilnxzka
END:VEVENT
END:VCALENDAR
