BEGIN:VCALENDAR
VERSION:2.0
PRODID:-//achurchnearyou.com//eventfeed//EN
CALSCALE:GREGORIAN
METHOD:PUBLISH
X-WR-TIMEZONE:UTC
BEGIN:VEVENT
SUMMARY:Beacon of Hope (Presentation event)
DTSTART:20250226T144500Z
DTEND:20250226T164500Z
DTSTAMP:20260422T173734Z
UID:11567202025-02-26 14:45:00+00:00achurchnearyou
CATEGORIES:
DESCRIPTION:'Beacon of Hope' is an exhibition by the students of Carlton B
 olling school\, on display in Bradford Cathedral\, Monday - Saturday from 
 10am - 4pm.\n\nThis presentation evening will include selected pieces from
  the Carlton Bolling school choir as well as some inspirational speeches f
 rom both students and staff.
GEO:-1.747422;53.795486
LOCATION:Bradford Cathedral
URL:https://bradfordcathedral.churchsuite.com/events/p80sgxpj
END:VEVENT
END:VCALENDAR
