BEGIN:VCALENDAR
VERSION:2.0
PRODID:-//achurchnearyou.com//eventfeed//EN
CALSCALE:GREGORIAN
METHOD:PUBLISH
X-WR-TIMEZONE:UTC
BEGIN:VEVENT
SUMMARY:The Liturgy of Maundy Thursday
DTSTART:20250417T180000Z
DTEND:20250417T225900Z
DTSTAMP:20260422T135740Z
UID:11765872025-04-17 18:00:00+00:00achurchnearyou
CATEGORIES:
DESCRIPTION:There will be the Liturgy of Maundy Thursday at 7pm\, a servic
 e which will re-tell the story of Jesus' passion for the world through a m
 oving service in which we re-enact his washing of the disciples' feet\, re
 member him in the sharing of bread and wine\, and then have the opportunit
 y to keep 'The Watch' with him at the Altar of Repose until his arrest at 
 midnight. The Bishop of Bradford\, the Rt Revd Toby Howarth\, will be prea
 ching.\n\nBerry Lockdown Mass\nNardone A new commandment\nDuruflé Ubi car
 itas\nHymns 130\, 136 (t.i)\, AM 168\, 318
GEO:-1.747422;53.795486
LOCATION:Bradford Cathedral
URL:https://bradfordcathedral.churchsuite.com/events/lprallhv
END:VEVENT
END:VCALENDAR
