BEGIN:VCALENDAR
VERSION:2.0
PRODID:-//achurchnearyou.com//eventfeed//EN
CALSCALE:GREGORIAN
METHOD:PUBLISH
X-WR-TIMEZONE:UTC
BEGIN:VEVENT
SUMMARY:The Music of The Lord of The Rings: A Tribute to Howard Shore
DTSTART:20250425T183000Z
DTEND:20250425T193000Z
DTSTAMP:20260422T135552Z
UID:11812492025-04-25 18:30:00+00:00achurchnearyou
CATEGORIES:
DESCRIPTION:Join us on April 25th at 19:30 at the stunning for 'Our precio
 us concert' – one of our most beloved and best-selling programmes!\n\nEx
 perience the majestic and timeless music of the legendary Lord of the Ring
 s films in a breathtaking concert that will transport audiences straight i
 nto the heart of Tolkien's universe. Howard Shore's iconic soundtrack has 
 captivated millions worldwide\, and now\, we bring it to you in one of Bra
 dford's most historic and acoustically rich venues — the Bradford Cathed
 ral.\n\nPerformed by the modern orchestra Mystery Ensemble\, this magical 
 evening will transport you instantly into the heart of Tolkien's universe\
 , where elves\, hobbits\, and dwarves roam. The virtuoso playing of the mu
 sicians will bring to life the stirring\, powerful\, and deeply emotional 
 compositions of Howard Shore\, the three-time Academy Award winner\, whose
  work shaped the very essence of Peter Jackson's cinematic masterpiece.\n\
 nThis enchanting musical journey promises to be one of the most magical co
 ncerts of the season\, with tickets selling out fast!\n\nMystery Ensemble 
 about the programme:\n\n"On this beautiful evening\, you will feel like th
 e heroes of Tolkien's fantastic universe\, where elves\, orcs\, hobbits\, 
 and dwarves live! Imagine: a chamber hall\, the authentic sound of motifs 
 from the soundtracks… Fabulous\, isn't it? There are rumours that variou
 s film composers\, having heard The Lord of the Rings in our performance\,
  strenuously began composing soundtracks for other films – hoping that s
 omeday we will also perform them! We decided that we would think about it.
 \n\nDon't believe the rumours – come and see for yourself that the music
  of The Lord of the Rings in our performance is just as thrilling as the f
 ilm itself!"
GEO:-1.747422;53.795486
LOCATION:Bradford Cathedral
URL:https://redevents.world/event/200-the-music-of-the-lord-of-the-rings-t
 ribute-to-howard-shore.html
END:VEVENT
END:VCALENDAR
