BEGIN:VCALENDAR
VERSION:2.0
PRODID:-//achurchnearyou.com//eventfeed//EN
CALSCALE:GREGORIAN
METHOD:PUBLISH
X-WR-TIMEZONE:UTC
BEGIN:VEVENT
SUMMARY:The Christmas Orchestra
DTSTART:20251204T190000Z
DTEND:20251204T201500Z
DTSTAMP:20260421T220358Z
UID:11827292025-12-04 19:00:00+00:00achurchnearyou
CATEGORIES:
DESCRIPTION:The Christmas Orchestra is back! After a wonderful run of sold
  out shows in 2024 we are excited to bring you more shows and locations in
  2025. Get ready to discover the magic of the festive season with our uniq
 ue concert experience.\n\nOn 4th December our tour makes a special stop at
  Bradford Cathedral\, bringing the festive spirit right to your doorstep.\
 nTake a look at some of the highlights from our 2024 shows on our YouTube 
 channel here:\n\nhttps://www.youtube.com/@TheChristmasOrchestraTour\n\nCel
 ebrate this special time of year with us in Bradford and create memories t
 ogether that will last a lifetime! ✨
GEO:-1.747422;53.795486
LOCATION:Bradford Cathedral
URL:https://www.tickettailor.com/events/thechristmasorchestra/1635181/r/we
 b
END:VEVENT
END:VCALENDAR
