BEGIN:VCALENDAR
VERSION:2.0
PRODID:-//achurchnearyou.com//eventfeed//EN
CALSCALE:GREGORIAN
METHOD:PUBLISH
X-WR-TIMEZONE:UTC
BEGIN:VEVENT
SUMMARY:Nadia Eide- Winter Light
DTSTART:20251128T190000Z
DTEND:20251128T210000Z
DTSTAMP:20260422T021647Z
UID:11993292025-11-28 19:00:00+00:00achurchnearyou
CATEGORIES:
DESCRIPTION:Experience the enchanting voice of The Voice Finalist Nadia Ei
 de at Bradford Cathedral in a magical concert filled with festive music.\n
 \nNadia catapulted to fame when she appeared on ITV as the only classical 
 singer on The Voice UK 2021. Her four- and-a-half octave range blew the co
 aches away securing her spot as a finalist of Team will.i.am. Critically a
 cclaimed on stage as an opera and musical theatre star\, she is now breaki
 ng the mould of the classical crossover genre\, receiving standing ovation
 s for her concert shows.\n\nThis November and December she is touring her 
 hugely successful Christmas concert tour Winter Light\, which is taking pl
 ace in beautiful churches and cathedrals around the UK.\n\nChart topping s
 oprano and star of The Voice UK\, Nadia Eide\, presents a spectacular Chri
 stmas concert for all ages. Singing festive favourites and classic songs\,
  this show is sure to bring the Christmas joy! Features a special guest ch
 oir. All ages welcome.
GEO:-1.747422;53.795486
LOCATION:Bradford Cathedral
URL:https://www.eventbrite.co.uk/e/winter-light-bradford-cathedral-tickets
 -1357046194699?aff=oddtdtcreator
END:VEVENT
END:VCALENDAR
