BEGIN:VCALENDAR
VERSION:2.0
PRODID:-//achurchnearyou.com//eventfeed//EN
CALSCALE:GREGORIAN
METHOD:PUBLISH
X-WR-TIMEZONE:UTC
BEGIN:VEVENT
SUMMARY:Re:Imagine Global Peace
DTSTART:20251121T193000Z
DTEND:20251121T210000Z
DTSTAMP:20260422T001909Z
UID:12310582025-11-21 19:30:00+00:00achurchnearyou
CATEGORIES:
DESCRIPTION:Join a leading figure in international diplomacy in conversati
 on over food as we explore diplomacy in a fragmented world. How can we rei
 magine global peace amidst rising polarisation? Together\, we’ll uncover
  bold and creative ways to build trust and connection – locally and glob
 ally – for a more peaceful\, shared future.\n\n\nRather than a lecture\,
  panel\, or formal Q&A\, this gathering is about risk\, surprise\, and enc
 ounter. It will bring together expertise\, uncertainty\, and personal stor
 ies to allow new insights to emerge between the guests.\n\n\nOur guest for
  this event\, David Porter\, Visiting Professor of Faith and Peaceful Rela
 tions at Coventry University\, will be in conversation with Revd Canon Ned
  Lunn\, Canon for Intercultural Mission and the Arts at Bradford Cathedral
 . Together\, they will guide an evening of dialogue over food\, inviting p
 articipants into a shared exploration of what it means to seek peace\, loc
 ally and globally\, in a fragmented age.\n\n\nThe pertinence of this conve
 rsation could not be sharper. At a time when conflicts around the globe\, 
 from Ukraine to the Middle East\, from Sudan to ongoing tensions closer to
  home continue to cause suffering and deepen divisions\, the lessons of No
 rthern Ireland stand as both a beacon of hope and a sober reminder of the 
 fragility of peace.\n\n\n\nThe Re:Imagine series\, launched earlier this y
 ear\, seeks to create space for courageous\, creative\, and collaborative 
 conversations that tackle some of the most pressing issues of our time. Ea
 ch event aims not just to discuss problems but to spark fresh imagination 
 about possible futures.\n\n\nThis event has been rescheduled from the 26th
  September.
GEO:-1.747422;53.795486
LOCATION:Bradford Cathedral
URL:https://www.eventbrite.co.uk/e/reimagine-global-peace-tickets-14806247
 51489
END:VEVENT
END:VCALENDAR
