BEGIN:VCALENDAR
VERSION:2.0
PRODID:-//achurchnearyou.com//eventfeed//EN
CALSCALE:GREGORIAN
METHOD:PUBLISH
X-WR-TIMEZONE:UTC
BEGIN:VEVENT
SUMMARY:Bradford Cathedral After Dark
DTSTART:20260131T163000Z
DTEND:20260131T203000Z
DTSTAMP:20260421T164841Z
UID:12580252026-01-31 16:30:00+00:00achurchnearyou
CATEGORIES:
DESCRIPTION:Saturday 31st January\, 4:30pm and 7pm.\n\nExperience Bradford
  Cathedral after dark\, with key features illuminated by candles and colou
 red light. There will be an introductory short talk about the building fro
 m our historian\, who will also be on hand throughout the experience to an
 swer any questions. You will then be free to self-tour the building at you
 r own pace\, experiencing it as never before.\n\nRefreshments will be avai
 lable.\n\nNot suitable for young children\, those with impaired vision or 
 mobility\, due to steps\, uneven surfaces and limited lighting.
GEO:-1.747422;53.795486
LOCATION:Bradford Cathedral
URL:https://www.eventbrite.co.uk/o/bradford-cathedral-13158341111
END:VEVENT
END:VCALENDAR
