BEGIN:VCALENDAR
VERSION:2.0
PRODID:-//achurchnearyou.com//eventfeed//EN
CALSCALE:GREGORIAN
METHOD:PUBLISH
X-WR-TIMEZONE:UTC
BEGIN:VEVENT
SUMMARY:Handel's Messiah
DTSTART:20260329T180000Z
DTEND:20260329T200000Z
DTSTAMP:20260421T110643Z
UID:12851232026-03-29 18:00:00+00:00achurchnearyou
CATEGORIES:
DESCRIPTION:Bradford Cathedral presents GF Handel's Messiah. This famous l
 arge-scale Baroque work includes the iconic 'Hallelujah' chorus.\n\nJoin u
 s in the lead up to Easter with an awe-inspiring performance of Britain’
 s best-loved and most famous choral work\, Handel’s Messiah.\n\nThis lar
 ge scale work is divided into three parts: the prophecies and birth of the
  Messiah\, Christ's suffering and ressurection\, and the Day of Judgement.
  While often associated with Christmas\, the oratorio's narrative covers t
 he Christian Lent and Easter stories and includes the iconic 'Hallelujah' 
 chorus\, all accompanied by William Campbell on the Cathedral Organ\, and 
 conducted by Geoffrey Woollatt.
GEO:-1.747422;53.795486
LOCATION:Bradford Cathedral
URL:https://www.eventbrite.co.uk/e/handels-messiah-tickets-1974816923579?a
 ff=oddtdtcreator
END:VEVENT
END:VCALENDAR
