BEGIN:VCALENDAR
VERSION:2.0
PRODID:-//achurchnearyou.com//eventfeed//EN
CALSCALE:GREGORIAN
METHOD:PUBLISH
X-WR-TIMEZONE:UTC
BEGIN:VEVENT
SUMMARY:Stations of the Cross
DTSTART;TZID=Europe/London:20260227T180000
DTEND;TZID=Europe/London:20260227T190000
DTSTAMP:20260426T014012Z
UID:12937742026-02-27 18:00:00+00:00achurchnearyou
CATEGORIES:
DESCRIPTION:STATIONS OF THE CROSS - every Friday at 6pm\, beginning Friday
  27th February.             We follow in the steps of Jesus on the way to 
 the cross using the stations in Saint Cuthbert's church as a visual aid. \
 n\nSTATIONS IN THE STREET- Friday 20th March 6pm around the streets near S
 t. Cuthbert's\n\nSTATIONS IN SUNNYHURST-Good Friday 10am-Meet at the kiosk
 \n\nSTATIONS OF THE CROSS on Wednesday 1st April at 6pm
GEO:-2.478124;53.705233
LOCATION:A warm welcome to St Cuthbert's
URL:https://www.achurchnearyou.com/church/5747/service-and-events/events/1
 293774/
END:VEVENT
BEGIN:VEVENT
SUMMARY:Stations of the Cross
DTSTART;TZID=Europe/London:20260306T180000
DTEND;TZID=Europe/London:20260306T190000
DTSTAMP:20260426T014012Z
UID:12937742026-03-06 18:00:00+00:00achurchnearyou
CATEGORIES:
DESCRIPTION:STATIONS OF THE CROSS - every Friday at 6pm\, beginning Friday
  27th February.             We follow in the steps of Jesus on the way to 
 the cross using the stations in Saint Cuthbert's church as a visual aid. \
 n\nSTATIONS IN THE STREET- Friday 20th March 6pm around the streets near S
 t. Cuthbert's\n\nSTATIONS IN SUNNYHURST-Good Friday 10am-Meet at the kiosk
 \n\nSTATIONS OF THE CROSS on Wednesday 1st April at 6pm
GEO:-2.478124;53.705233
LOCATION:A warm welcome to St Cuthbert's
URL:https://www.achurchnearyou.com/church/5747/service-and-events/events/1
 293774/
END:VEVENT
BEGIN:VEVENT
SUMMARY:Stations of the Cross
DTSTART;TZID=Europe/London:20260313T180000
DTEND;TZID=Europe/London:20260313T190000
DTSTAMP:20260426T014012Z
UID:12937742026-03-13 18:00:00+00:00achurchnearyou
CATEGORIES:
DESCRIPTION:STATIONS OF THE CROSS - every Friday at 6pm\, beginning Friday
  27th February.             We follow in the steps of Jesus on the way to 
 the cross using the stations in Saint Cuthbert's church as a visual aid. \
 n\nSTATIONS IN THE STREET- Friday 20th March 6pm around the streets near S
 t. Cuthbert's\n\nSTATIONS IN SUNNYHURST-Good Friday 10am-Meet at the kiosk
 \n\nSTATIONS OF THE CROSS on Wednesday 1st April at 6pm
GEO:-2.478124;53.705233
LOCATION:A warm welcome to St Cuthbert's
URL:https://www.achurchnearyou.com/church/5747/service-and-events/events/1
 293774/
END:VEVENT
BEGIN:VEVENT
SUMMARY:Stations of the Cross
DTSTART;TZID=Europe/London:20260320T180000
DTEND;TZID=Europe/London:20260320T190000
DTSTAMP:20260426T014012Z
UID:12937742026-03-20 18:00:00+00:00achurchnearyou
CATEGORIES:
DESCRIPTION:STATIONS OF THE CROSS - every Friday at 6pm\, beginning Friday
  27th February.             We follow in the steps of Jesus on the way to 
 the cross using the stations in Saint Cuthbert's church as a visual aid. \
 n\nSTATIONS IN THE STREET- Friday 20th March 6pm around the streets near S
 t. Cuthbert's\n\nSTATIONS IN SUNNYHURST-Good Friday 10am-Meet at the kiosk
 \n\nSTATIONS OF THE CROSS on Wednesday 1st April at 6pm
GEO:-2.478124;53.705233
LOCATION:A warm welcome to St Cuthbert's
URL:https://www.achurchnearyou.com/church/5747/service-and-events/events/1
 293774/
END:VEVENT
BEGIN:VEVENT
SUMMARY:Stations of the Cross
DTSTART;TZID=Europe/London:20260327T180000
DTEND;TZID=Europe/London:20260327T190000
DTSTAMP:20260426T014012Z
UID:12937742026-03-27 18:00:00+00:00achurchnearyou
CATEGORIES:
DESCRIPTION:STATIONS OF THE CROSS - every Friday at 6pm\, beginning Friday
  27th February.             We follow in the steps of Jesus on the way to 
 the cross using the stations in Saint Cuthbert's church as a visual aid. \
 n\nSTATIONS IN THE STREET- Friday 20th March 6pm around the streets near S
 t. Cuthbert's\n\nSTATIONS IN SUNNYHURST-Good Friday 10am-Meet at the kiosk
 \n\nSTATIONS OF THE CROSS on Wednesday 1st April at 6pm
GEO:-2.478124;53.705233
LOCATION:A warm welcome to St Cuthbert's
URL:https://www.achurchnearyou.com/church/5747/service-and-events/events/1
 293774/
END:VEVENT
END:VCALENDAR
