BEGIN:VCALENDAR
VERSION:2.0
PRODID:-//achurchnearyou.com//eventfeed//EN
CALSCALE:GREGORIAN
METHOD:PUBLISH
X-WR-TIMEZONE:UTC
BEGIN:VEVENT
SUMMARY:Midnight Mass: 11.30pm
DTSTART:20251224T233000Z
DTEND:20251225T010000Z
DTSTAMP:20260424T014733Z
UID:12748162025-12-24 23:30:00+00:00achurchnearyou
CATEGORIES:
DESCRIPTION:Christmas Eve Service
GEO:-0.150467;51.568931
LOCATION:St Michael's\, Highgate
URL:https://stmichaelshighgate.org/
END:VEVENT
END:VCALENDAR
