BEGIN:VCALENDAR
VERSION:2.0
PRODID:-//achurchnearyou.com//eventfeed//EN
CALSCALE:GREGORIAN
METHOD:PUBLISH
X-WR-TIMEZONE:UTC
BEGIN:VEVENT
SUMMARY:Christingle Breakfast Church
DTSTART:20251207T090000Z
DTEND:20251207T103000Z
DTSTAMP:20260424T233239Z
UID:12511612025-12-07 09:00:00+00:00achurchnearyou
CATEGORIES:
DESCRIPTION:In support of The Children's Society
GEO:-1.235301;51.639928
LOCATION:Appleford St Peter & St Paul
URL:https://www.achurchnearyou.com/church/5770/service-and-events/events/1
 251161/
END:VEVENT
END:VCALENDAR
