BEGIN:VCALENDAR
VERSION:2.0
PRODID:-//achurchnearyou.com//eventfeed//EN
CALSCALE:GREGORIAN
METHOD:PUBLISH
X-WR-TIMEZONE:UTC
BEGIN:VEVENT
SUMMARY:Christmas Eve Crib Service
DTSTART:20251224T040000Z
DTEND:20251224T050000Z
DTSTAMP:20260424T083449Z
UID:12647242025-12-24 04:00:00+00:00achurchnearyou
CATEGORIES:
DESCRIPTION:Children come dressed as angels\, shepherds\, kings or animals
  and help tell the story of Christmas
GEO:-0.569806;51.631506
LOCATION:Chalfont St Giles Parish Church
URL:https://csgparish.church/christmas/
END:VEVENT
END:VCALENDAR
