BEGIN:VCALENDAR
VERSION:2.0
PRODID:-//achurchnearyou.com//eventfeed//EN
CALSCALE:GREGORIAN
METHOD:PUBLISH
X-WR-TIMEZONE:UTC
BEGIN:VEVENT
SUMMARY:Christmas Services
DTSTART:20251201T000000Z
DTEND:20251225T000000Z
DTSTAMP:20260424T025901Z
UID:12680742025-12-01 00:00:00+00:00achurchnearyou
CATEGORIES:
DESCRIPTION:We are looking forward to sharing the festive season with you.
  Here are the events in all three churches for Advent and Christmas
GEO:-0.52163;51.484771
LOCATION:St Thomas' Colnbrook
URL:https://www.achurchnearyou.com/church/5822/service-and-events/events/1
 268074/
END:VEVENT
END:VCALENDAR
