BEGIN:VCALENDAR
VERSION:2.0
PRODID:-//achurchnearyou.com//eventfeed//EN
CALSCALE:GREGORIAN
METHOD:PUBLISH
X-WR-TIMEZONE:UTC
BEGIN:VEVENT
SUMMARY:Morning Praise & Prayer
DTSTART:20250824T100000Z
DTEND:20250824T110000Z
DTSTAMP:20260422T173614Z
UID:11047502025-08-24 10:00:00+00:00achurchnearyou
CATEGORIES:
DESCRIPTION:Common Worship service of morning prayer held within the churc
 h of St Peter's\, Cranbourne
GEO:-0.668224;51.440506
LOCATION:Cranbourne: St Peter's
URL:https://www.winkfieldandcranbourne.org.uk/stpeterscranbourne.htm
END:VEVENT
END:VCALENDAR
