BEGIN:VCALENDAR
VERSION:2.0
PRODID:-//achurchnearyou.com//eventfeed//EN
CALSCALE:GREGORIAN
METHOD:PUBLISH
X-WR-TIMEZONE:UTC
BEGIN:VEVENT
SUMMARY:Mothering Sunday Service
DTSTART;TZID=Europe/London:20260315T110000
DTEND;TZID=Europe/London:20260315T120000
DTSTAMP:20260420T033144Z
UID:8064802026-03-15 11:00:00+00:00achurchnearyou
CATEGORIES:
DESCRIPTION:Family friendly Mothering Sunday service with Holy Communion h
 eld at St Peter's Church\, Cranbourne
GEO:-0.668224;51.440506
LOCATION:Cranbourne: St Peter's
URL:https://www.winkfieldandcranbourne.org.uk/stpeterscranbourne.htm
END:VEVENT
END:VCALENDAR
