BEGIN:VCALENDAR
VERSION:2.0
PRODID:-//achurchnearyou.com//eventfeed//EN
CALSCALE:GREGORIAN
METHOD:PUBLISH
X-WR-TIMEZONE:UTC
BEGIN:VEVENT
SUMMARY:Benefice Holy Communion at St Andrew's Great Rollright
DTSTART:20260531T090000Z
DTEND:20260531T100000Z
DTSTAMP:20260420T173141Z
UID:13233562026-05-31 09:00:00+00:00achurchnearyou
CATEGORIES:
DESCRIPTION:Benefice Holy Communion (CW)
GEO:-1.525738;51.980737
LOCATION:Great Rollright: St Andrew
URL:https://www.achurchnearyou.com/church/5880/service-and-events/events/1
 323356/
END:VEVENT
END:VCALENDAR
