BEGIN:VCALENDAR
VERSION:2.0
PRODID:-//achurchnearyou.com//eventfeed//EN
CALSCALE:GREGORIAN
METHOD:PUBLISH
X-WR-TIMEZONE:UTC
BEGIN:VEVENT
SUMMARY:St Dunstan's Crib Service
DTSTART;TZID=Europe/London:20251224T150000
DTEND;TZID=Europe/London:20251224T180000
DTSTAMP:20260421T161406Z
UID:12555502025-12-24 15:00:00+00:00achurchnearyou
CATEGORIES:
DESCRIPTION:This Christmas Eve\, join us as we retell the Christmas story 
 together\, putting the characters in our crib scene and dressing up as our
  favourite characters. To ensure there is space for everyone\, we'll be ho
 lding the same service twice\, once at 3 p.m.\, and again at 5 p.m.
GEO:-0.216358;51.36075
LOCATION:Cheam\, St Dunstan
URL:https://www.achurchnearyou.com/church/589/service-and-events/events/12
 55550/
END:VEVENT
END:VCALENDAR
