BEGIN:VCALENDAR
VERSION:2.0
PRODID:-//achurchnearyou.com//eventfeed//EN
CALSCALE:GREGORIAN
METHOD:PUBLISH
X-WR-TIMEZONE:UTC
BEGIN:VEVENT
SUMMARY:Easter Day Eucharist
DTSTART:20250420T094500Z
DTEND:20250420T104500Z
DTSTAMP:20260422T072046Z
UID:11803172025-04-20 09:45:00+00:00achurchnearyou
CATEGORIES:
DESCRIPTION:Join us as we celebrate the triumph of Christ's resurrection i
 n our Easter Day Eucharist.
GEO:-0.206739;51.367978
LOCATION:St Alban's Cheam
URL:https://www.achurchnearyou.com/church/590/service-and-events/events/11
 80317/
END:VEVENT
END:VCALENDAR
