BEGIN:VCALENDAR
VERSION:2.0
PRODID:-//achurchnearyou.com//eventfeed//EN
CALSCALE:GREGORIAN
METHOD:PUBLISH
X-WR-TIMEZONE:UTC
BEGIN:VEVENT
SUMMARY:Advent Service
DTSTART:20251130T170000Z
DTEND:20251130T180000Z
DTSTAMP:20260421T164838Z
UID:12555172025-11-30 17:00:00+00:00achurchnearyou
CATEGORIES:
DESCRIPTION:This dark evening\, join us to celebrate the beginning of Adve
 nt\, as we look forward to welcoming Jesus\, the light of the world.
GEO:-0.206739;51.367978
LOCATION:St Alban's Cheam
URL:https://www.achurchnearyou.com/church/590/service-and-events/events/12
 55517/
END:VEVENT
END:VCALENDAR
