BEGIN:VCALENDAR
VERSION:2.0
PRODID:-//achurchnearyou.com//eventfeed//EN
CALSCALE:GREGORIAN
METHOD:PUBLISH
X-WR-TIMEZONE:UTC
BEGIN:VEVENT
SUMMARY:First Eucharist of Christmas
DTSTART:20251224T200000Z
DTEND:20251224T210000Z
DTSTAMP:20260421T164835Z
UID:12555662025-12-24 20:00:00+00:00achurchnearyou
CATEGORIES:
DESCRIPTION:Churches often celebrate the first liturgy of Christmas at Mid
 night Mass. Brought forward to 8 p.m.\, this service is perfect for those 
 who have an earlier start on Christmas Day\, or who'd rather not be out to
 o late at night. Join us as we welcome the birth of the Christ-child toget
 her.
GEO:-0.206739;51.367978
LOCATION:St Alban's Cheam
URL:https://www.achurchnearyou.com/church/590/service-and-events/events/12
 55566/
END:VEVENT
END:VCALENDAR
