BEGIN:VCALENDAR
VERSION:2.0
PRODID:-//achurchnearyou.com//eventfeed//EN
CALSCALE:GREGORIAN
METHOD:PUBLISH
X-WR-TIMEZONE:UTC
BEGIN:VEVENT
SUMMARY:Horsenden Carol Service
DTSTART:20251214T180000Z
DTEND:20251214T190000Z
DTSTAMP:20260423T235831Z
UID:12603262025-12-14 18:00:00+00:00achurchnearyou
CATEGORIES:
DESCRIPTION:An intimate carol service in the beautiful church of St Michae
 l and All Angels.
GEO:-0.853179;51.718822
LOCATION:Horsenden: St Michael & All Angels
URL:https://www.achurchnearyou.com/church/5901/service-and-events/events/1
 260326/
END:VEVENT
END:VCALENDAR
