BEGIN:VCALENDAR
VERSION:2.0
PRODID:-//achurchnearyou.com//eventfeed//EN
CALSCALE:GREGORIAN
METHOD:PUBLISH
X-WR-TIMEZONE:UTC
BEGIN:VEVENT
SUMMARY:Community Church Sunday Communion
DTSTART;TZID=Europe/London:20220102T093000
DTEND;TZID=Europe/London:20220102T110000
DTSTAMP:20260426T050333Z
UID:309652022-01-02 09:30:00+00:00achurchnearyou
CATEGORIES:
DESCRIPTION:Communion is usually held on the first Sunday morning service 
 each month. See our newsletter for details.
GEO:-0.6958;52.025902
LOCATION:Christ the King\, Kents Hill
URL:http://christthekingmk.co.uk/
END:VEVENT
BEGIN:VEVENT
SUMMARY:Community Church Sunday Communion
DTSTART;TZID=Europe/London:20220206T093000
DTEND;TZID=Europe/London:20220206T110000
DTSTAMP:20260426T050333Z
UID:309652022-02-06 09:30:00+00:00achurchnearyou
CATEGORIES:
DESCRIPTION:Communion is usually held on the first Sunday morning service 
 each month. See our newsletter for details.
GEO:-0.6958;52.025902
LOCATION:Christ the King\, Kents Hill
URL:http://christthekingmk.co.uk/
END:VEVENT
BEGIN:VEVENT
SUMMARY:Community Church Sunday Communion
DTSTART;TZID=Europe/London:20220306T093000
DTEND;TZID=Europe/London:20220306T110000
DTSTAMP:20260426T050333Z
UID:309652022-03-06 09:30:00+00:00achurchnearyou
CATEGORIES:
DESCRIPTION:Communion is usually held on the first Sunday morning service 
 each month. See our newsletter for details.
GEO:-0.6958;52.025902
LOCATION:Christ the King\, Kents Hill
URL:http://christthekingmk.co.uk/
END:VEVENT
BEGIN:VEVENT
SUMMARY:Community Church Sunday Communion
DTSTART;TZID=Europe/London:20220403T093000
DTEND;TZID=Europe/London:20220403T110000
DTSTAMP:20260426T050333Z
UID:309652022-04-03 09:30:00+01:00achurchnearyou
CATEGORIES:
DESCRIPTION:Communion is usually held on the first Sunday morning service 
 each month. See our newsletter for details.
GEO:-0.6958;52.025902
LOCATION:Christ the King\, Kents Hill
URL:http://christthekingmk.co.uk/
END:VEVENT
BEGIN:VEVENT
SUMMARY:Community Church Sunday Communion
DTSTART;TZID=Europe/London:20220501T093000
DTEND;TZID=Europe/London:20220501T110000
DTSTAMP:20260426T050333Z
UID:309652022-05-01 09:30:00+01:00achurchnearyou
CATEGORIES:
DESCRIPTION:Communion is usually held on the first Sunday morning service 
 each month. See our newsletter for details.
GEO:-0.6958;52.025902
LOCATION:Christ the King\, Kents Hill
URL:http://christthekingmk.co.uk/
END:VEVENT
BEGIN:VEVENT
SUMMARY:Community Church Sunday Communion
DTSTART;TZID=Europe/London:20220605T093000
DTEND;TZID=Europe/London:20220605T110000
DTSTAMP:20260426T050333Z
UID:309652022-06-05 09:30:00+01:00achurchnearyou
CATEGORIES:
DESCRIPTION:Communion is usually held on the first Sunday morning service 
 each month. See our newsletter for details.
GEO:-0.6958;52.025902
LOCATION:Christ the King\, Kents Hill
URL:http://christthekingmk.co.uk/
END:VEVENT
BEGIN:VEVENT
SUMMARY:Community Church Sunday Communion
DTSTART;TZID=Europe/London:20220703T093000
DTEND;TZID=Europe/London:20220703T110000
DTSTAMP:20260426T050333Z
UID:309652022-07-03 09:30:00+01:00achurchnearyou
CATEGORIES:
DESCRIPTION:Communion is usually held on the first Sunday morning service 
 each month. See our newsletter for details.
GEO:-0.6958;52.025902
LOCATION:Christ the King\, Kents Hill
URL:http://christthekingmk.co.uk/
END:VEVENT
BEGIN:VEVENT
SUMMARY:Community Church Sunday Communion
DTSTART;TZID=Europe/London:20220807T093000
DTEND;TZID=Europe/London:20220807T110000
DTSTAMP:20260426T050333Z
UID:309652022-08-07 09:30:00+01:00achurchnearyou
CATEGORIES:
DESCRIPTION:Communion is usually held on the first Sunday morning service 
 each month. See our newsletter for details.
GEO:-0.6958;52.025902
LOCATION:Christ the King\, Kents Hill
URL:http://christthekingmk.co.uk/
END:VEVENT
BEGIN:VEVENT
SUMMARY:Community Church Sunday Communion
DTSTART;TZID=Europe/London:20220904T093000
DTEND;TZID=Europe/London:20220904T110000
DTSTAMP:20260426T050333Z
UID:309652022-09-04 09:30:00+01:00achurchnearyou
CATEGORIES:
DESCRIPTION:Communion is usually held on the first Sunday morning service 
 each month. See our newsletter for details.
GEO:-0.6958;52.025902
LOCATION:Christ the King\, Kents Hill
URL:http://christthekingmk.co.uk/
END:VEVENT
BEGIN:VEVENT
SUMMARY:Community Church Sunday Communion
DTSTART;TZID=Europe/London:20221002T093000
DTEND;TZID=Europe/London:20221002T110000
DTSTAMP:20260426T050333Z
UID:309652022-10-02 09:30:00+01:00achurchnearyou
CATEGORIES:
DESCRIPTION:Communion is usually held on the first Sunday morning service 
 each month. See our newsletter for details.
GEO:-0.6958;52.025902
LOCATION:Christ the King\, Kents Hill
URL:http://christthekingmk.co.uk/
END:VEVENT
BEGIN:VEVENT
SUMMARY:Community Church Sunday Communion
DTSTART;TZID=Europe/London:20221106T093000
DTEND;TZID=Europe/London:20221106T110000
DTSTAMP:20260426T050333Z
UID:309652022-11-06 09:30:00+00:00achurchnearyou
CATEGORIES:
DESCRIPTION:Communion is usually held on the first Sunday morning service 
 each month. See our newsletter for details.
GEO:-0.6958;52.025902
LOCATION:Christ the King\, Kents Hill
URL:http://christthekingmk.co.uk/
END:VEVENT
BEGIN:VEVENT
SUMMARY:Community Church Sunday Communion
DTSTART;TZID=Europe/London:20221204T093000
DTEND;TZID=Europe/London:20221204T110000
DTSTAMP:20260426T050333Z
UID:309652022-12-04 09:30:00+00:00achurchnearyou
CATEGORIES:
DESCRIPTION:Communion is usually held on the first Sunday morning service 
 each month. See our newsletter for details.
GEO:-0.6958;52.025902
LOCATION:Christ the King\, Kents Hill
URL:http://christthekingmk.co.uk/
END:VEVENT
BEGIN:VEVENT
SUMMARY:Community Church Sunday Communion
DTSTART;TZID=Europe/London:20230101T093000
DTEND;TZID=Europe/London:20230101T110000
DTSTAMP:20260426T050333Z
UID:309652023-01-01 09:30:00+00:00achurchnearyou
CATEGORIES:
DESCRIPTION:Communion is usually held on the first Sunday morning service 
 each month. See our newsletter for details.
GEO:-0.6958;52.025902
LOCATION:Christ the King\, Kents Hill
URL:http://christthekingmk.co.uk/
END:VEVENT
BEGIN:VEVENT
SUMMARY:Community Church Sunday Communion
DTSTART;TZID=Europe/London:20230205T093000
DTEND;TZID=Europe/London:20230205T110000
DTSTAMP:20260426T050333Z
UID:309652023-02-05 09:30:00+00:00achurchnearyou
CATEGORIES:
DESCRIPTION:Communion is usually held on the first Sunday morning service 
 each month. See our newsletter for details.
GEO:-0.6958;52.025902
LOCATION:Christ the King\, Kents Hill
URL:http://christthekingmk.co.uk/
END:VEVENT
BEGIN:VEVENT
SUMMARY:Community Church Sunday Communion
DTSTART;TZID=Europe/London:20230305T093000
DTEND;TZID=Europe/London:20230305T110000
DTSTAMP:20260426T050333Z
UID:309652023-03-05 09:30:00+00:00achurchnearyou
CATEGORIES:
DESCRIPTION:Communion is usually held on the first Sunday morning service 
 each month. See our newsletter for details.
GEO:-0.6958;52.025902
LOCATION:Christ the King\, Kents Hill
URL:http://christthekingmk.co.uk/
END:VEVENT
BEGIN:VEVENT
SUMMARY:Community Church Sunday Communion
DTSTART;TZID=Europe/London:20230402T093000
DTEND;TZID=Europe/London:20230402T110000
DTSTAMP:20260426T050333Z
UID:309652023-04-02 09:30:00+01:00achurchnearyou
CATEGORIES:
DESCRIPTION:Communion is usually held on the first Sunday morning service 
 each month. See our newsletter for details.
GEO:-0.6958;52.025902
LOCATION:Christ the King\, Kents Hill
URL:http://christthekingmk.co.uk/
END:VEVENT
BEGIN:VEVENT
SUMMARY:Community Church Sunday Communion
DTSTART;TZID=Europe/London:20230507T093000
DTEND;TZID=Europe/London:20230507T110000
DTSTAMP:20260426T050333Z
UID:309652023-05-07 09:30:00+01:00achurchnearyou
CATEGORIES:
DESCRIPTION:Communion is usually held on the first Sunday morning service 
 each month. See our newsletter for details.
GEO:-0.6958;52.025902
LOCATION:Christ the King\, Kents Hill
URL:http://christthekingmk.co.uk/
END:VEVENT
BEGIN:VEVENT
SUMMARY:Community Church Sunday Communion
DTSTART;TZID=Europe/London:20230604T093000
DTEND;TZID=Europe/London:20230604T110000
DTSTAMP:20260426T050333Z
UID:309652023-06-04 09:30:00+01:00achurchnearyou
CATEGORIES:
DESCRIPTION:Communion is usually held on the first Sunday morning service 
 each month. See our newsletter for details.
GEO:-0.6958;52.025902
LOCATION:Christ the King\, Kents Hill
URL:http://christthekingmk.co.uk/
END:VEVENT
BEGIN:VEVENT
SUMMARY:Community Church Sunday Communion
DTSTART;TZID=Europe/London:20230702T093000
DTEND;TZID=Europe/London:20230702T110000
DTSTAMP:20260426T050333Z
UID:309652023-07-02 09:30:00+01:00achurchnearyou
CATEGORIES:
DESCRIPTION:Communion is usually held on the first Sunday morning service 
 each month. See our newsletter for details.
GEO:-0.6958;52.025902
LOCATION:Christ the King\, Kents Hill
URL:http://christthekingmk.co.uk/
END:VEVENT
BEGIN:VEVENT
SUMMARY:Community Church Sunday Communion
DTSTART;TZID=Europe/London:20230806T093000
DTEND;TZID=Europe/London:20230806T110000
DTSTAMP:20260426T050333Z
UID:309652023-08-06 09:30:00+01:00achurchnearyou
CATEGORIES:
DESCRIPTION:Communion is usually held on the first Sunday morning service 
 each month. See our newsletter for details.
GEO:-0.6958;52.025902
LOCATION:Christ the King\, Kents Hill
URL:http://christthekingmk.co.uk/
END:VEVENT
BEGIN:VEVENT
SUMMARY:Community Church Sunday Communion
DTSTART;TZID=Europe/London:20230903T093000
DTEND;TZID=Europe/London:20230903T110000
DTSTAMP:20260426T050333Z
UID:309652023-09-03 09:30:00+01:00achurchnearyou
CATEGORIES:
DESCRIPTION:Communion is usually held on the first Sunday morning service 
 each month. See our newsletter for details.
GEO:-0.6958;52.025902
LOCATION:Christ the King\, Kents Hill
URL:http://christthekingmk.co.uk/
END:VEVENT
BEGIN:VEVENT
SUMMARY:Community Church Sunday Communion
DTSTART;TZID=Europe/London:20231001T093000
DTEND;TZID=Europe/London:20231001T110000
DTSTAMP:20260426T050333Z
UID:309652023-10-01 09:30:00+01:00achurchnearyou
CATEGORIES:
DESCRIPTION:Communion is usually held on the first Sunday morning service 
 each month. See our newsletter for details.
GEO:-0.6958;52.025902
LOCATION:Christ the King\, Kents Hill
URL:http://christthekingmk.co.uk/
END:VEVENT
BEGIN:VEVENT
SUMMARY:Community Church Sunday Communion
DTSTART;TZID=Europe/London:20231105T093000
DTEND;TZID=Europe/London:20231105T110000
DTSTAMP:20260426T050333Z
UID:309652023-11-05 09:30:00+00:00achurchnearyou
CATEGORIES:
DESCRIPTION:Communion is usually held on the first Sunday morning service 
 each month. See our newsletter for details.
GEO:-0.6958;52.025902
LOCATION:Christ the King\, Kents Hill
URL:http://christthekingmk.co.uk/
END:VEVENT
BEGIN:VEVENT
SUMMARY:Community Church Sunday Communion
DTSTART;TZID=Europe/London:20231203T093000
DTEND;TZID=Europe/London:20231203T110000
DTSTAMP:20260426T050333Z
UID:309652023-12-03 09:30:00+00:00achurchnearyou
CATEGORIES:
DESCRIPTION:Communion is usually held on the first Sunday morning service 
 each month. See our newsletter for details.
GEO:-0.6958;52.025902
LOCATION:Christ the King\, Kents Hill
URL:http://christthekingmk.co.uk/
END:VEVENT
BEGIN:VEVENT
SUMMARY:Community Church Sunday Communion
DTSTART;TZID=Europe/London:20240107T093000
DTEND;TZID=Europe/London:20240107T110000
DTSTAMP:20260426T050333Z
UID:309652024-01-07 09:30:00+00:00achurchnearyou
CATEGORIES:
DESCRIPTION:Communion is usually held on the first Sunday morning service 
 each month. See our newsletter for details.
GEO:-0.6958;52.025902
LOCATION:Christ the King\, Kents Hill
URL:http://christthekingmk.co.uk/
END:VEVENT
BEGIN:VEVENT
SUMMARY:Community Church Sunday Communion
DTSTART;TZID=Europe/London:20240204T093000
DTEND;TZID=Europe/London:20240204T110000
DTSTAMP:20260426T050333Z
UID:309652024-02-04 09:30:00+00:00achurchnearyou
CATEGORIES:
DESCRIPTION:Communion is usually held on the first Sunday morning service 
 each month. See our newsletter for details.
GEO:-0.6958;52.025902
LOCATION:Christ the King\, Kents Hill
URL:http://christthekingmk.co.uk/
END:VEVENT
BEGIN:VEVENT
SUMMARY:Community Church Sunday Communion
DTSTART;TZID=Europe/London:20240303T093000
DTEND;TZID=Europe/London:20240303T110000
DTSTAMP:20260426T050333Z
UID:309652024-03-03 09:30:00+00:00achurchnearyou
CATEGORIES:
DESCRIPTION:Communion is usually held on the first Sunday morning service 
 each month. See our newsletter for details.
GEO:-0.6958;52.025902
LOCATION:Christ the King\, Kents Hill
URL:http://christthekingmk.co.uk/
END:VEVENT
BEGIN:VEVENT
SUMMARY:Community Church Sunday Communion
DTSTART;TZID=Europe/London:20240407T093000
DTEND;TZID=Europe/London:20240407T110000
DTSTAMP:20260426T050333Z
UID:309652024-04-07 09:30:00+01:00achurchnearyou
CATEGORIES:
DESCRIPTION:Communion is usually held on the first Sunday morning service 
 each month. See our newsletter for details.
GEO:-0.6958;52.025902
LOCATION:Christ the King\, Kents Hill
URL:http://christthekingmk.co.uk/
END:VEVENT
BEGIN:VEVENT
SUMMARY:Community Church Sunday Communion
DTSTART;TZID=Europe/London:20240505T093000
DTEND;TZID=Europe/London:20240505T110000
DTSTAMP:20260426T050333Z
UID:309652024-05-05 09:30:00+01:00achurchnearyou
CATEGORIES:
DESCRIPTION:Communion is usually held on the first Sunday morning service 
 each month. See our newsletter for details.
GEO:-0.6958;52.025902
LOCATION:Christ the King\, Kents Hill
URL:http://christthekingmk.co.uk/
END:VEVENT
BEGIN:VEVENT
SUMMARY:Community Church Sunday Communion
DTSTART;TZID=Europe/London:20240602T093000
DTEND;TZID=Europe/London:20240602T110000
DTSTAMP:20260426T050333Z
UID:309652024-06-02 09:30:00+01:00achurchnearyou
CATEGORIES:
DESCRIPTION:Communion is usually held on the first Sunday morning service 
 each month. See our newsletter for details.
GEO:-0.6958;52.025902
LOCATION:Christ the King\, Kents Hill
URL:http://christthekingmk.co.uk/
END:VEVENT
BEGIN:VEVENT
SUMMARY:Community Church Sunday Communion
DTSTART;TZID=Europe/London:20240707T093000
DTEND;TZID=Europe/London:20240707T110000
DTSTAMP:20260426T050333Z
UID:309652024-07-07 09:30:00+01:00achurchnearyou
CATEGORIES:
DESCRIPTION:Communion is usually held on the first Sunday morning service 
 each month. See our newsletter for details.
GEO:-0.6958;52.025902
LOCATION:Christ the King\, Kents Hill
URL:http://christthekingmk.co.uk/
END:VEVENT
BEGIN:VEVENT
SUMMARY:Community Church Sunday Communion
DTSTART;TZID=Europe/London:20240804T093000
DTEND;TZID=Europe/London:20240804T110000
DTSTAMP:20260426T050333Z
UID:309652024-08-04 09:30:00+01:00achurchnearyou
CATEGORIES:
DESCRIPTION:Communion is usually held on the first Sunday morning service 
 each month. See our newsletter for details.
GEO:-0.6958;52.025902
LOCATION:Christ the King\, Kents Hill
URL:http://christthekingmk.co.uk/
END:VEVENT
BEGIN:VEVENT
SUMMARY:Community Church Sunday Communion
DTSTART;TZID=Europe/London:20240901T093000
DTEND;TZID=Europe/London:20240901T110000
DTSTAMP:20260426T050333Z
UID:309652024-09-01 09:30:00+01:00achurchnearyou
CATEGORIES:
DESCRIPTION:Communion is usually held on the first Sunday morning service 
 each month. See our newsletter for details.
GEO:-0.6958;52.025902
LOCATION:Christ the King\, Kents Hill
URL:http://christthekingmk.co.uk/
END:VEVENT
BEGIN:VEVENT
SUMMARY:Community Church Sunday Communion
DTSTART;TZID=Europe/London:20241006T093000
DTEND;TZID=Europe/London:20241006T110000
DTSTAMP:20260426T050333Z
UID:309652024-10-06 09:30:00+01:00achurchnearyou
CATEGORIES:
DESCRIPTION:Communion is usually held on the first Sunday morning service 
 each month. See our newsletter for details.
GEO:-0.6958;52.025902
LOCATION:Christ the King\, Kents Hill
URL:http://christthekingmk.co.uk/
END:VEVENT
BEGIN:VEVENT
SUMMARY:Community Church Sunday Communion
DTSTART;TZID=Europe/London:20241103T093000
DTEND;TZID=Europe/London:20241103T110000
DTSTAMP:20260426T050333Z
UID:309652024-11-03 09:30:00+00:00achurchnearyou
CATEGORIES:
DESCRIPTION:Communion is usually held on the first Sunday morning service 
 each month. See our newsletter for details.
GEO:-0.6958;52.025902
LOCATION:Christ the King\, Kents Hill
URL:http://christthekingmk.co.uk/
END:VEVENT
BEGIN:VEVENT
SUMMARY:Community Church Sunday Communion
DTSTART;TZID=Europe/London:20241201T093000
DTEND;TZID=Europe/London:20241201T110000
DTSTAMP:20260426T050333Z
UID:309652024-12-01 09:30:00+00:00achurchnearyou
CATEGORIES:
DESCRIPTION:Communion is usually held on the first Sunday morning service 
 each month. See our newsletter for details.
GEO:-0.6958;52.025902
LOCATION:Christ the King\, Kents Hill
URL:http://christthekingmk.co.uk/
END:VEVENT
BEGIN:VEVENT
SUMMARY:Community Church Sunday Communion
DTSTART;TZID=Europe/London:20250105T093000
DTEND;TZID=Europe/London:20250105T110000
DTSTAMP:20260426T050333Z
UID:309652025-01-05 09:30:00+00:00achurchnearyou
CATEGORIES:
DESCRIPTION:Communion is usually held on the first Sunday morning service 
 each month. See our newsletter for details.
GEO:-0.6958;52.025902
LOCATION:Christ the King\, Kents Hill
URL:http://christthekingmk.co.uk/
END:VEVENT
BEGIN:VEVENT
SUMMARY:Community Church Sunday Communion
DTSTART;TZID=Europe/London:20250202T093000
DTEND;TZID=Europe/London:20250202T110000
DTSTAMP:20260426T050333Z
UID:309652025-02-02 09:30:00+00:00achurchnearyou
CATEGORIES:
DESCRIPTION:Communion is usually held on the first Sunday morning service 
 each month. See our newsletter for details.
GEO:-0.6958;52.025902
LOCATION:Christ the King\, Kents Hill
URL:http://christthekingmk.co.uk/
END:VEVENT
BEGIN:VEVENT
SUMMARY:Community Church Sunday Communion
DTSTART;TZID=Europe/London:20250302T093000
DTEND;TZID=Europe/London:20250302T110000
DTSTAMP:20260426T050333Z
UID:309652025-03-02 09:30:00+00:00achurchnearyou
CATEGORIES:
DESCRIPTION:Communion is usually held on the first Sunday morning service 
 each month. See our newsletter for details.
GEO:-0.6958;52.025902
LOCATION:Christ the King\, Kents Hill
URL:http://christthekingmk.co.uk/
END:VEVENT
BEGIN:VEVENT
SUMMARY:Community Church Sunday Communion
DTSTART;TZID=Europe/London:20250406T093000
DTEND;TZID=Europe/London:20250406T110000
DTSTAMP:20260426T050333Z
UID:309652025-04-06 09:30:00+01:00achurchnearyou
CATEGORIES:
DESCRIPTION:Communion is usually held on the first Sunday morning service 
 each month. See our newsletter for details.
GEO:-0.6958;52.025902
LOCATION:Christ the King\, Kents Hill
URL:http://christthekingmk.co.uk/
END:VEVENT
BEGIN:VEVENT
SUMMARY:Community Church Sunday Communion
DTSTART;TZID=Europe/London:20250504T093000
DTEND;TZID=Europe/London:20250504T110000
DTSTAMP:20260426T050333Z
UID:309652025-05-04 09:30:00+01:00achurchnearyou
CATEGORIES:
DESCRIPTION:Communion is usually held on the first Sunday morning service 
 each month. See our newsletter for details.
GEO:-0.6958;52.025902
LOCATION:Christ the King\, Kents Hill
URL:http://christthekingmk.co.uk/
END:VEVENT
BEGIN:VEVENT
SUMMARY:Community Church Sunday Communion
DTSTART;TZID=Europe/London:20250601T093000
DTEND;TZID=Europe/London:20250601T110000
DTSTAMP:20260426T050333Z
UID:309652025-06-01 09:30:00+01:00achurchnearyou
CATEGORIES:
DESCRIPTION:Communion is usually held on the first Sunday morning service 
 each month. See our newsletter for details.
GEO:-0.6958;52.025902
LOCATION:Christ the King\, Kents Hill
URL:http://christthekingmk.co.uk/
END:VEVENT
BEGIN:VEVENT
SUMMARY:Community Church Sunday Communion
DTSTART;TZID=Europe/London:20250706T093000
DTEND;TZID=Europe/London:20250706T110000
DTSTAMP:20260426T050333Z
UID:309652025-07-06 09:30:00+01:00achurchnearyou
CATEGORIES:
DESCRIPTION:Communion is usually held on the first Sunday morning service 
 each month. See our newsletter for details.
GEO:-0.6958;52.025902
LOCATION:Christ the King\, Kents Hill
URL:http://christthekingmk.co.uk/
END:VEVENT
BEGIN:VEVENT
SUMMARY:Community Church Sunday Communion
DTSTART;TZID=Europe/London:20250803T093000
DTEND;TZID=Europe/London:20250803T110000
DTSTAMP:20260426T050333Z
UID:309652025-08-03 09:30:00+01:00achurchnearyou
CATEGORIES:
DESCRIPTION:Communion is usually held on the first Sunday morning service 
 each month. See our newsletter for details.
GEO:-0.6958;52.025902
LOCATION:Christ the King\, Kents Hill
URL:http://christthekingmk.co.uk/
END:VEVENT
BEGIN:VEVENT
SUMMARY:Community Church Sunday Communion
DTSTART;TZID=Europe/London:20250907T093000
DTEND;TZID=Europe/London:20250907T110000
DTSTAMP:20260426T050333Z
UID:309652025-09-07 09:30:00+01:00achurchnearyou
CATEGORIES:
DESCRIPTION:Communion is usually held on the first Sunday morning service 
 each month. See our newsletter for details.
GEO:-0.6958;52.025902
LOCATION:Christ the King\, Kents Hill
URL:http://christthekingmk.co.uk/
END:VEVENT
BEGIN:VEVENT
SUMMARY:Community Church Sunday Communion
DTSTART;TZID=Europe/London:20251005T093000
DTEND;TZID=Europe/London:20251005T110000
DTSTAMP:20260426T050333Z
UID:309652025-10-05 09:30:00+01:00achurchnearyou
CATEGORIES:
DESCRIPTION:Communion is usually held on the first Sunday morning service 
 each month. See our newsletter for details.
GEO:-0.6958;52.025902
LOCATION:Christ the King\, Kents Hill
URL:http://christthekingmk.co.uk/
END:VEVENT
BEGIN:VEVENT
SUMMARY:Community Church Sunday Communion
DTSTART;TZID=Europe/London:20251102T093000
DTEND;TZID=Europe/London:20251102T110000
DTSTAMP:20260426T050333Z
UID:309652025-11-02 09:30:00+00:00achurchnearyou
CATEGORIES:
DESCRIPTION:Communion is usually held on the first Sunday morning service 
 each month. See our newsletter for details.
GEO:-0.6958;52.025902
LOCATION:Christ the King\, Kents Hill
URL:http://christthekingmk.co.uk/
END:VEVENT
BEGIN:VEVENT
SUMMARY:Community Church Sunday Communion
DTSTART;TZID=Europe/London:20251207T093000
DTEND;TZID=Europe/London:20251207T110000
DTSTAMP:20260426T050333Z
UID:309652025-12-07 09:30:00+00:00achurchnearyou
CATEGORIES:
DESCRIPTION:Communion is usually held on the first Sunday morning service 
 each month. See our newsletter for details.
GEO:-0.6958;52.025902
LOCATION:Christ the King\, Kents Hill
URL:http://christthekingmk.co.uk/
END:VEVENT
BEGIN:VEVENT
SUMMARY:Community Church Sunday Communion
DTSTART;TZID=Europe/London:20260104T093000
DTEND;TZID=Europe/London:20260104T110000
DTSTAMP:20260426T050333Z
UID:309652026-01-04 09:30:00+00:00achurchnearyou
CATEGORIES:
DESCRIPTION:Communion is usually held on the first Sunday morning service 
 each month. See our newsletter for details.
GEO:-0.6958;52.025902
LOCATION:Christ the King\, Kents Hill
URL:http://christthekingmk.co.uk/
END:VEVENT
BEGIN:VEVENT
SUMMARY:Community Church Sunday Communion
DTSTART;TZID=Europe/London:20260201T093000
DTEND;TZID=Europe/London:20260201T110000
DTSTAMP:20260426T050333Z
UID:309652026-02-01 09:30:00+00:00achurchnearyou
CATEGORIES:
DESCRIPTION:Communion is usually held on the first Sunday morning service 
 each month. See our newsletter for details.
GEO:-0.6958;52.025902
LOCATION:Christ the King\, Kents Hill
URL:http://christthekingmk.co.uk/
END:VEVENT
BEGIN:VEVENT
SUMMARY:Community Church Sunday Communion
DTSTART;TZID=Europe/London:20260301T093000
DTEND;TZID=Europe/London:20260301T110000
DTSTAMP:20260426T050333Z
UID:309652026-03-01 09:30:00+00:00achurchnearyou
CATEGORIES:
DESCRIPTION:Communion is usually held on the first Sunday morning service 
 each month. See our newsletter for details.
GEO:-0.6958;52.025902
LOCATION:Christ the King\, Kents Hill
URL:http://christthekingmk.co.uk/
END:VEVENT
BEGIN:VEVENT
SUMMARY:Community Church Sunday Communion
DTSTART;TZID=Europe/London:20260405T093000
DTEND;TZID=Europe/London:20260405T110000
DTSTAMP:20260426T050333Z
UID:309652026-04-05 09:30:00+01:00achurchnearyou
CATEGORIES:
DESCRIPTION:Communion is usually held on the first Sunday morning service 
 each month. See our newsletter for details.
GEO:-0.6958;52.025902
LOCATION:Christ the King\, Kents Hill
URL:http://christthekingmk.co.uk/
END:VEVENT
BEGIN:VEVENT
SUMMARY:Community Church Sunday Communion
DTSTART;TZID=Europe/London:20260503T093000
DTEND;TZID=Europe/London:20260503T110000
DTSTAMP:20260426T050333Z
UID:309652026-05-03 09:30:00+01:00achurchnearyou
CATEGORIES:
DESCRIPTION:Communion is usually held on the first Sunday morning service 
 each month. See our newsletter for details.
GEO:-0.6958;52.025902
LOCATION:Christ the King\, Kents Hill
URL:http://christthekingmk.co.uk/
END:VEVENT
BEGIN:VEVENT
SUMMARY:Community Church Sunday Communion
DTSTART;TZID=Europe/London:20260607T093000
DTEND;TZID=Europe/London:20260607T110000
DTSTAMP:20260426T050333Z
UID:309652026-06-07 09:30:00+01:00achurchnearyou
CATEGORIES:
DESCRIPTION:Communion is usually held on the first Sunday morning service 
 each month. See our newsletter for details.
GEO:-0.6958;52.025902
LOCATION:Christ the King\, Kents Hill
URL:http://christthekingmk.co.uk/
END:VEVENT
BEGIN:VEVENT
SUMMARY:Community Church Sunday Communion
DTSTART;TZID=Europe/London:20260705T093000
DTEND;TZID=Europe/London:20260705T110000
DTSTAMP:20260426T050333Z
UID:309652026-07-05 09:30:00+01:00achurchnearyou
CATEGORIES:
DESCRIPTION:Communion is usually held on the first Sunday morning service 
 each month. See our newsletter for details.
GEO:-0.6958;52.025902
LOCATION:Christ the King\, Kents Hill
URL:http://christthekingmk.co.uk/
END:VEVENT
BEGIN:VEVENT
SUMMARY:Community Church Sunday Communion
DTSTART;TZID=Europe/London:20260802T093000
DTEND;TZID=Europe/London:20260802T110000
DTSTAMP:20260426T050333Z
UID:309652026-08-02 09:30:00+01:00achurchnearyou
CATEGORIES:
DESCRIPTION:Communion is usually held on the first Sunday morning service 
 each month. See our newsletter for details.
GEO:-0.6958;52.025902
LOCATION:Christ the King\, Kents Hill
URL:http://christthekingmk.co.uk/
END:VEVENT
BEGIN:VEVENT
SUMMARY:Community Church Sunday Communion
DTSTART;TZID=Europe/London:20260906T093000
DTEND;TZID=Europe/London:20260906T110000
DTSTAMP:20260426T050333Z
UID:309652026-09-06 09:30:00+01:00achurchnearyou
CATEGORIES:
DESCRIPTION:Communion is usually held on the first Sunday morning service 
 each month. See our newsletter for details.
GEO:-0.6958;52.025902
LOCATION:Christ the King\, Kents Hill
URL:http://christthekingmk.co.uk/
END:VEVENT
BEGIN:VEVENT
SUMMARY:Community Church Sunday Communion
DTSTART;TZID=Europe/London:20261004T093000
DTEND;TZID=Europe/London:20261004T110000
DTSTAMP:20260426T050333Z
UID:309652026-10-04 09:30:00+01:00achurchnearyou
CATEGORIES:
DESCRIPTION:Communion is usually held on the first Sunday morning service 
 each month. See our newsletter for details.
GEO:-0.6958;52.025902
LOCATION:Christ the King\, Kents Hill
URL:http://christthekingmk.co.uk/
END:VEVENT
BEGIN:VEVENT
SUMMARY:Community Church Sunday Communion
DTSTART;TZID=Europe/London:20261101T093000
DTEND;TZID=Europe/London:20261101T110000
DTSTAMP:20260426T050333Z
UID:309652026-11-01 09:30:00+00:00achurchnearyou
CATEGORIES:
DESCRIPTION:Communion is usually held on the first Sunday morning service 
 each month. See our newsletter for details.
GEO:-0.6958;52.025902
LOCATION:Christ the King\, Kents Hill
URL:http://christthekingmk.co.uk/
END:VEVENT
BEGIN:VEVENT
SUMMARY:Community Church Sunday Communion
DTSTART;TZID=Europe/London:20261206T093000
DTEND;TZID=Europe/London:20261206T110000
DTSTAMP:20260426T050333Z
UID:309652026-12-06 09:30:00+00:00achurchnearyou
CATEGORIES:
DESCRIPTION:Communion is usually held on the first Sunday morning service 
 each month. See our newsletter for details.
GEO:-0.6958;52.025902
LOCATION:Christ the King\, Kents Hill
URL:http://christthekingmk.co.uk/
END:VEVENT
BEGIN:VEVENT
SUMMARY:Community Church Sunday Communion
DTSTART;TZID=Europe/London:20270103T093000
DTEND;TZID=Europe/London:20270103T110000
DTSTAMP:20260426T050333Z
UID:309652027-01-03 09:30:00+00:00achurchnearyou
CATEGORIES:
DESCRIPTION:Communion is usually held on the first Sunday morning service 
 each month. See our newsletter for details.
GEO:-0.6958;52.025902
LOCATION:Christ the King\, Kents Hill
URL:http://christthekingmk.co.uk/
END:VEVENT
BEGIN:VEVENT
SUMMARY:Community Church Sunday Communion
DTSTART;TZID=Europe/London:20270207T093000
DTEND;TZID=Europe/London:20270207T110000
DTSTAMP:20260426T050333Z
UID:309652027-02-07 09:30:00+00:00achurchnearyou
CATEGORIES:
DESCRIPTION:Communion is usually held on the first Sunday morning service 
 each month. See our newsletter for details.
GEO:-0.6958;52.025902
LOCATION:Christ the King\, Kents Hill
URL:http://christthekingmk.co.uk/
END:VEVENT
BEGIN:VEVENT
SUMMARY:Community Church Sunday Communion
DTSTART;TZID=Europe/London:20270307T093000
DTEND;TZID=Europe/London:20270307T110000
DTSTAMP:20260426T050333Z
UID:309652027-03-07 09:30:00+00:00achurchnearyou
CATEGORIES:
DESCRIPTION:Communion is usually held on the first Sunday morning service 
 each month. See our newsletter for details.
GEO:-0.6958;52.025902
LOCATION:Christ the King\, Kents Hill
URL:http://christthekingmk.co.uk/
END:VEVENT
BEGIN:VEVENT
SUMMARY:Community Church Sunday Communion
DTSTART;TZID=Europe/London:20270404T093000
DTEND;TZID=Europe/London:20270404T110000
DTSTAMP:20260426T050333Z
UID:309652027-04-04 09:30:00+01:00achurchnearyou
CATEGORIES:
DESCRIPTION:Communion is usually held on the first Sunday morning service 
 each month. See our newsletter for details.
GEO:-0.6958;52.025902
LOCATION:Christ the King\, Kents Hill
URL:http://christthekingmk.co.uk/
END:VEVENT
END:VCALENDAR
