BEGIN:VCALENDAR
VERSION:2.0
PRODID:-//achurchnearyou.com//eventfeed//EN
CALSCALE:GREGORIAN
METHOD:PUBLISH
X-WR-TIMEZONE:UTC
BEGIN:VEVENT
SUMMARY:Death Despair & Damp\, An evening with Thomas Hardy. Sorry now Sol
 d Out
DTSTART:20250205T190000Z
DTEND:20250205T201500Z
DTSTAMP:20260419T150448Z
UID:11487312025-02-05 19:00:00+00:00achurchnearyou
CATEGORIES:
DESCRIPTION:Thomas Hardy is the greatest witness to Victorian rural life i
 n English Literature. His multiple novels reinforce themes of Class\, Mone
 y\, and the frustrations and despair of romantic life\, particularly in th
 e role of women in a male driven society.  \nWe will explore some of those
  themes and the talk will be punctuated by readings from rare first editio
 ns of his novels.  Tickets are £10 with proceeds going to the fabric of S
 t John the Baptist Kingston Lisle and the Church of the Holyrood Sparsholt
  . For tickets message Arthur (Churchwarden) on 0779 125 0218 or contact R
 uth (Churchwarden) at Sparsholt.
GEO:-1.530581;51.586496
LOCATION:St John the Baptist Kingston Lisle
URL:https://www.achurchnearyou.com/church/5912/service-and-events/events/1
 148731/
END:VEVENT
END:VCALENDAR
