BEGIN:VCALENDAR
VERSION:2.0
PRODID:-//achurchnearyou.com//eventfeed//EN
CALSCALE:GREGORIAN
METHOD:PUBLISH
X-WR-TIMEZONE:UTC
BEGIN:VEVENT
SUMMARY:The Eucharist
DTSTART;TZID=Europe/London:20260426T113000
DTEND;TZID=Europe/London:20260426T123000
DTSTAMP:20260423T040023Z
UID:1308322026-04-26 11:30:00+01:00achurchnearyou
CATEGORIES:
DESCRIPTION:
GEO:-1.284979;51.745799
LOCATION:North Hinksey: St Lawrence
URL:https://www.achurchnearyou.com/church/5957/service-and-events/events/1
 30832/
END:VEVENT
BEGIN:VEVENT
SUMMARY:The Eucharist
DTSTART;TZID=Europe/London:20260503T113000
DTEND;TZID=Europe/London:20260503T123000
DTSTAMP:20260423T040023Z
UID:1308322026-05-03 11:30:00+01:00achurchnearyou
CATEGORIES:
DESCRIPTION:
GEO:-1.284979;51.745799
LOCATION:North Hinksey: St Lawrence
URL:https://www.achurchnearyou.com/church/5957/service-and-events/events/1
 30832/
END:VEVENT
BEGIN:VEVENT
SUMMARY:The Eucharist
DTSTART;TZID=Europe/London:20260517T113000
DTEND;TZID=Europe/London:20260517T123000
DTSTAMP:20260423T040023Z
UID:1308322026-05-17 11:30:00+01:00achurchnearyou
CATEGORIES:
DESCRIPTION:
GEO:-1.284979;51.745799
LOCATION:North Hinksey: St Lawrence
URL:https://www.achurchnearyou.com/church/5957/service-and-events/events/1
 30832/
END:VEVENT
BEGIN:VEVENT
SUMMARY:The Eucharist
DTSTART;TZID=Europe/London:20260524T113000
DTEND;TZID=Europe/London:20260524T123000
DTSTAMP:20260423T040023Z
UID:1308322026-05-24 11:30:00+01:00achurchnearyou
CATEGORIES:
DESCRIPTION:
GEO:-1.284979;51.745799
LOCATION:North Hinksey: St Lawrence
URL:https://www.achurchnearyou.com/church/5957/service-and-events/events/1
 30832/
END:VEVENT
BEGIN:VEVENT
SUMMARY:The Eucharist
DTSTART;TZID=Europe/London:20260531T113000
DTEND;TZID=Europe/London:20260531T123000
DTSTAMP:20260423T040023Z
UID:1308322026-05-31 11:30:00+01:00achurchnearyou
CATEGORIES:
DESCRIPTION:
GEO:-1.284979;51.745799
LOCATION:North Hinksey: St Lawrence
URL:https://www.achurchnearyou.com/church/5957/service-and-events/events/1
 30832/
END:VEVENT
BEGIN:VEVENT
SUMMARY:The Eucharist
DTSTART;TZID=Europe/London:20260607T113000
DTEND;TZID=Europe/London:20260607T123000
DTSTAMP:20260423T040023Z
UID:1308322026-06-07 11:30:00+01:00achurchnearyou
CATEGORIES:
DESCRIPTION:
GEO:-1.284979;51.745799
LOCATION:North Hinksey: St Lawrence
URL:https://www.achurchnearyou.com/church/5957/service-and-events/events/1
 30832/
END:VEVENT
BEGIN:VEVENT
SUMMARY:The Eucharist
DTSTART;TZID=Europe/London:20260621T113000
DTEND;TZID=Europe/London:20260621T123000
DTSTAMP:20260423T040023Z
UID:1308322026-06-21 11:30:00+01:00achurchnearyou
CATEGORIES:
DESCRIPTION:
GEO:-1.284979;51.745799
LOCATION:North Hinksey: St Lawrence
URL:https://www.achurchnearyou.com/church/5957/service-and-events/events/1
 30832/
END:VEVENT
BEGIN:VEVENT
SUMMARY:The Eucharist
DTSTART;TZID=Europe/London:20260628T113000
DTEND;TZID=Europe/London:20260628T123000
DTSTAMP:20260423T040023Z
UID:1308322026-06-28 11:30:00+01:00achurchnearyou
CATEGORIES:
DESCRIPTION:
GEO:-1.284979;51.745799
LOCATION:North Hinksey: St Lawrence
URL:https://www.achurchnearyou.com/church/5957/service-and-events/events/1
 30832/
END:VEVENT
BEGIN:VEVENT
SUMMARY:The Eucharist
DTSTART;TZID=Europe/London:20260705T113000
DTEND;TZID=Europe/London:20260705T123000
DTSTAMP:20260423T040023Z
UID:1308322026-07-05 11:30:00+01:00achurchnearyou
CATEGORIES:
DESCRIPTION:
GEO:-1.284979;51.745799
LOCATION:North Hinksey: St Lawrence
URL:https://www.achurchnearyou.com/church/5957/service-and-events/events/1
 30832/
END:VEVENT
BEGIN:VEVENT
SUMMARY:The Eucharist
DTSTART;TZID=Europe/London:20260719T113000
DTEND;TZID=Europe/London:20260719T123000
DTSTAMP:20260423T040023Z
UID:1308322026-07-19 11:30:00+01:00achurchnearyou
CATEGORIES:
DESCRIPTION:
GEO:-1.284979;51.745799
LOCATION:North Hinksey: St Lawrence
URL:https://www.achurchnearyou.com/church/5957/service-and-events/events/1
 30832/
END:VEVENT
BEGIN:VEVENT
SUMMARY:The Eucharist
DTSTART;TZID=Europe/London:20260726T113000
DTEND;TZID=Europe/London:20260726T123000
DTSTAMP:20260423T040023Z
UID:1308322026-07-26 11:30:00+01:00achurchnearyou
CATEGORIES:
DESCRIPTION:
GEO:-1.284979;51.745799
LOCATION:North Hinksey: St Lawrence
URL:https://www.achurchnearyou.com/church/5957/service-and-events/events/1
 30832/
END:VEVENT
BEGIN:VEVENT
SUMMARY:The Eucharist
DTSTART;TZID=Europe/London:20260802T113000
DTEND;TZID=Europe/London:20260802T123000
DTSTAMP:20260423T040023Z
UID:1308322026-08-02 11:30:00+01:00achurchnearyou
CATEGORIES:
DESCRIPTION:
GEO:-1.284979;51.745799
LOCATION:North Hinksey: St Lawrence
URL:https://www.achurchnearyou.com/church/5957/service-and-events/events/1
 30832/
END:VEVENT
BEGIN:VEVENT
SUMMARY:The Eucharist
DTSTART;TZID=Europe/London:20260816T113000
DTEND;TZID=Europe/London:20260816T123000
DTSTAMP:20260423T040023Z
UID:1308322026-08-16 11:30:00+01:00achurchnearyou
CATEGORIES:
DESCRIPTION:
GEO:-1.284979;51.745799
LOCATION:North Hinksey: St Lawrence
URL:https://www.achurchnearyou.com/church/5957/service-and-events/events/1
 30832/
END:VEVENT
BEGIN:VEVENT
SUMMARY:The Eucharist
DTSTART;TZID=Europe/London:20260823T113000
DTEND;TZID=Europe/London:20260823T123000
DTSTAMP:20260423T040023Z
UID:1308322026-08-23 11:30:00+01:00achurchnearyou
CATEGORIES:
DESCRIPTION:
GEO:-1.284979;51.745799
LOCATION:North Hinksey: St Lawrence
URL:https://www.achurchnearyou.com/church/5957/service-and-events/events/1
 30832/
END:VEVENT
BEGIN:VEVENT
SUMMARY:The Eucharist
DTSTART;TZID=Europe/London:20260830T113000
DTEND;TZID=Europe/London:20260830T123000
DTSTAMP:20260423T040023Z
UID:1308322026-08-30 11:30:00+01:00achurchnearyou
CATEGORIES:
DESCRIPTION:
GEO:-1.284979;51.745799
LOCATION:North Hinksey: St Lawrence
URL:https://www.achurchnearyou.com/church/5957/service-and-events/events/1
 30832/
END:VEVENT
BEGIN:VEVENT
SUMMARY:The Eucharist
DTSTART;TZID=Europe/London:20260906T113000
DTEND;TZID=Europe/London:20260906T123000
DTSTAMP:20260423T040023Z
UID:1308322026-09-06 11:30:00+01:00achurchnearyou
CATEGORIES:
DESCRIPTION:
GEO:-1.284979;51.745799
LOCATION:North Hinksey: St Lawrence
URL:https://www.achurchnearyou.com/church/5957/service-and-events/events/1
 30832/
END:VEVENT
BEGIN:VEVENT
SUMMARY:The Eucharist
DTSTART;TZID=Europe/London:20260920T113000
DTEND;TZID=Europe/London:20260920T123000
DTSTAMP:20260423T040023Z
UID:1308322026-09-20 11:30:00+01:00achurchnearyou
CATEGORIES:
DESCRIPTION:
GEO:-1.284979;51.745799
LOCATION:North Hinksey: St Lawrence
URL:https://www.achurchnearyou.com/church/5957/service-and-events/events/1
 30832/
END:VEVENT
BEGIN:VEVENT
SUMMARY:The Eucharist
DTSTART;TZID=Europe/London:20260927T113000
DTEND;TZID=Europe/London:20260927T123000
DTSTAMP:20260423T040023Z
UID:1308322026-09-27 11:30:00+01:00achurchnearyou
CATEGORIES:
DESCRIPTION:
GEO:-1.284979;51.745799
LOCATION:North Hinksey: St Lawrence
URL:https://www.achurchnearyou.com/church/5957/service-and-events/events/1
 30832/
END:VEVENT
BEGIN:VEVENT
SUMMARY:The Eucharist
DTSTART;TZID=Europe/London:20261004T113000
DTEND;TZID=Europe/London:20261004T123000
DTSTAMP:20260423T040023Z
UID:1308322026-10-04 11:30:00+01:00achurchnearyou
CATEGORIES:
DESCRIPTION:
GEO:-1.284979;51.745799
LOCATION:North Hinksey: St Lawrence
URL:https://www.achurchnearyou.com/church/5957/service-and-events/events/1
 30832/
END:VEVENT
BEGIN:VEVENT
SUMMARY:The Eucharist
DTSTART;TZID=Europe/London:20261018T113000
DTEND;TZID=Europe/London:20261018T123000
DTSTAMP:20260423T040023Z
UID:1308322026-10-18 11:30:00+01:00achurchnearyou
CATEGORIES:
DESCRIPTION:
GEO:-1.284979;51.745799
LOCATION:North Hinksey: St Lawrence
URL:https://www.achurchnearyou.com/church/5957/service-and-events/events/1
 30832/
END:VEVENT
BEGIN:VEVENT
SUMMARY:The Eucharist
DTSTART;TZID=Europe/London:20261025T113000
DTEND;TZID=Europe/London:20261025T123000
DTSTAMP:20260423T040023Z
UID:1308322026-10-25 11:30:00+00:00achurchnearyou
CATEGORIES:
DESCRIPTION:
GEO:-1.284979;51.745799
LOCATION:North Hinksey: St Lawrence
URL:https://www.achurchnearyou.com/church/5957/service-and-events/events/1
 30832/
END:VEVENT
BEGIN:VEVENT
SUMMARY:The Eucharist
DTSTART;TZID=Europe/London:20261101T113000
DTEND;TZID=Europe/London:20261101T123000
DTSTAMP:20260423T040023Z
UID:1308322026-11-01 11:30:00+00:00achurchnearyou
CATEGORIES:
DESCRIPTION:
GEO:-1.284979;51.745799
LOCATION:North Hinksey: St Lawrence
URL:https://www.achurchnearyou.com/church/5957/service-and-events/events/1
 30832/
END:VEVENT
BEGIN:VEVENT
SUMMARY:The Eucharist
DTSTART;TZID=Europe/London:20261115T113000
DTEND;TZID=Europe/London:20261115T123000
DTSTAMP:20260423T040023Z
UID:1308322026-11-15 11:30:00+00:00achurchnearyou
CATEGORIES:
DESCRIPTION:
GEO:-1.284979;51.745799
LOCATION:North Hinksey: St Lawrence
URL:https://www.achurchnearyou.com/church/5957/service-and-events/events/1
 30832/
END:VEVENT
BEGIN:VEVENT
SUMMARY:The Eucharist
DTSTART;TZID=Europe/London:20261122T113000
DTEND;TZID=Europe/London:20261122T123000
DTSTAMP:20260423T040023Z
UID:1308322026-11-22 11:30:00+00:00achurchnearyou
CATEGORIES:
DESCRIPTION:
GEO:-1.284979;51.745799
LOCATION:North Hinksey: St Lawrence
URL:https://www.achurchnearyou.com/church/5957/service-and-events/events/1
 30832/
END:VEVENT
BEGIN:VEVENT
SUMMARY:The Eucharist
DTSTART;TZID=Europe/London:20261129T113000
DTEND;TZID=Europe/London:20261129T123000
DTSTAMP:20260423T040023Z
UID:1308322026-11-29 11:30:00+00:00achurchnearyou
CATEGORIES:
DESCRIPTION:
GEO:-1.284979;51.745799
LOCATION:North Hinksey: St Lawrence
URL:https://www.achurchnearyou.com/church/5957/service-and-events/events/1
 30832/
END:VEVENT
BEGIN:VEVENT
SUMMARY:The Eucharist
DTSTART;TZID=Europe/London:20261206T113000
DTEND;TZID=Europe/London:20261206T123000
DTSTAMP:20260423T040023Z
UID:1308322026-12-06 11:30:00+00:00achurchnearyou
CATEGORIES:
DESCRIPTION:
GEO:-1.284979;51.745799
LOCATION:North Hinksey: St Lawrence
URL:https://www.achurchnearyou.com/church/5957/service-and-events/events/1
 30832/
END:VEVENT
BEGIN:VEVENT
SUMMARY:The Eucharist
DTSTART;TZID=Europe/London:20261220T113000
DTEND;TZID=Europe/London:20261220T123000
DTSTAMP:20260423T040023Z
UID:1308322026-12-20 11:30:00+00:00achurchnearyou
CATEGORIES:
DESCRIPTION:
GEO:-1.284979;51.745799
LOCATION:North Hinksey: St Lawrence
URL:https://www.achurchnearyou.com/church/5957/service-and-events/events/1
 30832/
END:VEVENT
BEGIN:VEVENT
SUMMARY:The Eucharist
DTSTART;TZID=Europe/London:20261227T113000
DTEND;TZID=Europe/London:20261227T123000
DTSTAMP:20260423T040023Z
UID:1308322026-12-27 11:30:00+00:00achurchnearyou
CATEGORIES:
DESCRIPTION:
GEO:-1.284979;51.745799
LOCATION:North Hinksey: St Lawrence
URL:https://www.achurchnearyou.com/church/5957/service-and-events/events/1
 30832/
END:VEVENT
BEGIN:VEVENT
SUMMARY:The Eucharist
DTSTART;TZID=Europe/London:20270103T113000
DTEND;TZID=Europe/London:20270103T123000
DTSTAMP:20260423T040023Z
UID:1308322027-01-03 11:30:00+00:00achurchnearyou
CATEGORIES:
DESCRIPTION:
GEO:-1.284979;51.745799
LOCATION:North Hinksey: St Lawrence
URL:https://www.achurchnearyou.com/church/5957/service-and-events/events/1
 30832/
END:VEVENT
BEGIN:VEVENT
SUMMARY:The Eucharist
DTSTART;TZID=Europe/London:20270117T113000
DTEND;TZID=Europe/London:20270117T123000
DTSTAMP:20260423T040023Z
UID:1308322027-01-17 11:30:00+00:00achurchnearyou
CATEGORIES:
DESCRIPTION:
GEO:-1.284979;51.745799
LOCATION:North Hinksey: St Lawrence
URL:https://www.achurchnearyou.com/church/5957/service-and-events/events/1
 30832/
END:VEVENT
BEGIN:VEVENT
SUMMARY:The Eucharist
DTSTART;TZID=Europe/London:20270124T113000
DTEND;TZID=Europe/London:20270124T123000
DTSTAMP:20260423T040023Z
UID:1308322027-01-24 11:30:00+00:00achurchnearyou
CATEGORIES:
DESCRIPTION:
GEO:-1.284979;51.745799
LOCATION:North Hinksey: St Lawrence
URL:https://www.achurchnearyou.com/church/5957/service-and-events/events/1
 30832/
END:VEVENT
BEGIN:VEVENT
SUMMARY:The Eucharist
DTSTART;TZID=Europe/London:20270131T113000
DTEND;TZID=Europe/London:20270131T123000
DTSTAMP:20260423T040023Z
UID:1308322027-01-31 11:30:00+00:00achurchnearyou
CATEGORIES:
DESCRIPTION:
GEO:-1.284979;51.745799
LOCATION:North Hinksey: St Lawrence
URL:https://www.achurchnearyou.com/church/5957/service-and-events/events/1
 30832/
END:VEVENT
BEGIN:VEVENT
SUMMARY:The Eucharist
DTSTART;TZID=Europe/London:20270207T113000
DTEND;TZID=Europe/London:20270207T123000
DTSTAMP:20260423T040023Z
UID:1308322027-02-07 11:30:00+00:00achurchnearyou
CATEGORIES:
DESCRIPTION:
GEO:-1.284979;51.745799
LOCATION:North Hinksey: St Lawrence
URL:https://www.achurchnearyou.com/church/5957/service-and-events/events/1
 30832/
END:VEVENT
BEGIN:VEVENT
SUMMARY:The Eucharist
DTSTART;TZID=Europe/London:20270221T113000
DTEND;TZID=Europe/London:20270221T123000
DTSTAMP:20260423T040023Z
UID:1308322027-02-21 11:30:00+00:00achurchnearyou
CATEGORIES:
DESCRIPTION:
GEO:-1.284979;51.745799
LOCATION:North Hinksey: St Lawrence
URL:https://www.achurchnearyou.com/church/5957/service-and-events/events/1
 30832/
END:VEVENT
BEGIN:VEVENT
SUMMARY:The Eucharist
DTSTART;TZID=Europe/London:20270228T113000
DTEND;TZID=Europe/London:20270228T123000
DTSTAMP:20260423T040023Z
UID:1308322027-02-28 11:30:00+00:00achurchnearyou
CATEGORIES:
DESCRIPTION:
GEO:-1.284979;51.745799
LOCATION:North Hinksey: St Lawrence
URL:https://www.achurchnearyou.com/church/5957/service-and-events/events/1
 30832/
END:VEVENT
BEGIN:VEVENT
SUMMARY:The Eucharist
DTSTART;TZID=Europe/London:20270307T113000
DTEND;TZID=Europe/London:20270307T123000
DTSTAMP:20260423T040023Z
UID:1308322027-03-07 11:30:00+00:00achurchnearyou
CATEGORIES:
DESCRIPTION:
GEO:-1.284979;51.745799
LOCATION:North Hinksey: St Lawrence
URL:https://www.achurchnearyou.com/church/5957/service-and-events/events/1
 30832/
END:VEVENT
BEGIN:VEVENT
SUMMARY:The Eucharist
DTSTART;TZID=Europe/London:20270321T113000
DTEND;TZID=Europe/London:20270321T123000
DTSTAMP:20260423T040023Z
UID:1308322027-03-21 11:30:00+00:00achurchnearyou
CATEGORIES:
DESCRIPTION:
GEO:-1.284979;51.745799
LOCATION:North Hinksey: St Lawrence
URL:https://www.achurchnearyou.com/church/5957/service-and-events/events/1
 30832/
END:VEVENT
BEGIN:VEVENT
SUMMARY:The Eucharist
DTSTART;TZID=Europe/London:20270328T113000
DTEND;TZID=Europe/London:20270328T123000
DTSTAMP:20260423T040023Z
UID:1308322027-03-28 11:30:00+01:00achurchnearyou
CATEGORIES:
DESCRIPTION:
GEO:-1.284979;51.745799
LOCATION:North Hinksey: St Lawrence
URL:https://www.achurchnearyou.com/church/5957/service-and-events/events/1
 30832/
END:VEVENT
BEGIN:VEVENT
SUMMARY:The Eucharist
DTSTART;TZID=Europe/London:20270404T113000
DTEND;TZID=Europe/London:20270404T123000
DTSTAMP:20260423T040023Z
UID:1308322027-04-04 11:30:00+01:00achurchnearyou
CATEGORIES:
DESCRIPTION:
GEO:-1.284979;51.745799
LOCATION:North Hinksey: St Lawrence
URL:https://www.achurchnearyou.com/church/5957/service-and-events/events/1
 30832/
END:VEVENT
BEGIN:VEVENT
SUMMARY:The Eucharist
DTSTART;TZID=Europe/London:20270418T113000
DTEND;TZID=Europe/London:20270418T123000
DTSTAMP:20260423T040023Z
UID:1308322027-04-18 11:30:00+01:00achurchnearyou
CATEGORIES:
DESCRIPTION:
GEO:-1.284979;51.745799
LOCATION:North Hinksey: St Lawrence
URL:https://www.achurchnearyou.com/church/5957/service-and-events/events/1
 30832/
END:VEVENT
END:VCALENDAR
