BEGIN:VCALENDAR
VERSION:2.0
PRODID:-//achurchnearyou.com//eventfeed//EN
CALSCALE:GREGORIAN
METHOD:PUBLISH
X-WR-TIMEZONE:UTC
BEGIN:VEVENT
SUMMARY:Traditional Nine Lessons and Carols
DTSTART:20251221T160000Z
DTEND:20251221T173000Z
DTSTAMP:20260424T115746Z
UID:12650942025-12-21 16:00:00+00:00achurchnearyou
CATEGORIES:
DESCRIPTION:Join us at 4 pm on Sunday\, 21st  Dec at our St Barnabas Churc
 h Hall  on Elm Road\, Shinfield\, RG6 5TS for our traditional nine lessons
  and carols service featuring our special guest choir the Reading Concert 
 Singers\, followed by Christmas refreshments book via the following link h
 ttps://readinggatewaychurch.churchsuite.com/events/byydcfo2
GEO:-0.945242;51.428574
LOCATION:Reading Gateway Church @ St Barnabas
URL:https://readinggatewaychurch.churchsuite.com/events/byydcfo2
END:VEVENT
END:VCALENDAR
