BEGIN:VCALENDAR
VERSION:2.0
PRODID:-//achurchnearyou.com//eventfeed//EN
CALSCALE:GREGORIAN
METHOD:PUBLISH
X-WR-TIMEZONE:UTC
BEGIN:VEVENT
SUMMARY:Advent Bible Study
DTSTART;TZID=Europe/London:20251203T184500
DTEND;TZID=Europe/London:20251203T193000
DTSTAMP:20260422T035040Z
UID:12454282025-12-03 18:45:00+00:00achurchnearyou
CATEGORIES:
DESCRIPTION:Join us for a meal and to explore Jesus' sayings\, "Blessed ar
 e the ..."
GEO:-0.135047;51.463441
LOCATION:St Peter's\, Clapham
URL:https://www.achurchnearyou.com/church/598/service-and-events/events/12
 45428/
END:VEVENT
BEGIN:VEVENT
SUMMARY:Advent Bible Study
DTSTART;TZID=Europe/London:20251210T184500
DTEND;TZID=Europe/London:20251210T193000
DTSTAMP:20260422T035040Z
UID:12454282025-12-10 18:45:00+00:00achurchnearyou
CATEGORIES:
DESCRIPTION:Join us for a meal and to explore Jesus' sayings\, "Blessed ar
 e the ..."
GEO:-0.135047;51.463441
LOCATION:St Peter's\, Clapham
URL:https://www.achurchnearyou.com/church/598/service-and-events/events/12
 45428/
END:VEVENT
BEGIN:VEVENT
SUMMARY:Advent Bible Study
DTSTART;TZID=Europe/London:20251217T184500
DTEND;TZID=Europe/London:20251217T193000
DTSTAMP:20260422T035040Z
UID:12454282025-12-17 18:45:00+00:00achurchnearyou
CATEGORIES:
DESCRIPTION:Join us for a meal and to explore Jesus' sayings\, "Blessed ar
 e the ..."
GEO:-0.135047;51.463441
LOCATION:St Peter's\, Clapham
URL:https://www.achurchnearyou.com/church/598/service-and-events/events/12
 45428/
END:VEVENT
END:VCALENDAR
