BEGIN:VCALENDAR
VERSION:2.0
PRODID:-//achurchnearyou.com//eventfeed//EN
CALSCALE:GREGORIAN
METHOD:PUBLISH
X-WR-TIMEZONE:UTC
BEGIN:VEVENT
SUMMARY:Compline
DTSTART:20260330T180000Z
DTEND:20260330T190000Z
DTSTAMP:20260419T150425Z
UID:13151432026-03-30 18:00:00+00:00achurchnearyou
CATEGORIES:
DESCRIPTION:During Holy Week
LOCATION:St Mary's Church\, Lower Heyford
URL:https://www.achurchnearyou.com/church/5993/service-and-events/events/1
 315143/
END:VEVENT
END:VCALENDAR
