BEGIN:VCALENDAR
VERSION:2.0
PRODID:-//achurchnearyou.com//eventfeed//EN
CALSCALE:GREGORIAN
METHOD:PUBLISH
X-WR-TIMEZONE:UTC
BEGIN:VEVENT
SUMMARY:Steeple Barton Eucharist
DTSTART:20241229T110000Z
DTEND:20241229T120000Z
DTSTAMP:20260422T092354Z
UID:11438152024-12-29 11:00:00+00:00achurchnearyou
CATEGORIES:
DESCRIPTION:Steeple Barton Eucharist
GEO:-1.349781;51.920288
LOCATION:Steeple Barton: St Mary the Virgin
URL:https://www.achurchnearyou.com/church/6009/service-and-events/events/1
 143815/
END:VEVENT
END:VCALENDAR
