BEGIN:VCALENDAR
VERSION:2.0
PRODID:-//achurchnearyou.com//eventfeed//EN
CALSCALE:GREGORIAN
METHOD:PUBLISH
X-WR-TIMEZONE:UTC
BEGIN:VEVENT
SUMMARY:Mince Pie Competition
DTSTART:20251206T150000Z
DTEND:20251206T180000Z
DTSTAMP:20260421T121330Z
UID:12478392025-12-06 15:00:00+00:00achurchnearyou
CATEGORIES:
DESCRIPTION:Mince Pie Competition
LOCATION:Sandford St Martin Parish Hall
URL:https://www.achurchnearyou.com/church/6009/service-and-events/events/1
 247839/
END:VEVENT
END:VCALENDAR
