BEGIN:VCALENDAR
VERSION:2.0
PRODID:-//achurchnearyou.com//eventfeed//EN
CALSCALE:GREGORIAN
METHOD:PUBLISH
X-WR-TIMEZONE:UTC
BEGIN:VEVENT
SUMMARY:Warm Space
DTSTART;TZID=Europe/London:20251022T120000
DTEND;TZID=Europe/London:20251022T150000
DTSTAMP:20260423T021255Z
UID:12402982025-10-22 12:00:00+01:00achurchnearyou
CATEGORIES:
DESCRIPTION:Our Church Wardens' Vestry open its door this winter as a Warm
  Space.\nEvery Wednesday fromm 12noon to 15.00.\n\nAll welcome!
GEO:-0.039632;51.452532
LOCATION:Crofton Park\, St Hilda
URL:https://www.achurchnearyou.com/church/606/service-and-events/events/12
 40298/
END:VEVENT
BEGIN:VEVENT
SUMMARY:Warm Space
DTSTART;TZID=Europe/London:20251029T120000
DTEND;TZID=Europe/London:20251029T150000
DTSTAMP:20260423T021255Z
UID:12402982025-10-29 12:00:00+00:00achurchnearyou
CATEGORIES:
DESCRIPTION:Our Church Wardens' Vestry open its door this winter as a Warm
  Space.\nEvery Wednesday fromm 12noon to 15.00.\n\nAll welcome!
GEO:-0.039632;51.452532
LOCATION:Crofton Park\, St Hilda
URL:https://www.achurchnearyou.com/church/606/service-and-events/events/12
 40298/
END:VEVENT
BEGIN:VEVENT
SUMMARY:Warm Space
DTSTART;TZID=Europe/London:20251105T120000
DTEND;TZID=Europe/London:20251105T150000
DTSTAMP:20260423T021255Z
UID:12402982025-11-05 12:00:00+00:00achurchnearyou
CATEGORIES:
DESCRIPTION:Our Church Wardens' Vestry open its door this winter as a Warm
  Space.\nEvery Wednesday fromm 12noon to 15.00.\n\nAll welcome!
GEO:-0.039632;51.452532
LOCATION:Crofton Park\, St Hilda
URL:https://www.achurchnearyou.com/church/606/service-and-events/events/12
 40298/
END:VEVENT
BEGIN:VEVENT
SUMMARY:Warm Space
DTSTART;TZID=Europe/London:20251112T120000
DTEND;TZID=Europe/London:20251112T150000
DTSTAMP:20260423T021255Z
UID:12402982025-11-12 12:00:00+00:00achurchnearyou
CATEGORIES:
DESCRIPTION:Our Church Wardens' Vestry open its door this winter as a Warm
  Space.\nEvery Wednesday fromm 12noon to 15.00.\n\nAll welcome!
GEO:-0.039632;51.452532
LOCATION:Crofton Park\, St Hilda
URL:https://www.achurchnearyou.com/church/606/service-and-events/events/12
 40298/
END:VEVENT
BEGIN:VEVENT
SUMMARY:Warm Space
DTSTART;TZID=Europe/London:20251119T120000
DTEND;TZID=Europe/London:20251119T150000
DTSTAMP:20260423T021255Z
UID:12402982025-11-19 12:00:00+00:00achurchnearyou
CATEGORIES:
DESCRIPTION:Our Church Wardens' Vestry open its door this winter as a Warm
  Space.\nEvery Wednesday fromm 12noon to 15.00.\n\nAll welcome!
GEO:-0.039632;51.452532
LOCATION:Crofton Park\, St Hilda
URL:https://www.achurchnearyou.com/church/606/service-and-events/events/12
 40298/
END:VEVENT
BEGIN:VEVENT
SUMMARY:Warm Space
DTSTART;TZID=Europe/London:20251126T120000
DTEND;TZID=Europe/London:20251126T150000
DTSTAMP:20260423T021255Z
UID:12402982025-11-26 12:00:00+00:00achurchnearyou
CATEGORIES:
DESCRIPTION:Our Church Wardens' Vestry open its door this winter as a Warm
  Space.\nEvery Wednesday fromm 12noon to 15.00.\n\nAll welcome!
GEO:-0.039632;51.452532
LOCATION:Crofton Park\, St Hilda
URL:https://www.achurchnearyou.com/church/606/service-and-events/events/12
 40298/
END:VEVENT
BEGIN:VEVENT
SUMMARY:Warm Space
DTSTART;TZID=Europe/London:20251203T120000
DTEND;TZID=Europe/London:20251203T150000
DTSTAMP:20260423T021255Z
UID:12402982025-12-03 12:00:00+00:00achurchnearyou
CATEGORIES:
DESCRIPTION:Our Church Wardens' Vestry open its door this winter as a Warm
  Space.\nEvery Wednesday fromm 12noon to 15.00.\n\nAll welcome!
GEO:-0.039632;51.452532
LOCATION:Crofton Park\, St Hilda
URL:https://www.achurchnearyou.com/church/606/service-and-events/events/12
 40298/
END:VEVENT
BEGIN:VEVENT
SUMMARY:Warm Space
DTSTART;TZID=Europe/London:20251210T120000
DTEND;TZID=Europe/London:20251210T150000
DTSTAMP:20260423T021255Z
UID:12402982025-12-10 12:00:00+00:00achurchnearyou
CATEGORIES:
DESCRIPTION:Our Church Wardens' Vestry open its door this winter as a Warm
  Space.\nEvery Wednesday fromm 12noon to 15.00.\n\nAll welcome!
GEO:-0.039632;51.452532
LOCATION:Crofton Park\, St Hilda
URL:https://www.achurchnearyou.com/church/606/service-and-events/events/12
 40298/
END:VEVENT
BEGIN:VEVENT
SUMMARY:Warm Space
DTSTART;TZID=Europe/London:20251217T120000
DTEND;TZID=Europe/London:20251217T150000
DTSTAMP:20260423T021255Z
UID:12402982025-12-17 12:00:00+00:00achurchnearyou
CATEGORIES:
DESCRIPTION:Our Church Wardens' Vestry open its door this winter as a Warm
  Space.\nEvery Wednesday fromm 12noon to 15.00.\n\nAll welcome!
GEO:-0.039632;51.452532
LOCATION:Crofton Park\, St Hilda
URL:https://www.achurchnearyou.com/church/606/service-and-events/events/12
 40298/
END:VEVENT
BEGIN:VEVENT
SUMMARY:Warm Space
DTSTART;TZID=Europe/London:20251224T120000
DTEND;TZID=Europe/London:20251224T150000
DTSTAMP:20260423T021255Z
UID:12402982025-12-24 12:00:00+00:00achurchnearyou
CATEGORIES:
DESCRIPTION:Our Church Wardens' Vestry open its door this winter as a Warm
  Space.\nEvery Wednesday fromm 12noon to 15.00.\n\nAll welcome!
GEO:-0.039632;51.452532
LOCATION:Crofton Park\, St Hilda
URL:https://www.achurchnearyou.com/church/606/service-and-events/events/12
 40298/
END:VEVENT
BEGIN:VEVENT
SUMMARY:Warm Space
DTSTART;TZID=Europe/London:20251231T120000
DTEND;TZID=Europe/London:20251231T150000
DTSTAMP:20260423T021255Z
UID:12402982025-12-31 12:00:00+00:00achurchnearyou
CATEGORIES:
DESCRIPTION:Our Church Wardens' Vestry open its door this winter as a Warm
  Space.\nEvery Wednesday fromm 12noon to 15.00.\n\nAll welcome!
GEO:-0.039632;51.452532
LOCATION:Crofton Park\, St Hilda
URL:https://www.achurchnearyou.com/church/606/service-and-events/events/12
 40298/
END:VEVENT
BEGIN:VEVENT
SUMMARY:Warm Space
DTSTART;TZID=Europe/London:20260107T120000
DTEND;TZID=Europe/London:20260107T150000
DTSTAMP:20260423T021255Z
UID:12402982026-01-07 12:00:00+00:00achurchnearyou
CATEGORIES:
DESCRIPTION:Our Church Wardens' Vestry open its door this winter as a Warm
  Space.\nEvery Wednesday fromm 12noon to 15.00.\n\nAll welcome!
GEO:-0.039632;51.452532
LOCATION:Crofton Park\, St Hilda
URL:https://www.achurchnearyou.com/church/606/service-and-events/events/12
 40298/
END:VEVENT
BEGIN:VEVENT
SUMMARY:Warm Space
DTSTART;TZID=Europe/London:20260114T120000
DTEND;TZID=Europe/London:20260114T150000
DTSTAMP:20260423T021255Z
UID:12402982026-01-14 12:00:00+00:00achurchnearyou
CATEGORIES:
DESCRIPTION:Our Church Wardens' Vestry open its door this winter as a Warm
  Space.\nEvery Wednesday fromm 12noon to 15.00.\n\nAll welcome!
GEO:-0.039632;51.452532
LOCATION:Crofton Park\, St Hilda
URL:https://www.achurchnearyou.com/church/606/service-and-events/events/12
 40298/
END:VEVENT
BEGIN:VEVENT
SUMMARY:Warm Space
DTSTART;TZID=Europe/London:20260121T120000
DTEND;TZID=Europe/London:20260121T150000
DTSTAMP:20260423T021255Z
UID:12402982026-01-21 12:00:00+00:00achurchnearyou
CATEGORIES:
DESCRIPTION:Our Church Wardens' Vestry open its door this winter as a Warm
  Space.\nEvery Wednesday fromm 12noon to 15.00.\n\nAll welcome!
GEO:-0.039632;51.452532
LOCATION:Crofton Park\, St Hilda
URL:https://www.achurchnearyou.com/church/606/service-and-events/events/12
 40298/
END:VEVENT
BEGIN:VEVENT
SUMMARY:Warm Space
DTSTART;TZID=Europe/London:20260128T120000
DTEND;TZID=Europe/London:20260128T150000
DTSTAMP:20260423T021255Z
UID:12402982026-01-28 12:00:00+00:00achurchnearyou
CATEGORIES:
DESCRIPTION:Our Church Wardens' Vestry open its door this winter as a Warm
  Space.\nEvery Wednesday fromm 12noon to 15.00.\n\nAll welcome!
GEO:-0.039632;51.452532
LOCATION:Crofton Park\, St Hilda
URL:https://www.achurchnearyou.com/church/606/service-and-events/events/12
 40298/
END:VEVENT
BEGIN:VEVENT
SUMMARY:Warm Space
DTSTART;TZID=Europe/London:20260204T120000
DTEND;TZID=Europe/London:20260204T150000
DTSTAMP:20260423T021255Z
UID:12402982026-02-04 12:00:00+00:00achurchnearyou
CATEGORIES:
DESCRIPTION:Our Church Wardens' Vestry open its door this winter as a Warm
  Space.\nEvery Wednesday fromm 12noon to 15.00.\n\nAll welcome!
GEO:-0.039632;51.452532
LOCATION:Crofton Park\, St Hilda
URL:https://www.achurchnearyou.com/church/606/service-and-events/events/12
 40298/
END:VEVENT
BEGIN:VEVENT
SUMMARY:Warm Space
DTSTART;TZID=Europe/London:20260211T120000
DTEND;TZID=Europe/London:20260211T150000
DTSTAMP:20260423T021255Z
UID:12402982026-02-11 12:00:00+00:00achurchnearyou
CATEGORIES:
DESCRIPTION:Our Church Wardens' Vestry open its door this winter as a Warm
  Space.\nEvery Wednesday fromm 12noon to 15.00.\n\nAll welcome!
GEO:-0.039632;51.452532
LOCATION:Crofton Park\, St Hilda
URL:https://www.achurchnearyou.com/church/606/service-and-events/events/12
 40298/
END:VEVENT
BEGIN:VEVENT
SUMMARY:Warm Space
DTSTART;TZID=Europe/London:20260218T120000
DTEND;TZID=Europe/London:20260218T150000
DTSTAMP:20260423T021255Z
UID:12402982026-02-18 12:00:00+00:00achurchnearyou
CATEGORIES:
DESCRIPTION:Our Church Wardens' Vestry open its door this winter as a Warm
  Space.\nEvery Wednesday fromm 12noon to 15.00.\n\nAll welcome!
GEO:-0.039632;51.452532
LOCATION:Crofton Park\, St Hilda
URL:https://www.achurchnearyou.com/church/606/service-and-events/events/12
 40298/
END:VEVENT
BEGIN:VEVENT
SUMMARY:Warm Space
DTSTART;TZID=Europe/London:20260225T120000
DTEND;TZID=Europe/London:20260225T150000
DTSTAMP:20260423T021255Z
UID:12402982026-02-25 12:00:00+00:00achurchnearyou
CATEGORIES:
DESCRIPTION:Our Church Wardens' Vestry open its door this winter as a Warm
  Space.\nEvery Wednesday fromm 12noon to 15.00.\n\nAll welcome!
GEO:-0.039632;51.452532
LOCATION:Crofton Park\, St Hilda
URL:https://www.achurchnearyou.com/church/606/service-and-events/events/12
 40298/
END:VEVENT
BEGIN:VEVENT
SUMMARY:Warm Space
DTSTART;TZID=Europe/London:20260304T120000
DTEND;TZID=Europe/London:20260304T150000
DTSTAMP:20260423T021255Z
UID:12402982026-03-04 12:00:00+00:00achurchnearyou
CATEGORIES:
DESCRIPTION:Our Church Wardens' Vestry open its door this winter as a Warm
  Space.\nEvery Wednesday fromm 12noon to 15.00.\n\nAll welcome!
GEO:-0.039632;51.452532
LOCATION:Crofton Park\, St Hilda
URL:https://www.achurchnearyou.com/church/606/service-and-events/events/12
 40298/
END:VEVENT
BEGIN:VEVENT
SUMMARY:Warm Space
DTSTART;TZID=Europe/London:20260311T120000
DTEND;TZID=Europe/London:20260311T150000
DTSTAMP:20260423T021255Z
UID:12402982026-03-11 12:00:00+00:00achurchnearyou
CATEGORIES:
DESCRIPTION:Our Church Wardens' Vestry open its door this winter as a Warm
  Space.\nEvery Wednesday fromm 12noon to 15.00.\n\nAll welcome!
GEO:-0.039632;51.452532
LOCATION:Crofton Park\, St Hilda
URL:https://www.achurchnearyou.com/church/606/service-and-events/events/12
 40298/
END:VEVENT
BEGIN:VEVENT
SUMMARY:Warm Space
DTSTART;TZID=Europe/London:20260318T120000
DTEND;TZID=Europe/London:20260318T150000
DTSTAMP:20260423T021255Z
UID:12402982026-03-18 12:00:00+00:00achurchnearyou
CATEGORIES:
DESCRIPTION:Our Church Wardens' Vestry open its door this winter as a Warm
  Space.\nEvery Wednesday fromm 12noon to 15.00.\n\nAll welcome!
GEO:-0.039632;51.452532
LOCATION:Crofton Park\, St Hilda
URL:https://www.achurchnearyou.com/church/606/service-and-events/events/12
 40298/
END:VEVENT
BEGIN:VEVENT
SUMMARY:Warm Space
DTSTART;TZID=Europe/London:20260325T120000
DTEND;TZID=Europe/London:20260325T150000
DTSTAMP:20260423T021255Z
UID:12402982026-03-25 12:00:00+00:00achurchnearyou
CATEGORIES:
DESCRIPTION:Our Church Wardens' Vestry open its door this winter as a Warm
  Space.\nEvery Wednesday fromm 12noon to 15.00.\n\nAll welcome!
GEO:-0.039632;51.452532
LOCATION:Crofton Park\, St Hilda
URL:https://www.achurchnearyou.com/church/606/service-and-events/events/12
 40298/
END:VEVENT
BEGIN:VEVENT
SUMMARY:Warm Space
DTSTART;TZID=Europe/London:20260401T120000
DTEND;TZID=Europe/London:20260401T150000
DTSTAMP:20260423T021255Z
UID:12402982026-04-01 12:00:00+01:00achurchnearyou
CATEGORIES:
DESCRIPTION:Our Church Wardens' Vestry open its door this winter as a Warm
  Space.\nEvery Wednesday fromm 12noon to 15.00.\n\nAll welcome!
GEO:-0.039632;51.452532
LOCATION:Crofton Park\, St Hilda
URL:https://www.achurchnearyou.com/church/606/service-and-events/events/12
 40298/
END:VEVENT
BEGIN:VEVENT
SUMMARY:Warm Space
DTSTART;TZID=Europe/London:20260408T120000
DTEND;TZID=Europe/London:20260408T150000
DTSTAMP:20260423T021255Z
UID:12402982026-04-08 12:00:00+01:00achurchnearyou
CATEGORIES:
DESCRIPTION:Our Church Wardens' Vestry open its door this winter as a Warm
  Space.\nEvery Wednesday fromm 12noon to 15.00.\n\nAll welcome!
GEO:-0.039632;51.452532
LOCATION:Crofton Park\, St Hilda
URL:https://www.achurchnearyou.com/church/606/service-and-events/events/12
 40298/
END:VEVENT
BEGIN:VEVENT
SUMMARY:Warm Space
DTSTART;TZID=Europe/London:20260415T120000
DTEND;TZID=Europe/London:20260415T150000
DTSTAMP:20260423T021255Z
UID:12402982026-04-15 12:00:00+01:00achurchnearyou
CATEGORIES:
DESCRIPTION:Our Church Wardens' Vestry open its door this winter as a Warm
  Space.\nEvery Wednesday fromm 12noon to 15.00.\n\nAll welcome!
GEO:-0.039632;51.452532
LOCATION:Crofton Park\, St Hilda
URL:https://www.achurchnearyou.com/church/606/service-and-events/events/12
 40298/
END:VEVENT
BEGIN:VEVENT
SUMMARY:Warm Space
DTSTART;TZID=Europe/London:20260422T120000
DTEND;TZID=Europe/London:20260422T150000
DTSTAMP:20260423T021255Z
UID:12402982026-04-22 12:00:00+01:00achurchnearyou
CATEGORIES:
DESCRIPTION:Our Church Wardens' Vestry open its door this winter as a Warm
  Space.\nEvery Wednesday fromm 12noon to 15.00.\n\nAll welcome!
GEO:-0.039632;51.452532
LOCATION:Crofton Park\, St Hilda
URL:https://www.achurchnearyou.com/church/606/service-and-events/events/12
 40298/
END:VEVENT
BEGIN:VEVENT
SUMMARY:Warm Space
DTSTART;TZID=Europe/London:20260429T120000
DTEND;TZID=Europe/London:20260429T150000
DTSTAMP:20260423T021255Z
UID:12402982026-04-29 12:00:00+01:00achurchnearyou
CATEGORIES:
DESCRIPTION:Our Church Wardens' Vestry open its door this winter as a Warm
  Space.\nEvery Wednesday fromm 12noon to 15.00.\n\nAll welcome!
GEO:-0.039632;51.452532
LOCATION:Crofton Park\, St Hilda
URL:https://www.achurchnearyou.com/church/606/service-and-events/events/12
 40298/
END:VEVENT
END:VCALENDAR
