BEGIN:VCALENDAR
VERSION:2.0
PRODID:-//achurchnearyou.com//eventfeed//EN
CALSCALE:GREGORIAN
METHOD:PUBLISH
X-WR-TIMEZONE:UTC
BEGIN:VEVENT
SUMMARY:Easter Sunday
DTSTART:20250420T110000Z
DTEND:20250420T140000Z
DTSTAMP:20260425T230735Z
UID:11756242025-04-20 11:00:00+00:00achurchnearyou
CATEGORIES:
DESCRIPTION:A service for all ages - come and join us the Easter Sunday.
GEO:-1.469388;53.43325
LOCATION:Sheffield: St Paul's\, Wordsworth Avenue
URL:https://www.achurchnearyou.com/church/6089/service-and-events/events/1
 175624/
END:VEVENT
END:VCALENDAR
