BEGIN:VCALENDAR
VERSION:2.0
PRODID:-//achurchnearyou.com//eventfeed//EN
CALSCALE:GREGORIAN
METHOD:PUBLISH
X-WR-TIMEZONE:UTC
BEGIN:VEVENT
SUMMARY:Holy Communion
DTSTART;TZID=Europe/London:20230702T103000
DTEND;TZID=Europe/London:20230702T114500
DTSTAMP:20260423T041458Z
UID:9539342023-07-02 10:30:00+01:00achurchnearyou
CATEGORIES:
DESCRIPTION:Holy Communion is celebrated the first Sunday of the month in 
 the usual Sunday morning service. We also have children's activities in th
 e hall.  Do come along and join us\, all are welcome.
GEO:-1.469388;53.43325
LOCATION:Sheffield: St Paul's\, Wordsworth Avenue
URL:https://www.stpaulswordsworth.org.uk/whats-on/sundays/
END:VEVENT
BEGIN:VEVENT
SUMMARY:Holy Communion
DTSTART;TZID=Europe/London:20230806T103000
DTEND;TZID=Europe/London:20230806T114500
DTSTAMP:20260423T041458Z
UID:9539342023-08-06 10:30:00+01:00achurchnearyou
CATEGORIES:
DESCRIPTION:Holy Communion is celebrated the first Sunday of the month in 
 the usual Sunday morning service. We also have children's activities in th
 e hall.  Do come along and join us\, all are welcome.
GEO:-1.469388;53.43325
LOCATION:Sheffield: St Paul's\, Wordsworth Avenue
URL:https://www.stpaulswordsworth.org.uk/whats-on/sundays/
END:VEVENT
BEGIN:VEVENT
SUMMARY:Holy Communion
DTSTART;TZID=Europe/London:20230903T103000
DTEND;TZID=Europe/London:20230903T114500
DTSTAMP:20260423T041458Z
UID:9539342023-09-03 10:30:00+01:00achurchnearyou
CATEGORIES:
DESCRIPTION:Holy Communion is celebrated the first Sunday of the month in 
 the usual Sunday morning service. We also have children's activities in th
 e hall.  Do come along and join us\, all are welcome.
GEO:-1.469388;53.43325
LOCATION:Sheffield: St Paul's\, Wordsworth Avenue
URL:https://www.stpaulswordsworth.org.uk/whats-on/sundays/
END:VEVENT
BEGIN:VEVENT
SUMMARY:Holy Communion
DTSTART;TZID=Europe/London:20231001T103000
DTEND;TZID=Europe/London:20231001T114500
DTSTAMP:20260423T041458Z
UID:9539342023-10-01 10:30:00+01:00achurchnearyou
CATEGORIES:
DESCRIPTION:Holy Communion is celebrated the first Sunday of the month in 
 the usual Sunday morning service. We also have children's activities in th
 e hall.  Do come along and join us\, all are welcome.
GEO:-1.469388;53.43325
LOCATION:Sheffield: St Paul's\, Wordsworth Avenue
URL:https://www.stpaulswordsworth.org.uk/whats-on/sundays/
END:VEVENT
BEGIN:VEVENT
SUMMARY:Holy Communion
DTSTART;TZID=Europe/London:20231105T103000
DTEND;TZID=Europe/London:20231105T114500
DTSTAMP:20260423T041458Z
UID:9539342023-11-05 10:30:00+00:00achurchnearyou
CATEGORIES:
DESCRIPTION:Holy Communion is celebrated the first Sunday of the month in 
 the usual Sunday morning service. We also have children's activities in th
 e hall.  Do come along and join us\, all are welcome.
GEO:-1.469388;53.43325
LOCATION:Sheffield: St Paul's\, Wordsworth Avenue
URL:https://www.stpaulswordsworth.org.uk/whats-on/sundays/
END:VEVENT
BEGIN:VEVENT
SUMMARY:Holy Communion
DTSTART;TZID=Europe/London:20231203T103000
DTEND;TZID=Europe/London:20231203T114500
DTSTAMP:20260423T041458Z
UID:9539342023-12-03 10:30:00+00:00achurchnearyou
CATEGORIES:
DESCRIPTION:Holy Communion is celebrated the first Sunday of the month in 
 the usual Sunday morning service. We also have children's activities in th
 e hall.  Do come along and join us\, all are welcome.
GEO:-1.469388;53.43325
LOCATION:Sheffield: St Paul's\, Wordsworth Avenue
URL:https://www.stpaulswordsworth.org.uk/whats-on/sundays/
END:VEVENT
BEGIN:VEVENT
SUMMARY:Holy Communion
DTSTART;TZID=Europe/London:20240107T103000
DTEND;TZID=Europe/London:20240107T114500
DTSTAMP:20260423T041458Z
UID:9539342024-01-07 10:30:00+00:00achurchnearyou
CATEGORIES:
DESCRIPTION:Holy Communion is celebrated the first Sunday of the month in 
 the usual Sunday morning service. We also have children's activities in th
 e hall.  Do come along and join us\, all are welcome.
GEO:-1.469388;53.43325
LOCATION:Sheffield: St Paul's\, Wordsworth Avenue
URL:https://www.stpaulswordsworth.org.uk/whats-on/sundays/
END:VEVENT
BEGIN:VEVENT
SUMMARY:Holy Communion
DTSTART;TZID=Europe/London:20240204T103000
DTEND;TZID=Europe/London:20240204T114500
DTSTAMP:20260423T041458Z
UID:9539342024-02-04 10:30:00+00:00achurchnearyou
CATEGORIES:
DESCRIPTION:Holy Communion is celebrated the first Sunday of the month in 
 the usual Sunday morning service. We also have children's activities in th
 e hall.  Do come along and join us\, all are welcome.
GEO:-1.469388;53.43325
LOCATION:Sheffield: St Paul's\, Wordsworth Avenue
URL:https://www.stpaulswordsworth.org.uk/whats-on/sundays/
END:VEVENT
BEGIN:VEVENT
SUMMARY:Holy Communion
DTSTART;TZID=Europe/London:20240303T103000
DTEND;TZID=Europe/London:20240303T114500
DTSTAMP:20260423T041458Z
UID:9539342024-03-03 10:30:00+00:00achurchnearyou
CATEGORIES:
DESCRIPTION:Holy Communion is celebrated the first Sunday of the month in 
 the usual Sunday morning service. We also have children's activities in th
 e hall.  Do come along and join us\, all are welcome.
GEO:-1.469388;53.43325
LOCATION:Sheffield: St Paul's\, Wordsworth Avenue
URL:https://www.stpaulswordsworth.org.uk/whats-on/sundays/
END:VEVENT
BEGIN:VEVENT
SUMMARY:Holy Communion
DTSTART;TZID=Europe/London:20240407T103000
DTEND;TZID=Europe/London:20240407T114500
DTSTAMP:20260423T041458Z
UID:9539342024-04-07 10:30:00+01:00achurchnearyou
CATEGORIES:
DESCRIPTION:Holy Communion is celebrated the first Sunday of the month in 
 the usual Sunday morning service. We also have children's activities in th
 e hall.  Do come along and join us\, all are welcome.
GEO:-1.469388;53.43325
LOCATION:Sheffield: St Paul's\, Wordsworth Avenue
URL:https://www.stpaulswordsworth.org.uk/whats-on/sundays/
END:VEVENT
BEGIN:VEVENT
SUMMARY:Holy Communion
DTSTART;TZID=Europe/London:20240505T103000
DTEND;TZID=Europe/London:20240505T114500
DTSTAMP:20260423T041458Z
UID:9539342024-05-05 10:30:00+01:00achurchnearyou
CATEGORIES:
DESCRIPTION:Holy Communion is celebrated the first Sunday of the month in 
 the usual Sunday morning service. We also have children's activities in th
 e hall.  Do come along and join us\, all are welcome.
GEO:-1.469388;53.43325
LOCATION:Sheffield: St Paul's\, Wordsworth Avenue
URL:https://www.stpaulswordsworth.org.uk/whats-on/sundays/
END:VEVENT
BEGIN:VEVENT
SUMMARY:Holy Communion
DTSTART;TZID=Europe/London:20240602T103000
DTEND;TZID=Europe/London:20240602T114500
DTSTAMP:20260423T041458Z
UID:9539342024-06-02 10:30:00+01:00achurchnearyou
CATEGORIES:
DESCRIPTION:Holy Communion is celebrated the first Sunday of the month in 
 the usual Sunday morning service. We also have children's activities in th
 e hall.  Do come along and join us\, all are welcome.
GEO:-1.469388;53.43325
LOCATION:Sheffield: St Paul's\, Wordsworth Avenue
URL:https://www.stpaulswordsworth.org.uk/whats-on/sundays/
END:VEVENT
BEGIN:VEVENT
SUMMARY:Holy Communion
DTSTART;TZID=Europe/London:20240707T103000
DTEND;TZID=Europe/London:20240707T114500
DTSTAMP:20260423T041458Z
UID:9539342024-07-07 10:30:00+01:00achurchnearyou
CATEGORIES:
DESCRIPTION:Holy Communion is celebrated the first Sunday of the month in 
 the usual Sunday morning service. We also have children's activities in th
 e hall.  Do come along and join us\, all are welcome.
GEO:-1.469388;53.43325
LOCATION:Sheffield: St Paul's\, Wordsworth Avenue
URL:https://www.stpaulswordsworth.org.uk/whats-on/sundays/
END:VEVENT
BEGIN:VEVENT
SUMMARY:Holy Communion
DTSTART;TZID=Europe/London:20240804T103000
DTEND;TZID=Europe/London:20240804T114500
DTSTAMP:20260423T041458Z
UID:9539342024-08-04 10:30:00+01:00achurchnearyou
CATEGORIES:
DESCRIPTION:Holy Communion is celebrated the first Sunday of the month in 
 the usual Sunday morning service. We also have children's activities in th
 e hall.  Do come along and join us\, all are welcome.
GEO:-1.469388;53.43325
LOCATION:Sheffield: St Paul's\, Wordsworth Avenue
URL:https://www.stpaulswordsworth.org.uk/whats-on/sundays/
END:VEVENT
BEGIN:VEVENT
SUMMARY:Holy Communion
DTSTART;TZID=Europe/London:20240901T103000
DTEND;TZID=Europe/London:20240901T114500
DTSTAMP:20260423T041458Z
UID:9539342024-09-01 10:30:00+01:00achurchnearyou
CATEGORIES:
DESCRIPTION:Holy Communion is celebrated the first Sunday of the month in 
 the usual Sunday morning service. We also have children's activities in th
 e hall.  Do come along and join us\, all are welcome.
GEO:-1.469388;53.43325
LOCATION:Sheffield: St Paul's\, Wordsworth Avenue
URL:https://www.stpaulswordsworth.org.uk/whats-on/sundays/
END:VEVENT
BEGIN:VEVENT
SUMMARY:Holy Communion
DTSTART;TZID=Europe/London:20241006T103000
DTEND;TZID=Europe/London:20241006T114500
DTSTAMP:20260423T041458Z
UID:9539342024-10-06 10:30:00+01:00achurchnearyou
CATEGORIES:
DESCRIPTION:Holy Communion is celebrated the first Sunday of the month in 
 the usual Sunday morning service. We also have children's activities in th
 e hall.  Do come along and join us\, all are welcome.
GEO:-1.469388;53.43325
LOCATION:Sheffield: St Paul's\, Wordsworth Avenue
URL:https://www.stpaulswordsworth.org.uk/whats-on/sundays/
END:VEVENT
BEGIN:VEVENT
SUMMARY:Holy Communion
DTSTART;TZID=Europe/London:20241103T103000
DTEND;TZID=Europe/London:20241103T114500
DTSTAMP:20260423T041458Z
UID:9539342024-11-03 10:30:00+00:00achurchnearyou
CATEGORIES:
DESCRIPTION:Holy Communion is celebrated the first Sunday of the month in 
 the usual Sunday morning service. We also have children's activities in th
 e hall.  Do come along and join us\, all are welcome.
GEO:-1.469388;53.43325
LOCATION:Sheffield: St Paul's\, Wordsworth Avenue
URL:https://www.stpaulswordsworth.org.uk/whats-on/sundays/
END:VEVENT
BEGIN:VEVENT
SUMMARY:Holy Communion
DTSTART;TZID=Europe/London:20241201T103000
DTEND;TZID=Europe/London:20241201T114500
DTSTAMP:20260423T041458Z
UID:9539342024-12-01 10:30:00+00:00achurchnearyou
CATEGORIES:
DESCRIPTION:Holy Communion is celebrated the first Sunday of the month in 
 the usual Sunday morning service. We also have children's activities in th
 e hall.  Do come along and join us\, all are welcome.
GEO:-1.469388;53.43325
LOCATION:Sheffield: St Paul's\, Wordsworth Avenue
URL:https://www.stpaulswordsworth.org.uk/whats-on/sundays/
END:VEVENT
BEGIN:VEVENT
SUMMARY:Holy Communion
DTSTART;TZID=Europe/London:20250105T103000
DTEND;TZID=Europe/London:20250105T114500
DTSTAMP:20260423T041458Z
UID:9539342025-01-05 10:30:00+00:00achurchnearyou
CATEGORIES:
DESCRIPTION:Holy Communion is celebrated the first Sunday of the month in 
 the usual Sunday morning service. We also have children's activities in th
 e hall.  Do come along and join us\, all are welcome.
GEO:-1.469388;53.43325
LOCATION:Sheffield: St Paul's\, Wordsworth Avenue
URL:https://www.stpaulswordsworth.org.uk/whats-on/sundays/
END:VEVENT
BEGIN:VEVENT
SUMMARY:Holy Communion
DTSTART;TZID=Europe/London:20250202T103000
DTEND;TZID=Europe/London:20250202T114500
DTSTAMP:20260423T041458Z
UID:9539342025-02-02 10:30:00+00:00achurchnearyou
CATEGORIES:
DESCRIPTION:Holy Communion is celebrated the first Sunday of the month in 
 the usual Sunday morning service. We also have children's activities in th
 e hall.  Do come along and join us\, all are welcome.
GEO:-1.469388;53.43325
LOCATION:Sheffield: St Paul's\, Wordsworth Avenue
URL:https://www.stpaulswordsworth.org.uk/whats-on/sundays/
END:VEVENT
BEGIN:VEVENT
SUMMARY:Holy Communion
DTSTART;TZID=Europe/London:20250302T103000
DTEND;TZID=Europe/London:20250302T114500
DTSTAMP:20260423T041458Z
UID:9539342025-03-02 10:30:00+00:00achurchnearyou
CATEGORIES:
DESCRIPTION:Holy Communion is celebrated the first Sunday of the month in 
 the usual Sunday morning service. We also have children's activities in th
 e hall.  Do come along and join us\, all are welcome.
GEO:-1.469388;53.43325
LOCATION:Sheffield: St Paul's\, Wordsworth Avenue
URL:https://www.stpaulswordsworth.org.uk/whats-on/sundays/
END:VEVENT
BEGIN:VEVENT
SUMMARY:Holy Communion
DTSTART;TZID=Europe/London:20250406T103000
DTEND;TZID=Europe/London:20250406T114500
DTSTAMP:20260423T041458Z
UID:9539342025-04-06 10:30:00+01:00achurchnearyou
CATEGORIES:
DESCRIPTION:Holy Communion is celebrated the first Sunday of the month in 
 the usual Sunday morning service. We also have children's activities in th
 e hall.  Do come along and join us\, all are welcome.
GEO:-1.469388;53.43325
LOCATION:Sheffield: St Paul's\, Wordsworth Avenue
URL:https://www.stpaulswordsworth.org.uk/whats-on/sundays/
END:VEVENT
BEGIN:VEVENT
SUMMARY:Holy Communion
DTSTART;TZID=Europe/London:20250504T103000
DTEND;TZID=Europe/London:20250504T114500
DTSTAMP:20260423T041458Z
UID:9539342025-05-04 10:30:00+01:00achurchnearyou
CATEGORIES:
DESCRIPTION:Holy Communion is celebrated the first Sunday of the month in 
 the usual Sunday morning service. We also have children's activities in th
 e hall.  Do come along and join us\, all are welcome.
GEO:-1.469388;53.43325
LOCATION:Sheffield: St Paul's\, Wordsworth Avenue
URL:https://www.stpaulswordsworth.org.uk/whats-on/sundays/
END:VEVENT
BEGIN:VEVENT
SUMMARY:Holy Communion
DTSTART;TZID=Europe/London:20250601T103000
DTEND;TZID=Europe/London:20250601T114500
DTSTAMP:20260423T041458Z
UID:9539342025-06-01 10:30:00+01:00achurchnearyou
CATEGORIES:
DESCRIPTION:Holy Communion is celebrated the first Sunday of the month in 
 the usual Sunday morning service. We also have children's activities in th
 e hall.  Do come along and join us\, all are welcome.
GEO:-1.469388;53.43325
LOCATION:Sheffield: St Paul's\, Wordsworth Avenue
URL:https://www.stpaulswordsworth.org.uk/whats-on/sundays/
END:VEVENT
BEGIN:VEVENT
SUMMARY:Holy Communion
DTSTART;TZID=Europe/London:20250706T103000
DTEND;TZID=Europe/London:20250706T114500
DTSTAMP:20260423T041458Z
UID:9539342025-07-06 10:30:00+01:00achurchnearyou
CATEGORIES:
DESCRIPTION:Holy Communion is celebrated the first Sunday of the month in 
 the usual Sunday morning service. We also have children's activities in th
 e hall.  Do come along and join us\, all are welcome.
GEO:-1.469388;53.43325
LOCATION:Sheffield: St Paul's\, Wordsworth Avenue
URL:https://www.stpaulswordsworth.org.uk/whats-on/sundays/
END:VEVENT
BEGIN:VEVENT
SUMMARY:Holy Communion
DTSTART;TZID=Europe/London:20250803T103000
DTEND;TZID=Europe/London:20250803T114500
DTSTAMP:20260423T041458Z
UID:9539342025-08-03 10:30:00+01:00achurchnearyou
CATEGORIES:
DESCRIPTION:Holy Communion is celebrated the first Sunday of the month in 
 the usual Sunday morning service. We also have children's activities in th
 e hall.  Do come along and join us\, all are welcome.
GEO:-1.469388;53.43325
LOCATION:Sheffield: St Paul's\, Wordsworth Avenue
URL:https://www.stpaulswordsworth.org.uk/whats-on/sundays/
END:VEVENT
BEGIN:VEVENT
SUMMARY:Holy Communion
DTSTART;TZID=Europe/London:20250907T103000
DTEND;TZID=Europe/London:20250907T114500
DTSTAMP:20260423T041458Z
UID:9539342025-09-07 10:30:00+01:00achurchnearyou
CATEGORIES:
DESCRIPTION:Holy Communion is celebrated the first Sunday of the month in 
 the usual Sunday morning service. We also have children's activities in th
 e hall.  Do come along and join us\, all are welcome.
GEO:-1.469388;53.43325
LOCATION:Sheffield: St Paul's\, Wordsworth Avenue
URL:https://www.stpaulswordsworth.org.uk/whats-on/sundays/
END:VEVENT
BEGIN:VEVENT
SUMMARY:Holy Communion
DTSTART;TZID=Europe/London:20251005T103000
DTEND;TZID=Europe/London:20251005T114500
DTSTAMP:20260423T041458Z
UID:9539342025-10-05 10:30:00+01:00achurchnearyou
CATEGORIES:
DESCRIPTION:Holy Communion is celebrated the first Sunday of the month in 
 the usual Sunday morning service. We also have children's activities in th
 e hall.  Do come along and join us\, all are welcome.
GEO:-1.469388;53.43325
LOCATION:Sheffield: St Paul's\, Wordsworth Avenue
URL:https://www.stpaulswordsworth.org.uk/whats-on/sundays/
END:VEVENT
BEGIN:VEVENT
SUMMARY:Holy Communion
DTSTART;TZID=Europe/London:20251102T103000
DTEND;TZID=Europe/London:20251102T114500
DTSTAMP:20260423T041458Z
UID:9539342025-11-02 10:30:00+00:00achurchnearyou
CATEGORIES:
DESCRIPTION:Holy Communion is celebrated the first Sunday of the month in 
 the usual Sunday morning service. We also have children's activities in th
 e hall.  Do come along and join us\, all are welcome.
GEO:-1.469388;53.43325
LOCATION:Sheffield: St Paul's\, Wordsworth Avenue
URL:https://www.stpaulswordsworth.org.uk/whats-on/sundays/
END:VEVENT
BEGIN:VEVENT
SUMMARY:Holy Communion
DTSTART;TZID=Europe/London:20251207T103000
DTEND;TZID=Europe/London:20251207T114500
DTSTAMP:20260423T041458Z
UID:9539342025-12-07 10:30:00+00:00achurchnearyou
CATEGORIES:
DESCRIPTION:Holy Communion is celebrated the first Sunday of the month in 
 the usual Sunday morning service. We also have children's activities in th
 e hall.  Do come along and join us\, all are welcome.
GEO:-1.469388;53.43325
LOCATION:Sheffield: St Paul's\, Wordsworth Avenue
URL:https://www.stpaulswordsworth.org.uk/whats-on/sundays/
END:VEVENT
BEGIN:VEVENT
SUMMARY:Holy Communion
DTSTART;TZID=Europe/London:20260104T103000
DTEND;TZID=Europe/London:20260104T114500
DTSTAMP:20260423T041458Z
UID:9539342026-01-04 10:30:00+00:00achurchnearyou
CATEGORIES:
DESCRIPTION:Holy Communion is celebrated the first Sunday of the month in 
 the usual Sunday morning service. We also have children's activities in th
 e hall.  Do come along and join us\, all are welcome.
GEO:-1.469388;53.43325
LOCATION:Sheffield: St Paul's\, Wordsworth Avenue
URL:https://www.stpaulswordsworth.org.uk/whats-on/sundays/
END:VEVENT
BEGIN:VEVENT
SUMMARY:Holy Communion
DTSTART;TZID=Europe/London:20260201T103000
DTEND;TZID=Europe/London:20260201T114500
DTSTAMP:20260423T041458Z
UID:9539342026-02-01 10:30:00+00:00achurchnearyou
CATEGORIES:
DESCRIPTION:Holy Communion is celebrated the first Sunday of the month in 
 the usual Sunday morning service. We also have children's activities in th
 e hall.  Do come along and join us\, all are welcome.
GEO:-1.469388;53.43325
LOCATION:Sheffield: St Paul's\, Wordsworth Avenue
URL:https://www.stpaulswordsworth.org.uk/whats-on/sundays/
END:VEVENT
BEGIN:VEVENT
SUMMARY:Holy Communion
DTSTART;TZID=Europe/London:20260301T103000
DTEND;TZID=Europe/London:20260301T114500
DTSTAMP:20260423T041458Z
UID:9539342026-03-01 10:30:00+00:00achurchnearyou
CATEGORIES:
DESCRIPTION:Holy Communion is celebrated the first Sunday of the month in 
 the usual Sunday morning service. We also have children's activities in th
 e hall.  Do come along and join us\, all are welcome.
GEO:-1.469388;53.43325
LOCATION:Sheffield: St Paul's\, Wordsworth Avenue
URL:https://www.stpaulswordsworth.org.uk/whats-on/sundays/
END:VEVENT
BEGIN:VEVENT
SUMMARY:Holy Communion
DTSTART;TZID=Europe/London:20260405T103000
DTEND;TZID=Europe/London:20260405T114500
DTSTAMP:20260423T041458Z
UID:9539342026-04-05 10:30:00+01:00achurchnearyou
CATEGORIES:
DESCRIPTION:Holy Communion is celebrated the first Sunday of the month in 
 the usual Sunday morning service. We also have children's activities in th
 e hall.  Do come along and join us\, all are welcome.
GEO:-1.469388;53.43325
LOCATION:Sheffield: St Paul's\, Wordsworth Avenue
URL:https://www.stpaulswordsworth.org.uk/whats-on/sundays/
END:VEVENT
BEGIN:VEVENT
SUMMARY:Holy Communion
DTSTART;TZID=Europe/London:20260503T103000
DTEND;TZID=Europe/London:20260503T114500
DTSTAMP:20260423T041458Z
UID:9539342026-05-03 10:30:00+01:00achurchnearyou
CATEGORIES:
DESCRIPTION:Holy Communion is celebrated the first Sunday of the month in 
 the usual Sunday morning service. We also have children's activities in th
 e hall.  Do come along and join us\, all are welcome.
GEO:-1.469388;53.43325
LOCATION:Sheffield: St Paul's\, Wordsworth Avenue
URL:https://www.stpaulswordsworth.org.uk/whats-on/sundays/
END:VEVENT
BEGIN:VEVENT
SUMMARY:Holy Communion
DTSTART;TZID=Europe/London:20260607T103000
DTEND;TZID=Europe/London:20260607T114500
DTSTAMP:20260423T041458Z
UID:9539342026-06-07 10:30:00+01:00achurchnearyou
CATEGORIES:
DESCRIPTION:Holy Communion is celebrated the first Sunday of the month in 
 the usual Sunday morning service. We also have children's activities in th
 e hall.  Do come along and join us\, all are welcome.
GEO:-1.469388;53.43325
LOCATION:Sheffield: St Paul's\, Wordsworth Avenue
URL:https://www.stpaulswordsworth.org.uk/whats-on/sundays/
END:VEVENT
BEGIN:VEVENT
SUMMARY:Holy Communion
DTSTART;TZID=Europe/London:20260705T103000
DTEND;TZID=Europe/London:20260705T114500
DTSTAMP:20260423T041458Z
UID:9539342026-07-05 10:30:00+01:00achurchnearyou
CATEGORIES:
DESCRIPTION:Holy Communion is celebrated the first Sunday of the month in 
 the usual Sunday morning service. We also have children's activities in th
 e hall.  Do come along and join us\, all are welcome.
GEO:-1.469388;53.43325
LOCATION:Sheffield: St Paul's\, Wordsworth Avenue
URL:https://www.stpaulswordsworth.org.uk/whats-on/sundays/
END:VEVENT
BEGIN:VEVENT
SUMMARY:Holy Communion
DTSTART;TZID=Europe/London:20260802T103000
DTEND;TZID=Europe/London:20260802T114500
DTSTAMP:20260423T041458Z
UID:9539342026-08-02 10:30:00+01:00achurchnearyou
CATEGORIES:
DESCRIPTION:Holy Communion is celebrated the first Sunday of the month in 
 the usual Sunday morning service. We also have children's activities in th
 e hall.  Do come along and join us\, all are welcome.
GEO:-1.469388;53.43325
LOCATION:Sheffield: St Paul's\, Wordsworth Avenue
URL:https://www.stpaulswordsworth.org.uk/whats-on/sundays/
END:VEVENT
BEGIN:VEVENT
SUMMARY:Holy Communion
DTSTART;TZID=Europe/London:20260906T103000
DTEND;TZID=Europe/London:20260906T114500
DTSTAMP:20260423T041458Z
UID:9539342026-09-06 10:30:00+01:00achurchnearyou
CATEGORIES:
DESCRIPTION:Holy Communion is celebrated the first Sunday of the month in 
 the usual Sunday morning service. We also have children's activities in th
 e hall.  Do come along and join us\, all are welcome.
GEO:-1.469388;53.43325
LOCATION:Sheffield: St Paul's\, Wordsworth Avenue
URL:https://www.stpaulswordsworth.org.uk/whats-on/sundays/
END:VEVENT
BEGIN:VEVENT
SUMMARY:Holy Communion
DTSTART;TZID=Europe/London:20261004T103000
DTEND;TZID=Europe/London:20261004T114500
DTSTAMP:20260423T041458Z
UID:9539342026-10-04 10:30:00+01:00achurchnearyou
CATEGORIES:
DESCRIPTION:Holy Communion is celebrated the first Sunday of the month in 
 the usual Sunday morning service. We also have children's activities in th
 e hall.  Do come along and join us\, all are welcome.
GEO:-1.469388;53.43325
LOCATION:Sheffield: St Paul's\, Wordsworth Avenue
URL:https://www.stpaulswordsworth.org.uk/whats-on/sundays/
END:VEVENT
BEGIN:VEVENT
SUMMARY:Holy Communion
DTSTART;TZID=Europe/London:20261101T103000
DTEND;TZID=Europe/London:20261101T114500
DTSTAMP:20260423T041458Z
UID:9539342026-11-01 10:30:00+00:00achurchnearyou
CATEGORIES:
DESCRIPTION:Holy Communion is celebrated the first Sunday of the month in 
 the usual Sunday morning service. We also have children's activities in th
 e hall.  Do come along and join us\, all are welcome.
GEO:-1.469388;53.43325
LOCATION:Sheffield: St Paul's\, Wordsworth Avenue
URL:https://www.stpaulswordsworth.org.uk/whats-on/sundays/
END:VEVENT
BEGIN:VEVENT
SUMMARY:Holy Communion
DTSTART;TZID=Europe/London:20261206T103000
DTEND;TZID=Europe/London:20261206T114500
DTSTAMP:20260423T041458Z
UID:9539342026-12-06 10:30:00+00:00achurchnearyou
CATEGORIES:
DESCRIPTION:Holy Communion is celebrated the first Sunday of the month in 
 the usual Sunday morning service. We also have children's activities in th
 e hall.  Do come along and join us\, all are welcome.
GEO:-1.469388;53.43325
LOCATION:Sheffield: St Paul's\, Wordsworth Avenue
URL:https://www.stpaulswordsworth.org.uk/whats-on/sundays/
END:VEVENT
BEGIN:VEVENT
SUMMARY:Holy Communion
DTSTART;TZID=Europe/London:20270103T103000
DTEND;TZID=Europe/London:20270103T114500
DTSTAMP:20260423T041458Z
UID:9539342027-01-03 10:30:00+00:00achurchnearyou
CATEGORIES:
DESCRIPTION:Holy Communion is celebrated the first Sunday of the month in 
 the usual Sunday morning service. We also have children's activities in th
 e hall.  Do come along and join us\, all are welcome.
GEO:-1.469388;53.43325
LOCATION:Sheffield: St Paul's\, Wordsworth Avenue
URL:https://www.stpaulswordsworth.org.uk/whats-on/sundays/
END:VEVENT
BEGIN:VEVENT
SUMMARY:Holy Communion
DTSTART;TZID=Europe/London:20270207T103000
DTEND;TZID=Europe/London:20270207T114500
DTSTAMP:20260423T041458Z
UID:9539342027-02-07 10:30:00+00:00achurchnearyou
CATEGORIES:
DESCRIPTION:Holy Communion is celebrated the first Sunday of the month in 
 the usual Sunday morning service. We also have children's activities in th
 e hall.  Do come along and join us\, all are welcome.
GEO:-1.469388;53.43325
LOCATION:Sheffield: St Paul's\, Wordsworth Avenue
URL:https://www.stpaulswordsworth.org.uk/whats-on/sundays/
END:VEVENT
BEGIN:VEVENT
SUMMARY:Holy Communion
DTSTART;TZID=Europe/London:20270307T103000
DTEND;TZID=Europe/London:20270307T114500
DTSTAMP:20260423T041458Z
UID:9539342027-03-07 10:30:00+00:00achurchnearyou
CATEGORIES:
DESCRIPTION:Holy Communion is celebrated the first Sunday of the month in 
 the usual Sunday morning service. We also have children's activities in th
 e hall.  Do come along and join us\, all are welcome.
GEO:-1.469388;53.43325
LOCATION:Sheffield: St Paul's\, Wordsworth Avenue
URL:https://www.stpaulswordsworth.org.uk/whats-on/sundays/
END:VEVENT
BEGIN:VEVENT
SUMMARY:Holy Communion
DTSTART;TZID=Europe/London:20270404T103000
DTEND;TZID=Europe/London:20270404T114500
DTSTAMP:20260423T041458Z
UID:9539342027-04-04 10:30:00+01:00achurchnearyou
CATEGORIES:
DESCRIPTION:Holy Communion is celebrated the first Sunday of the month in 
 the usual Sunday morning service. We also have children's activities in th
 e hall.  Do come along and join us\, all are welcome.
GEO:-1.469388;53.43325
LOCATION:Sheffield: St Paul's\, Wordsworth Avenue
URL:https://www.stpaulswordsworth.org.uk/whats-on/sundays/
END:VEVENT
END:VCALENDAR
