BEGIN:VCALENDAR
VERSION:2.0
PRODID:-//achurchnearyou.com//eventfeed//EN
CALSCALE:GREGORIAN
METHOD:PUBLISH
X-WR-TIMEZONE:UTC
BEGIN:VEVENT
SUMMARY:Annual Gift Day
DTSTART:20250830T070000Z
DTEND:20250830T120000Z
DTSTAMP:20260425T032545Z
UID:12165742025-08-30 07:00:00+00:00achurchnearyou
CATEGORIES:
DESCRIPTION:We are holding our annual Gift Day to raise funds for the ongo
 ing maintenance and ministry of Winterton Church. Church members will be c
 ollecting outside Poppies/the Post Office and we'd be grateful for your ki
 nd donations.
LOCATION:Outside Poppies Tearoom/Post Office
URL:https://www.achurchnearyou.com/church/6104/service-and-events/events/1
 216574/
END:VEVENT
END:VCALENDAR
