BEGIN:VCALENDAR
VERSION:2.0
PRODID:-//achurchnearyou.com//eventfeed//EN
CALSCALE:GREGORIAN
METHOD:PUBLISH
X-WR-TIMEZONE:UTC
BEGIN:VEVENT
SUMMARY:Advent Service
DTSTART:20251130T090000Z
DTEND:20251130T100000Z
DTSTAMP:20260424T194846Z
UID:12246232025-11-30 09:00:00+00:00achurchnearyou
CATEGORIES:
DESCRIPTION:This Sunday marks the beginning of Advent\, as the Church prep
 ares to celebrate the coming of Christ. Join us at this  Parish Communion 
  service as we light the first of our Advent candles.
GEO:1.686938;52.715428
LOCATION:Winterton: Holy Trinity & All Saints
URL:https://www.achurchnearyou.com/church/6104/service-and-events/events/1
 224623/
END:VEVENT
END:VCALENDAR
