BEGIN:VCALENDAR
VERSION:2.0
PRODID:-//achurchnearyou.com//eventfeed//EN
CALSCALE:GREGORIAN
METHOD:PUBLISH
X-WR-TIMEZONE:UTC
BEGIN:VEVENT
SUMMARY:Table Top Sale
DTSTART;TZID=Europe/London:20250524T090000
DTEND;TZID=Europe/London:20250524T120000
DTSTAMP:20260425T050248Z
UID:8484492025-05-24 09:00:00+01:00achurchnearyou
CATEGORIES:
DESCRIPTION:Donations of paperback books and bric-a-brac welcome.  Do come
  and join us and help raise funds for Winterton Church.
LOCATION:Church Rooms
URL:https://www.achurchnearyou.com/church/6104/service-and-events/events/8
 48449/
END:VEVENT
BEGIN:VEVENT
SUMMARY:Table Top Sale
DTSTART;TZID=Europe/London:20250531T090000
DTEND;TZID=Europe/London:20250531T120000
DTSTAMP:20260425T050248Z
UID:8484492025-05-31 09:00:00+01:00achurchnearyou
CATEGORIES:
DESCRIPTION:Donations of paperback books and bric-a-brac welcome.  Do come
  and join us and help raise funds for Winterton Church.
LOCATION:Church Rooms
URL:https://www.achurchnearyou.com/church/6104/service-and-events/events/8
 48449/
END:VEVENT
BEGIN:VEVENT
SUMMARY:Table Top Sale
DTSTART;TZID=Europe/London:20250607T090000
DTEND;TZID=Europe/London:20250607T120000
DTSTAMP:20260425T050248Z
UID:8484492025-06-07 09:00:00+01:00achurchnearyou
CATEGORIES:
DESCRIPTION:Donations of paperback books and bric-a-brac welcome.  Do come
  and join us and help raise funds for Winterton Church.
LOCATION:Church Rooms
URL:https://www.achurchnearyou.com/church/6104/service-and-events/events/8
 48449/
END:VEVENT
BEGIN:VEVENT
SUMMARY:Table Top Sale
DTSTART;TZID=Europe/London:20250614T090000
DTEND;TZID=Europe/London:20250614T120000
DTSTAMP:20260425T050248Z
UID:8484492025-06-14 09:00:00+01:00achurchnearyou
CATEGORIES:
DESCRIPTION:Donations of paperback books and bric-a-brac welcome.  Do come
  and join us and help raise funds for Winterton Church.
LOCATION:Church Rooms
URL:https://www.achurchnearyou.com/church/6104/service-and-events/events/8
 48449/
END:VEVENT
BEGIN:VEVENT
SUMMARY:Table Top Sale
DTSTART;TZID=Europe/London:20250621T090000
DTEND;TZID=Europe/London:20250621T120000
DTSTAMP:20260425T050248Z
UID:8484492025-06-21 09:00:00+01:00achurchnearyou
CATEGORIES:
DESCRIPTION:Donations of paperback books and bric-a-brac welcome.  Do come
  and join us and help raise funds for Winterton Church.
LOCATION:Church Rooms
URL:https://www.achurchnearyou.com/church/6104/service-and-events/events/8
 48449/
END:VEVENT
BEGIN:VEVENT
SUMMARY:Table Top Sale
DTSTART;TZID=Europe/London:20250628T090000
DTEND;TZID=Europe/London:20250628T120000
DTSTAMP:20260425T050248Z
UID:8484492025-06-28 09:00:00+01:00achurchnearyou
CATEGORIES:
DESCRIPTION:Donations of paperback books and bric-a-brac welcome.  Do come
  and join us and help raise funds for Winterton Church.
LOCATION:Church Rooms
URL:https://www.achurchnearyou.com/church/6104/service-and-events/events/8
 48449/
END:VEVENT
BEGIN:VEVENT
SUMMARY:Table Top Sale
DTSTART;TZID=Europe/London:20250705T090000
DTEND;TZID=Europe/London:20250705T120000
DTSTAMP:20260425T050248Z
UID:8484492025-07-05 09:00:00+01:00achurchnearyou
CATEGORIES:
DESCRIPTION:Donations of paperback books and bric-a-brac welcome.  Do come
  and join us and help raise funds for Winterton Church.
LOCATION:Church Rooms
URL:https://www.achurchnearyou.com/church/6104/service-and-events/events/8
 48449/
END:VEVENT
BEGIN:VEVENT
SUMMARY:Table Top Sale
DTSTART;TZID=Europe/London:20250712T090000
DTEND;TZID=Europe/London:20250712T120000
DTSTAMP:20260425T050248Z
UID:8484492025-07-12 09:00:00+01:00achurchnearyou
CATEGORIES:
DESCRIPTION:Donations of paperback books and bric-a-brac welcome.  Do come
  and join us and help raise funds for Winterton Church.
LOCATION:Church Rooms
URL:https://www.achurchnearyou.com/church/6104/service-and-events/events/8
 48449/
END:VEVENT
BEGIN:VEVENT
SUMMARY:Table Top Sale
DTSTART;TZID=Europe/London:20250719T090000
DTEND;TZID=Europe/London:20250719T120000
DTSTAMP:20260425T050248Z
UID:8484492025-07-19 09:00:00+01:00achurchnearyou
CATEGORIES:
DESCRIPTION:Donations of paperback books and bric-a-brac welcome.  Do come
  and join us and help raise funds for Winterton Church.
LOCATION:Church Rooms
URL:https://www.achurchnearyou.com/church/6104/service-and-events/events/8
 48449/
END:VEVENT
BEGIN:VEVENT
SUMMARY:Table Top Sale
DTSTART;TZID=Europe/London:20250726T090000
DTEND;TZID=Europe/London:20250726T120000
DTSTAMP:20260425T050248Z
UID:8484492025-07-26 09:00:00+01:00achurchnearyou
CATEGORIES:
DESCRIPTION:Donations of paperback books and bric-a-brac welcome.  Do come
  and join us and help raise funds for Winterton Church.
LOCATION:Church Rooms
URL:https://www.achurchnearyou.com/church/6104/service-and-events/events/8
 48449/
END:VEVENT
BEGIN:VEVENT
SUMMARY:Table Top Sale
DTSTART;TZID=Europe/London:20250802T090000
DTEND;TZID=Europe/London:20250802T120000
DTSTAMP:20260425T050248Z
UID:8484492025-08-02 09:00:00+01:00achurchnearyou
CATEGORIES:
DESCRIPTION:Donations of paperback books and bric-a-brac welcome.  Do come
  and join us and help raise funds for Winterton Church.
LOCATION:Church Rooms
URL:https://www.achurchnearyou.com/church/6104/service-and-events/events/8
 48449/
END:VEVENT
BEGIN:VEVENT
SUMMARY:Table Top Sale
DTSTART;TZID=Europe/London:20250809T090000
DTEND;TZID=Europe/London:20250809T120000
DTSTAMP:20260425T050248Z
UID:8484492025-08-09 09:00:00+01:00achurchnearyou
CATEGORIES:
DESCRIPTION:Donations of paperback books and bric-a-brac welcome.  Do come
  and join us and help raise funds for Winterton Church.
LOCATION:Church Rooms
URL:https://www.achurchnearyou.com/church/6104/service-and-events/events/8
 48449/
END:VEVENT
BEGIN:VEVENT
SUMMARY:Table Top Sale
DTSTART;TZID=Europe/London:20250816T090000
DTEND;TZID=Europe/London:20250816T120000
DTSTAMP:20260425T050248Z
UID:8484492025-08-16 09:00:00+01:00achurchnearyou
CATEGORIES:
DESCRIPTION:Donations of paperback books and bric-a-brac welcome.  Do come
  and join us and help raise funds for Winterton Church.
LOCATION:Church Rooms
URL:https://www.achurchnearyou.com/church/6104/service-and-events/events/8
 48449/
END:VEVENT
BEGIN:VEVENT
SUMMARY:Table Top Sale
DTSTART;TZID=Europe/London:20250823T090000
DTEND;TZID=Europe/London:20250823T120000
DTSTAMP:20260425T050248Z
UID:8484492025-08-23 09:00:00+01:00achurchnearyou
CATEGORIES:
DESCRIPTION:Donations of paperback books and bric-a-brac welcome.  Do come
  and join us and help raise funds for Winterton Church.
LOCATION:Church Rooms
URL:https://www.achurchnearyou.com/church/6104/service-and-events/events/8
 48449/
END:VEVENT
BEGIN:VEVENT
SUMMARY:Table Top Sale
DTSTART;TZID=Europe/London:20250830T090000
DTEND;TZID=Europe/London:20250830T120000
DTSTAMP:20260425T050248Z
UID:8484492025-08-30 09:00:00+01:00achurchnearyou
CATEGORIES:
DESCRIPTION:Donations of paperback books and bric-a-brac welcome.  Do come
  and join us and help raise funds for Winterton Church.
LOCATION:Church Rooms
URL:https://www.achurchnearyou.com/church/6104/service-and-events/events/8
 48449/
END:VEVENT
END:VCALENDAR
