BEGIN:VCALENDAR
VERSION:2.0
PRODID:-//achurchnearyou.com//eventfeed//EN
CALSCALE:GREGORIAN
METHOD:PUBLISH
X-WR-TIMEZONE:UTC
BEGIN:VEVENT
SUMMARY:Flegg North Communion Service
DTSTART:20241229T100000Z
DTEND:20241229T110000Z
DTSTAMP:20260425T144429Z
UID:10926032024-12-29 10:00:00+00:00achurchnearyou
CATEGORIES:
DESCRIPTION:The service will be held at Somerton Church.  Do come and join
  us you will be most welcome.
LOCATION:Somerton Church
URL:https://www.achurchnearyou.com/church/6106/service-and-events/events/1
 092603/
END:VEVENT
END:VCALENDAR
