BEGIN:VCALENDAR
VERSION:2.0
PRODID:-//achurchnearyou.com//eventfeed//EN
CALSCALE:GREGORIAN
METHOD:PUBLISH
X-WR-TIMEZONE:UTC
BEGIN:VEVENT
SUMMARY:Remembrance Service
DTSTART:20251109T104500Z
DTEND:20251109T120000Z
DTSTAMP:20260424T215511Z
UID:12246182025-11-09 10:45:00+00:00achurchnearyou
CATEGORIES:
DESCRIPTION:A special service to  honour those who gave their lives for th
 e peace of our nation.   Please meet at  10.45am at Somerton War Memorial 
 for the Act of Remembrance\, followed by  the Church service.
GEO:1.663281;52.716899
LOCATION:St Mary's\, West Somerton
URL:https://www.achurchnearyou.com/church/6106/service-and-events/events/1
 224618/
END:VEVENT
END:VCALENDAR
