BEGIN:VCALENDAR
VERSION:2.0
PRODID:-//achurchnearyou.com//eventfeed//EN
CALSCALE:GREGORIAN
METHOD:PUBLISH
X-WR-TIMEZONE:UTC
BEGIN:VEVENT
SUMMARY:Good Friday
DTSTART:20260403T091500Z
DTEND:20260403T101500Z
DTSTAMP:20260424T012820Z
UID:12976012026-04-03 09:15:00+00:00achurchnearyou
CATEGORIES:
DESCRIPTION:Stations of the Cross led by Bishop Philip
LOCATION:St Mary the Virgin
URL:https://www.achurchnearyou.com/church/6127/service-and-events/events/1
 297601/
END:VEVENT
END:VCALENDAR
