BEGIN:VCALENDAR
VERSION:2.0
PRODID:-//achurchnearyou.com//eventfeed//EN
CALSCALE:GREGORIAN
METHOD:PUBLISH
X-WR-TIMEZONE:UTC
BEGIN:VEVENT
SUMMARY:Morning Worship
DTSTART;TZID=Europe/London:20260621T110000
DTEND;TZID=Europe/London:20260621T114500
DTSTAMP:20260424T193906Z
UID:10214492026-06-21 11:00:00+01:00achurchnearyou
CATEGORIES:
DESCRIPTION:All welcome to our morning service.
GEO:0.304256;51.794859
LOCATION:Leaden Roding: St Michael
URL:https://www.regc.org.uk/weekly-church-services
END:VEVENT
BEGIN:VEVENT
SUMMARY:Morning Worship
DTSTART;TZID=Europe/London:20260816T110000
DTEND;TZID=Europe/London:20260816T114500
DTSTAMP:20260424T193906Z
UID:10214492026-08-16 11:00:00+01:00achurchnearyou
CATEGORIES:
DESCRIPTION:All welcome to our morning service.
GEO:0.304256;51.794859
LOCATION:Leaden Roding: St Michael
URL:https://www.regc.org.uk/weekly-church-services
END:VEVENT
BEGIN:VEVENT
SUMMARY:Morning Worship
DTSTART;TZID=Europe/London:20261018T110000
DTEND;TZID=Europe/London:20261018T114500
DTSTAMP:20260424T193906Z
UID:10214492026-10-18 11:00:00+01:00achurchnearyou
CATEGORIES:
DESCRIPTION:All welcome to our morning service.
GEO:0.304256;51.794859
LOCATION:Leaden Roding: St Michael
URL:https://www.regc.org.uk/weekly-church-services
END:VEVENT
BEGIN:VEVENT
SUMMARY:Morning Worship
DTSTART;TZID=Europe/London:20270221T110000
DTEND;TZID=Europe/London:20270221T114500
DTSTAMP:20260424T193906Z
UID:10214492027-02-21 11:00:00+00:00achurchnearyou
CATEGORIES:
DESCRIPTION:All welcome to our morning service.
GEO:0.304256;51.794859
LOCATION:Leaden Roding: St Michael
URL:https://www.regc.org.uk/weekly-church-services
END:VEVENT
END:VCALENDAR
