BEGIN:VCALENDAR
VERSION:2.0
PRODID:-//achurchnearyou.com//eventfeed//EN
CALSCALE:GREGORIAN
METHOD:PUBLISH
X-WR-TIMEZONE:UTC
BEGIN:VEVENT
SUMMARY:Annual Parochial Church Meeting
DTSTART:20250525T110000Z
DTEND:20250525T120000Z
DTSTAMP:20260425T220712Z
UID:1276372025-05-25 11:00:00+00:00achurchnearyou
CATEGORIES:
DESCRIPTION:Annual Parochial Church Meeting of the South Rodings Parish (A
 bbess\, Beauchamp\, Leaden and White Roding) on Sunday 25th May 2025. Elec
 tions will be held for the following positions: Church Wardens\, Deputy Ch
 urch Wardens\, Deanery Synod Representative and members of the South Rodin
 gs PCC. All Church members are encouraged to attend.
LOCATION:St Martin's Church
URL:https://www.regc.org.uk/weekly-church-services
END:VEVENT
END:VCALENDAR
