BEGIN:VCALENDAR
VERSION:2.0
PRODID:-//achurchnearyou.com//eventfeed//EN
CALSCALE:GREGORIAN
METHOD:PUBLISH
X-WR-TIMEZONE:UTC
BEGIN:VEVENT
SUMMARY:Holy Communion
DTSTART;TZID=Europe/London:20260517T093000
DTEND;TZID=Europe/London:20260517T103000
DTSTAMP:20260424T193509Z
UID:7651292026-05-17 09:30:00+01:00achurchnearyou
CATEGORIES:
DESCRIPTION:All welcome to our service of Holy Communion from Common Worsh
 ip.
GEO:0.304256;51.794859
LOCATION:Leaden Roding: St Michael
URL:https://www.regc.org.uk/weekly-church-services
END:VEVENT
BEGIN:VEVENT
SUMMARY:Holy Communion
DTSTART;TZID=Europe/London:20270117T093000
DTEND;TZID=Europe/London:20270117T103000
DTSTAMP:20260424T193509Z
UID:7651292027-01-17 09:30:00+00:00achurchnearyou
CATEGORIES:
DESCRIPTION:All welcome to our service of Holy Communion from Common Worsh
 ip.
GEO:0.304256;51.794859
LOCATION:Leaden Roding: St Michael
URL:https://www.regc.org.uk/weekly-church-services
END:VEVENT
BEGIN:VEVENT
SUMMARY:Holy Communion
DTSTART;TZID=Europe/London:20270321T093000
DTEND;TZID=Europe/London:20270321T103000
DTSTAMP:20260424T193509Z
UID:7651292027-03-21 09:30:00+00:00achurchnearyou
CATEGORIES:
DESCRIPTION:All welcome to our service of Holy Communion from Common Worsh
 ip.
GEO:0.304256;51.794859
LOCATION:Leaden Roding: St Michael
URL:https://www.regc.org.uk/weekly-church-services
END:VEVENT
END:VCALENDAR
