BEGIN:VCALENDAR
VERSION:2.0
PRODID:-//achurchnearyou.com//eventfeed//EN
CALSCALE:GREGORIAN
METHOD:PUBLISH
X-WR-TIMEZONE:UTC
BEGIN:VEVENT
SUMMARY:Abbey Toddlers Morning
DTSTART;TZID=Europe/London:20250121T100000
DTEND;TZID=Europe/London:20250121T113000
DTSTAMP:20260419T161716Z
UID:11479012025-01-21 10:00:00+00:00achurchnearyou
CATEGORIES:
DESCRIPTION:Come and join the fun for ages 0-5. There will be free play fo
 r the first half an hour. We will then all come together to sing some song
 s\, read a Bible story and do a craft activity. The last part of the sessi
 on will include some bubbles and free play.\nA suggested £2 donation
URL:https://stmargaretschurchbarking.com
END:VEVENT
BEGIN:VEVENT
SUMMARY:Abbey Toddlers Morning
DTSTART;TZID=Europe/London:20250128T100000
DTEND;TZID=Europe/London:20250128T113000
DTSTAMP:20260419T161716Z
UID:11479012025-01-28 10:00:00+00:00achurchnearyou
CATEGORIES:
DESCRIPTION:Come and join the fun for ages 0-5. There will be free play fo
 r the first half an hour. We will then all come together to sing some song
 s\, read a Bible story and do a craft activity. The last part of the sessi
 on will include some bubbles and free play.\nA suggested £2 donation
URL:https://stmargaretschurchbarking.com
END:VEVENT
BEGIN:VEVENT
SUMMARY:Abbey Toddlers Morning
DTSTART;TZID=Europe/London:20250204T100000
DTEND;TZID=Europe/London:20250204T113000
DTSTAMP:20260419T161716Z
UID:11479012025-02-04 10:00:00+00:00achurchnearyou
CATEGORIES:
DESCRIPTION:Come and join the fun for ages 0-5. There will be free play fo
 r the first half an hour. We will then all come together to sing some song
 s\, read a Bible story and do a craft activity. The last part of the sessi
 on will include some bubbles and free play.\nA suggested £2 donation
URL:https://stmargaretschurchbarking.com
END:VEVENT
BEGIN:VEVENT
SUMMARY:Abbey Toddlers Morning
DTSTART;TZID=Europe/London:20250211T100000
DTEND;TZID=Europe/London:20250211T113000
DTSTAMP:20260419T161716Z
UID:11479012025-02-11 10:00:00+00:00achurchnearyou
CATEGORIES:
DESCRIPTION:Come and join the fun for ages 0-5. There will be free play fo
 r the first half an hour. We will then all come together to sing some song
 s\, read a Bible story and do a craft activity. The last part of the sessi
 on will include some bubbles and free play.\nA suggested £2 donation
URL:https://stmargaretschurchbarking.com
END:VEVENT
BEGIN:VEVENT
SUMMARY:Abbey Toddlers Morning
DTSTART;TZID=Europe/London:20250218T100000
DTEND;TZID=Europe/London:20250218T113000
DTSTAMP:20260419T161716Z
UID:11479012025-02-18 10:00:00+00:00achurchnearyou
CATEGORIES:
DESCRIPTION:Come and join the fun for ages 0-5. There will be free play fo
 r the first half an hour. We will then all come together to sing some song
 s\, read a Bible story and do a craft activity. The last part of the sessi
 on will include some bubbles and free play.\nA suggested £2 donation
URL:https://stmargaretschurchbarking.com
END:VEVENT
BEGIN:VEVENT
SUMMARY:Abbey Toddlers Morning
DTSTART;TZID=Europe/London:20250225T100000
DTEND;TZID=Europe/London:20250225T113000
DTSTAMP:20260419T161716Z
UID:11479012025-02-25 10:00:00+00:00achurchnearyou
CATEGORIES:
DESCRIPTION:Come and join the fun for ages 0-5. There will be free play fo
 r the first half an hour. We will then all come together to sing some song
 s\, read a Bible story and do a craft activity. The last part of the sessi
 on will include some bubbles and free play.\nA suggested £2 donation
URL:https://stmargaretschurchbarking.com
END:VEVENT
END:VCALENDAR
