BEGIN:VCALENDAR
VERSION:2.0
PRODID:-//achurchnearyou.com//eventfeed//EN
CALSCALE:GREGORIAN
METHOD:PUBLISH
X-WR-TIMEZONE:UTC
BEGIN:VEVENT
SUMMARY:Bubble Church!
DTSTART;TZID=Europe/London:20250119T090000
DTEND;TZID=Europe/London:20250119T094500
DTSTAMP:20260424T125620Z
UID:11487262025-01-19 09:00:00+00:00achurchnearyou
CATEGORIES:
DESCRIPTION:A monthly croissant-fuelled\, fun packed Service for young fam
 ilies with puppets\, action songs\, and a bible story.
GEO:0.420627;51.638736
LOCATION:Christ Church Billericay
URL:https://www.achurchnearyou.com/church/6186/service-and-events/events/1
 148726/
END:VEVENT
BEGIN:VEVENT
SUMMARY:Bubble Church!
DTSTART;TZID=Europe/London:20250216T090000
DTEND;TZID=Europe/London:20250216T094500
DTSTAMP:20260424T125620Z
UID:11487262025-02-16 09:00:00+00:00achurchnearyou
CATEGORIES:
DESCRIPTION:A monthly croissant-fuelled\, fun packed Service for young fam
 ilies with puppets\, action songs\, and a bible story.
GEO:0.420627;51.638736
LOCATION:Christ Church Billericay
URL:https://www.achurchnearyou.com/church/6186/service-and-events/events/1
 148726/
END:VEVENT
BEGIN:VEVENT
SUMMARY:Bubble Church!
DTSTART;TZID=Europe/London:20250316T090000
DTEND;TZID=Europe/London:20250316T094500
DTSTAMP:20260424T125620Z
UID:11487262025-03-16 09:00:00+00:00achurchnearyou
CATEGORIES:
DESCRIPTION:A monthly croissant-fuelled\, fun packed Service for young fam
 ilies with puppets\, action songs\, and a bible story.
GEO:0.420627;51.638736
LOCATION:Christ Church Billericay
URL:https://www.achurchnearyou.com/church/6186/service-and-events/events/1
 148726/
END:VEVENT
BEGIN:VEVENT
SUMMARY:Bubble Church!
DTSTART;TZID=Europe/London:20250420T090000
DTEND;TZID=Europe/London:20250420T094500
DTSTAMP:20260424T125620Z
UID:11487262025-04-20 09:00:00+01:00achurchnearyou
CATEGORIES:
DESCRIPTION:A monthly croissant-fuelled\, fun packed Service for young fam
 ilies with puppets\, action songs\, and a bible story.
GEO:0.420627;51.638736
LOCATION:Christ Church Billericay
URL:https://www.achurchnearyou.com/church/6186/service-and-events/events/1
 148726/
END:VEVENT
BEGIN:VEVENT
SUMMARY:Bubble Church!
DTSTART;TZID=Europe/London:20250518T090000
DTEND;TZID=Europe/London:20250518T094500
DTSTAMP:20260424T125620Z
UID:11487262025-05-18 09:00:00+01:00achurchnearyou
CATEGORIES:
DESCRIPTION:A monthly croissant-fuelled\, fun packed Service for young fam
 ilies with puppets\, action songs\, and a bible story.
GEO:0.420627;51.638736
LOCATION:Christ Church Billericay
URL:https://www.achurchnearyou.com/church/6186/service-and-events/events/1
 148726/
END:VEVENT
BEGIN:VEVENT
SUMMARY:Bubble Church!
DTSTART;TZID=Europe/London:20250615T090000
DTEND;TZID=Europe/London:20250615T094500
DTSTAMP:20260424T125620Z
UID:11487262025-06-15 09:00:00+01:00achurchnearyou
CATEGORIES:
DESCRIPTION:A monthly croissant-fuelled\, fun packed Service for young fam
 ilies with puppets\, action songs\, and a bible story.
GEO:0.420627;51.638736
LOCATION:Christ Church Billericay
URL:https://www.achurchnearyou.com/church/6186/service-and-events/events/1
 148726/
END:VEVENT
BEGIN:VEVENT
SUMMARY:Bubble Church!
DTSTART;TZID=Europe/London:20250720T090000
DTEND;TZID=Europe/London:20250720T094500
DTSTAMP:20260424T125620Z
UID:11487262025-07-20 09:00:00+01:00achurchnearyou
CATEGORIES:
DESCRIPTION:A monthly croissant-fuelled\, fun packed Service for young fam
 ilies with puppets\, action songs\, and a bible story.
GEO:0.420627;51.638736
LOCATION:Christ Church Billericay
URL:https://www.achurchnearyou.com/church/6186/service-and-events/events/1
 148726/
END:VEVENT
BEGIN:VEVENT
SUMMARY:Bubble Church!
DTSTART;TZID=Europe/London:20250817T090000
DTEND;TZID=Europe/London:20250817T094500
DTSTAMP:20260424T125620Z
UID:11487262025-08-17 09:00:00+01:00achurchnearyou
CATEGORIES:
DESCRIPTION:A monthly croissant-fuelled\, fun packed Service for young fam
 ilies with puppets\, action songs\, and a bible story.
GEO:0.420627;51.638736
LOCATION:Christ Church Billericay
URL:https://www.achurchnearyou.com/church/6186/service-and-events/events/1
 148726/
END:VEVENT
BEGIN:VEVENT
SUMMARY:Bubble Church!
DTSTART;TZID=Europe/London:20250921T090000
DTEND;TZID=Europe/London:20250921T094500
DTSTAMP:20260424T125620Z
UID:11487262025-09-21 09:00:00+01:00achurchnearyou
CATEGORIES:
DESCRIPTION:A monthly croissant-fuelled\, fun packed Service for young fam
 ilies with puppets\, action songs\, and a bible story.
GEO:0.420627;51.638736
LOCATION:Christ Church Billericay
URL:https://www.achurchnearyou.com/church/6186/service-and-events/events/1
 148726/
END:VEVENT
BEGIN:VEVENT
SUMMARY:Bubble Church!
DTSTART;TZID=Europe/London:20251019T090000
DTEND;TZID=Europe/London:20251019T094500
DTSTAMP:20260424T125620Z
UID:11487262025-10-19 09:00:00+01:00achurchnearyou
CATEGORIES:
DESCRIPTION:A monthly croissant-fuelled\, fun packed Service for young fam
 ilies with puppets\, action songs\, and a bible story.
GEO:0.420627;51.638736
LOCATION:Christ Church Billericay
URL:https://www.achurchnearyou.com/church/6186/service-and-events/events/1
 148726/
END:VEVENT
BEGIN:VEVENT
SUMMARY:Bubble Church!
DTSTART;TZID=Europe/London:20251116T090000
DTEND;TZID=Europe/London:20251116T094500
DTSTAMP:20260424T125620Z
UID:11487262025-11-16 09:00:00+00:00achurchnearyou
CATEGORIES:
DESCRIPTION:A monthly croissant-fuelled\, fun packed Service for young fam
 ilies with puppets\, action songs\, and a bible story.
GEO:0.420627;51.638736
LOCATION:Christ Church Billericay
URL:https://www.achurchnearyou.com/church/6186/service-and-events/events/1
 148726/
END:VEVENT
BEGIN:VEVENT
SUMMARY:Bubble Church!
DTSTART;TZID=Europe/London:20251221T090000
DTEND;TZID=Europe/London:20251221T094500
DTSTAMP:20260424T125620Z
UID:11487262025-12-21 09:00:00+00:00achurchnearyou
CATEGORIES:
DESCRIPTION:A monthly croissant-fuelled\, fun packed Service for young fam
 ilies with puppets\, action songs\, and a bible story.
GEO:0.420627;51.638736
LOCATION:Christ Church Billericay
URL:https://www.achurchnearyou.com/church/6186/service-and-events/events/1
 148726/
END:VEVENT
BEGIN:VEVENT
SUMMARY:Bubble Church!
DTSTART;TZID=Europe/London:20260118T090000
DTEND;TZID=Europe/London:20260118T094500
DTSTAMP:20260424T125620Z
UID:11487262026-01-18 09:00:00+00:00achurchnearyou
CATEGORIES:
DESCRIPTION:A monthly croissant-fuelled\, fun packed Service for young fam
 ilies with puppets\, action songs\, and a bible story.
GEO:0.420627;51.638736
LOCATION:Christ Church Billericay
URL:https://www.achurchnearyou.com/church/6186/service-and-events/events/1
 148726/
END:VEVENT
BEGIN:VEVENT
SUMMARY:Bubble Church!
DTSTART;TZID=Europe/London:20260215T090000
DTEND;TZID=Europe/London:20260215T094500
DTSTAMP:20260424T125620Z
UID:11487262026-02-15 09:00:00+00:00achurchnearyou
CATEGORIES:
DESCRIPTION:A monthly croissant-fuelled\, fun packed Service for young fam
 ilies with puppets\, action songs\, and a bible story.
GEO:0.420627;51.638736
LOCATION:Christ Church Billericay
URL:https://www.achurchnearyou.com/church/6186/service-and-events/events/1
 148726/
END:VEVENT
BEGIN:VEVENT
SUMMARY:Bubble Church!
DTSTART;TZID=Europe/London:20260315T090000
DTEND;TZID=Europe/London:20260315T094500
DTSTAMP:20260424T125620Z
UID:11487262026-03-15 09:00:00+00:00achurchnearyou
CATEGORIES:
DESCRIPTION:A monthly croissant-fuelled\, fun packed Service for young fam
 ilies with puppets\, action songs\, and a bible story.
GEO:0.420627;51.638736
LOCATION:Christ Church Billericay
URL:https://www.achurchnearyou.com/church/6186/service-and-events/events/1
 148726/
END:VEVENT
BEGIN:VEVENT
SUMMARY:Bubble Church!
DTSTART;TZID=Europe/London:20260419T090000
DTEND;TZID=Europe/London:20260419T094500
DTSTAMP:20260424T125620Z
UID:11487262026-04-19 09:00:00+01:00achurchnearyou
CATEGORIES:
DESCRIPTION:A monthly croissant-fuelled\, fun packed Service for young fam
 ilies with puppets\, action songs\, and a bible story.
GEO:0.420627;51.638736
LOCATION:Christ Church Billericay
URL:https://www.achurchnearyou.com/church/6186/service-and-events/events/1
 148726/
END:VEVENT
BEGIN:VEVENT
SUMMARY:Bubble Church!
DTSTART;TZID=Europe/London:20260517T090000
DTEND;TZID=Europe/London:20260517T094500
DTSTAMP:20260424T125620Z
UID:11487262026-05-17 09:00:00+01:00achurchnearyou
CATEGORIES:
DESCRIPTION:A monthly croissant-fuelled\, fun packed Service for young fam
 ilies with puppets\, action songs\, and a bible story.
GEO:0.420627;51.638736
LOCATION:Christ Church Billericay
URL:https://www.achurchnearyou.com/church/6186/service-and-events/events/1
 148726/
END:VEVENT
BEGIN:VEVENT
SUMMARY:Bubble Church!
DTSTART;TZID=Europe/London:20260621T090000
DTEND;TZID=Europe/London:20260621T094500
DTSTAMP:20260424T125620Z
UID:11487262026-06-21 09:00:00+01:00achurchnearyou
CATEGORIES:
DESCRIPTION:A monthly croissant-fuelled\, fun packed Service for young fam
 ilies with puppets\, action songs\, and a bible story.
GEO:0.420627;51.638736
LOCATION:Christ Church Billericay
URL:https://www.achurchnearyou.com/church/6186/service-and-events/events/1
 148726/
END:VEVENT
BEGIN:VEVENT
SUMMARY:Bubble Church!
DTSTART;TZID=Europe/London:20260719T090000
DTEND;TZID=Europe/London:20260719T094500
DTSTAMP:20260424T125620Z
UID:11487262026-07-19 09:00:00+01:00achurchnearyou
CATEGORIES:
DESCRIPTION:A monthly croissant-fuelled\, fun packed Service for young fam
 ilies with puppets\, action songs\, and a bible story.
GEO:0.420627;51.638736
LOCATION:Christ Church Billericay
URL:https://www.achurchnearyou.com/church/6186/service-and-events/events/1
 148726/
END:VEVENT
BEGIN:VEVENT
SUMMARY:Bubble Church!
DTSTART;TZID=Europe/London:20260816T090000
DTEND;TZID=Europe/London:20260816T094500
DTSTAMP:20260424T125620Z
UID:11487262026-08-16 09:00:00+01:00achurchnearyou
CATEGORIES:
DESCRIPTION:A monthly croissant-fuelled\, fun packed Service for young fam
 ilies with puppets\, action songs\, and a bible story.
GEO:0.420627;51.638736
LOCATION:Christ Church Billericay
URL:https://www.achurchnearyou.com/church/6186/service-and-events/events/1
 148726/
END:VEVENT
BEGIN:VEVENT
SUMMARY:Bubble Church!
DTSTART;TZID=Europe/London:20260920T090000
DTEND;TZID=Europe/London:20260920T094500
DTSTAMP:20260424T125620Z
UID:11487262026-09-20 09:00:00+01:00achurchnearyou
CATEGORIES:
DESCRIPTION:A monthly croissant-fuelled\, fun packed Service for young fam
 ilies with puppets\, action songs\, and a bible story.
GEO:0.420627;51.638736
LOCATION:Christ Church Billericay
URL:https://www.achurchnearyou.com/church/6186/service-and-events/events/1
 148726/
END:VEVENT
BEGIN:VEVENT
SUMMARY:Bubble Church!
DTSTART;TZID=Europe/London:20261018T090000
DTEND;TZID=Europe/London:20261018T094500
DTSTAMP:20260424T125620Z
UID:11487262026-10-18 09:00:00+01:00achurchnearyou
CATEGORIES:
DESCRIPTION:A monthly croissant-fuelled\, fun packed Service for young fam
 ilies with puppets\, action songs\, and a bible story.
GEO:0.420627;51.638736
LOCATION:Christ Church Billericay
URL:https://www.achurchnearyou.com/church/6186/service-and-events/events/1
 148726/
END:VEVENT
BEGIN:VEVENT
SUMMARY:Bubble Church!
DTSTART;TZID=Europe/London:20261115T090000
DTEND;TZID=Europe/London:20261115T094500
DTSTAMP:20260424T125620Z
UID:11487262026-11-15 09:00:00+00:00achurchnearyou
CATEGORIES:
DESCRIPTION:A monthly croissant-fuelled\, fun packed Service for young fam
 ilies with puppets\, action songs\, and a bible story.
GEO:0.420627;51.638736
LOCATION:Christ Church Billericay
URL:https://www.achurchnearyou.com/church/6186/service-and-events/events/1
 148726/
END:VEVENT
BEGIN:VEVENT
SUMMARY:Bubble Church!
DTSTART;TZID=Europe/London:20261220T090000
DTEND;TZID=Europe/London:20261220T094500
DTSTAMP:20260424T125620Z
UID:11487262026-12-20 09:00:00+00:00achurchnearyou
CATEGORIES:
DESCRIPTION:A monthly croissant-fuelled\, fun packed Service for young fam
 ilies with puppets\, action songs\, and a bible story.
GEO:0.420627;51.638736
LOCATION:Christ Church Billericay
URL:https://www.achurchnearyou.com/church/6186/service-and-events/events/1
 148726/
END:VEVENT
BEGIN:VEVENT
SUMMARY:Bubble Church!
DTSTART;TZID=Europe/London:20270117T090000
DTEND;TZID=Europe/London:20270117T094500
DTSTAMP:20260424T125620Z
UID:11487262027-01-17 09:00:00+00:00achurchnearyou
CATEGORIES:
DESCRIPTION:A monthly croissant-fuelled\, fun packed Service for young fam
 ilies with puppets\, action songs\, and a bible story.
GEO:0.420627;51.638736
LOCATION:Christ Church Billericay
URL:https://www.achurchnearyou.com/church/6186/service-and-events/events/1
 148726/
END:VEVENT
BEGIN:VEVENT
SUMMARY:Bubble Church!
DTSTART;TZID=Europe/London:20270221T090000
DTEND;TZID=Europe/London:20270221T094500
DTSTAMP:20260424T125620Z
UID:11487262027-02-21 09:00:00+00:00achurchnearyou
CATEGORIES:
DESCRIPTION:A monthly croissant-fuelled\, fun packed Service for young fam
 ilies with puppets\, action songs\, and a bible story.
GEO:0.420627;51.638736
LOCATION:Christ Church Billericay
URL:https://www.achurchnearyou.com/church/6186/service-and-events/events/1
 148726/
END:VEVENT
BEGIN:VEVENT
SUMMARY:Bubble Church!
DTSTART;TZID=Europe/London:20270321T090000
DTEND;TZID=Europe/London:20270321T094500
DTSTAMP:20260424T125620Z
UID:11487262027-03-21 09:00:00+00:00achurchnearyou
CATEGORIES:
DESCRIPTION:A monthly croissant-fuelled\, fun packed Service for young fam
 ilies with puppets\, action songs\, and a bible story.
GEO:0.420627;51.638736
LOCATION:Christ Church Billericay
URL:https://www.achurchnearyou.com/church/6186/service-and-events/events/1
 148726/
END:VEVENT
BEGIN:VEVENT
SUMMARY:Bubble Church!
DTSTART;TZID=Europe/London:20270418T090000
DTEND;TZID=Europe/London:20270418T094500
DTSTAMP:20260424T125620Z
UID:11487262027-04-18 09:00:00+01:00achurchnearyou
CATEGORIES:
DESCRIPTION:A monthly croissant-fuelled\, fun packed Service for young fam
 ilies with puppets\, action songs\, and a bible story.
GEO:0.420627;51.638736
LOCATION:Christ Church Billericay
URL:https://www.achurchnearyou.com/church/6186/service-and-events/events/1
 148726/
END:VEVENT
END:VCALENDAR
