BEGIN:VCALENDAR
VERSION:2.0
PRODID:-//achurchnearyou.com//eventfeed//EN
CALSCALE:GREGORIAN
METHOD:PUBLISH
X-WR-TIMEZONE:UTC
BEGIN:VEVENT
SUMMARY:Fifth Sunday Services:
DTSTART;TZID=Europe/London:20250831T103000
DTEND;TZID=Europe/London:20250831T113000
DTSTAMP:20260421T052400Z
UID:9696792025-08-31 10:30:00+01:00achurchnearyou
CATEGORIES:
DESCRIPTION:We are a Festival Church\, and hold services here at St Mary's
  on months with 5 Sundays.  The next fifth Sunday service is Holy Communio
 n on Palm Sunday 29th March at 10.30 am.  We also have a service for Ash W
 ednesday this year\, at 7.30 pm on Wednesday 18th February.
GEO:0.820749;51.831311
LOCATION:St Mary the Virgin\, Birch with Layer Breton
URL:https://www.achurchnearyou.com/church/6191/service-and-events/events/9
 69679/
END:VEVENT
BEGIN:VEVENT
SUMMARY:Fifth Sunday Services:
DTSTART;TZID=Europe/London:20251130T103000
DTEND;TZID=Europe/London:20251130T113000
DTSTAMP:20260421T052400Z
UID:9696792025-11-30 10:30:00+00:00achurchnearyou
CATEGORIES:
DESCRIPTION:We are a Festival Church\, and hold services here at St Mary's
  on months with 5 Sundays.  The next fifth Sunday service is Holy Communio
 n on Palm Sunday 29th March at 10.30 am.  We also have a service for Ash W
 ednesday this year\, at 7.30 pm on Wednesday 18th February.
GEO:0.820749;51.831311
LOCATION:St Mary the Virgin\, Birch with Layer Breton
URL:https://www.achurchnearyou.com/church/6191/service-and-events/events/9
 69679/
END:VEVENT
BEGIN:VEVENT
SUMMARY:Fifth Sunday Services:
DTSTART;TZID=Europe/London:20260329T103000
DTEND;TZID=Europe/London:20260329T113000
DTSTAMP:20260421T052400Z
UID:9696792026-03-29 10:30:00+01:00achurchnearyou
CATEGORIES:
DESCRIPTION:We are a Festival Church\, and hold services here at St Mary's
  on months with 5 Sundays.  The next fifth Sunday service is Holy Communio
 n on Palm Sunday 29th March at 10.30 am.  We also have a service for Ash W
 ednesday this year\, at 7.30 pm on Wednesday 18th February.
GEO:0.820749;51.831311
LOCATION:St Mary the Virgin\, Birch with Layer Breton
URL:https://www.achurchnearyou.com/church/6191/service-and-events/events/9
 69679/
END:VEVENT
BEGIN:VEVENT
SUMMARY:Fifth Sunday Services:
DTSTART;TZID=Europe/London:20260531T103000
DTEND;TZID=Europe/London:20260531T113000
DTSTAMP:20260421T052400Z
UID:9696792026-05-31 10:30:00+01:00achurchnearyou
CATEGORIES:
DESCRIPTION:We are a Festival Church\, and hold services here at St Mary's
  on months with 5 Sundays.  The next fifth Sunday service is Holy Communio
 n on Palm Sunday 29th March at 10.30 am.  We also have a service for Ash W
 ednesday this year\, at 7.30 pm on Wednesday 18th February.
GEO:0.820749;51.831311
LOCATION:St Mary the Virgin\, Birch with Layer Breton
URL:https://www.achurchnearyou.com/church/6191/service-and-events/events/9
 69679/
END:VEVENT
BEGIN:VEVENT
SUMMARY:Fifth Sunday Services:
DTSTART;TZID=Europe/London:20260830T103000
DTEND;TZID=Europe/London:20260830T113000
DTSTAMP:20260421T052400Z
UID:9696792026-08-30 10:30:00+01:00achurchnearyou
CATEGORIES:
DESCRIPTION:We are a Festival Church\, and hold services here at St Mary's
  on months with 5 Sundays.  The next fifth Sunday service is Holy Communio
 n on Palm Sunday 29th March at 10.30 am.  We also have a service for Ash W
 ednesday this year\, at 7.30 pm on Wednesday 18th February.
GEO:0.820749;51.831311
LOCATION:St Mary the Virgin\, Birch with Layer Breton
URL:https://www.achurchnearyou.com/church/6191/service-and-events/events/9
 69679/
END:VEVENT
BEGIN:VEVENT
SUMMARY:Fifth Sunday Services:
DTSTART;TZID=Europe/London:20261129T103000
DTEND;TZID=Europe/London:20261129T113000
DTSTAMP:20260421T052400Z
UID:9696792026-11-29 10:30:00+00:00achurchnearyou
CATEGORIES:
DESCRIPTION:We are a Festival Church\, and hold services here at St Mary's
  on months with 5 Sundays.  The next fifth Sunday service is Holy Communio
 n on Palm Sunday 29th March at 10.30 am.  We also have a service for Ash W
 ednesday this year\, at 7.30 pm on Wednesday 18th February.
GEO:0.820749;51.831311
LOCATION:St Mary the Virgin\, Birch with Layer Breton
URL:https://www.achurchnearyou.com/church/6191/service-and-events/events/9
 69679/
END:VEVENT
END:VCALENDAR
