BEGIN:VCALENDAR
VERSION:2.0
PRODID:-//achurchnearyou.com//eventfeed//EN
CALSCALE:GREGORIAN
METHOD:PUBLISH
X-WR-TIMEZONE:UTC
BEGIN:VEVENT
SUMMARY:Church Cleaning
DTSTART;TZID=Europe/London:20241122T080000
DTEND;TZID=Europe/London:20241122T100000
DTSTAMP:20260426T041440Z
UID:11156952024-11-22 08:00:00+00:00achurchnearyou
CATEGORIES:
DESCRIPTION:This time is taken with cleaning the church
GEO:0.900218;51.725003
LOCATION:St Thomas’ church Bradwell-on-Sea
URL:https://www.achurchnearyou.com/church/6203/service-and-events/events/1
 115695/
END:VEVENT
BEGIN:VEVENT
SUMMARY:Church Cleaning
DTSTART;TZID=Europe/London:20241129T080000
DTEND;TZID=Europe/London:20241129T100000
DTSTAMP:20260426T041440Z
UID:11156952024-11-29 08:00:00+00:00achurchnearyou
CATEGORIES:
DESCRIPTION:This time is taken with cleaning the church
GEO:0.900218;51.725003
LOCATION:St Thomas’ church Bradwell-on-Sea
URL:https://www.achurchnearyou.com/church/6203/service-and-events/events/1
 115695/
END:VEVENT
BEGIN:VEVENT
SUMMARY:Church Cleaning
DTSTART;TZID=Europe/London:20241206T080000
DTEND;TZID=Europe/London:20241206T100000
DTSTAMP:20260426T041440Z
UID:11156952024-12-06 08:00:00+00:00achurchnearyou
CATEGORIES:
DESCRIPTION:This time is taken with cleaning the church
GEO:0.900218;51.725003
LOCATION:St Thomas’ church Bradwell-on-Sea
URL:https://www.achurchnearyou.com/church/6203/service-and-events/events/1
 115695/
END:VEVENT
BEGIN:VEVENT
SUMMARY:Church Cleaning
DTSTART;TZID=Europe/London:20241213T080000
DTEND;TZID=Europe/London:20241213T100000
DTSTAMP:20260426T041440Z
UID:11156952024-12-13 08:00:00+00:00achurchnearyou
CATEGORIES:
DESCRIPTION:This time is taken with cleaning the church
GEO:0.900218;51.725003
LOCATION:St Thomas’ church Bradwell-on-Sea
URL:https://www.achurchnearyou.com/church/6203/service-and-events/events/1
 115695/
END:VEVENT
BEGIN:VEVENT
SUMMARY:Church Cleaning
DTSTART;TZID=Europe/London:20241220T080000
DTEND;TZID=Europe/London:20241220T100000
DTSTAMP:20260426T041440Z
UID:11156952024-12-20 08:00:00+00:00achurchnearyou
CATEGORIES:
DESCRIPTION:This time is taken with cleaning the church
GEO:0.900218;51.725003
LOCATION:St Thomas’ church Bradwell-on-Sea
URL:https://www.achurchnearyou.com/church/6203/service-and-events/events/1
 115695/
END:VEVENT
BEGIN:VEVENT
SUMMARY:Church Cleaning
DTSTART;TZID=Europe/London:20241227T080000
DTEND;TZID=Europe/London:20241227T100000
DTSTAMP:20260426T041440Z
UID:11156952024-12-27 08:00:00+00:00achurchnearyou
CATEGORIES:
DESCRIPTION:This time is taken with cleaning the church
GEO:0.900218;51.725003
LOCATION:St Thomas’ church Bradwell-on-Sea
URL:https://www.achurchnearyou.com/church/6203/service-and-events/events/1
 115695/
END:VEVENT
BEGIN:VEVENT
SUMMARY:Church Cleaning
DTSTART;TZID=Europe/London:20250103T080000
DTEND;TZID=Europe/London:20250103T100000
DTSTAMP:20260426T041440Z
UID:11156952025-01-03 08:00:00+00:00achurchnearyou
CATEGORIES:
DESCRIPTION:This time is taken with cleaning the church
GEO:0.900218;51.725003
LOCATION:St Thomas’ church Bradwell-on-Sea
URL:https://www.achurchnearyou.com/church/6203/service-and-events/events/1
 115695/
END:VEVENT
BEGIN:VEVENT
SUMMARY:Church Cleaning
DTSTART;TZID=Europe/London:20250110T080000
DTEND;TZID=Europe/London:20250110T100000
DTSTAMP:20260426T041440Z
UID:11156952025-01-10 08:00:00+00:00achurchnearyou
CATEGORIES:
DESCRIPTION:This time is taken with cleaning the church
GEO:0.900218;51.725003
LOCATION:St Thomas’ church Bradwell-on-Sea
URL:https://www.achurchnearyou.com/church/6203/service-and-events/events/1
 115695/
END:VEVENT
BEGIN:VEVENT
SUMMARY:Church Cleaning
DTSTART;TZID=Europe/London:20250117T080000
DTEND;TZID=Europe/London:20250117T100000
DTSTAMP:20260426T041440Z
UID:11156952025-01-17 08:00:00+00:00achurchnearyou
CATEGORIES:
DESCRIPTION:This time is taken with cleaning the church
GEO:0.900218;51.725003
LOCATION:St Thomas’ church Bradwell-on-Sea
URL:https://www.achurchnearyou.com/church/6203/service-and-events/events/1
 115695/
END:VEVENT
BEGIN:VEVENT
SUMMARY:Church Cleaning
DTSTART;TZID=Europe/London:20250124T080000
DTEND;TZID=Europe/London:20250124T100000
DTSTAMP:20260426T041440Z
UID:11156952025-01-24 08:00:00+00:00achurchnearyou
CATEGORIES:
DESCRIPTION:This time is taken with cleaning the church
GEO:0.900218;51.725003
LOCATION:St Thomas’ church Bradwell-on-Sea
URL:https://www.achurchnearyou.com/church/6203/service-and-events/events/1
 115695/
END:VEVENT
BEGIN:VEVENT
SUMMARY:Church Cleaning
DTSTART;TZID=Europe/London:20250131T080000
DTEND;TZID=Europe/London:20250131T100000
DTSTAMP:20260426T041440Z
UID:11156952025-01-31 08:00:00+00:00achurchnearyou
CATEGORIES:
DESCRIPTION:This time is taken with cleaning the church
GEO:0.900218;51.725003
LOCATION:St Thomas’ church Bradwell-on-Sea
URL:https://www.achurchnearyou.com/church/6203/service-and-events/events/1
 115695/
END:VEVENT
BEGIN:VEVENT
SUMMARY:Church Cleaning
DTSTART;TZID=Europe/London:20250207T080000
DTEND;TZID=Europe/London:20250207T100000
DTSTAMP:20260426T041440Z
UID:11156952025-02-07 08:00:00+00:00achurchnearyou
CATEGORIES:
DESCRIPTION:This time is taken with cleaning the church
GEO:0.900218;51.725003
LOCATION:St Thomas’ church Bradwell-on-Sea
URL:https://www.achurchnearyou.com/church/6203/service-and-events/events/1
 115695/
END:VEVENT
BEGIN:VEVENT
SUMMARY:Church Cleaning
DTSTART;TZID=Europe/London:20250214T080000
DTEND;TZID=Europe/London:20250214T100000
DTSTAMP:20260426T041440Z
UID:11156952025-02-14 08:00:00+00:00achurchnearyou
CATEGORIES:
DESCRIPTION:This time is taken with cleaning the church
GEO:0.900218;51.725003
LOCATION:St Thomas’ church Bradwell-on-Sea
URL:https://www.achurchnearyou.com/church/6203/service-and-events/events/1
 115695/
END:VEVENT
BEGIN:VEVENT
SUMMARY:Church Cleaning
DTSTART;TZID=Europe/London:20250221T080000
DTEND;TZID=Europe/London:20250221T100000
DTSTAMP:20260426T041440Z
UID:11156952025-02-21 08:00:00+00:00achurchnearyou
CATEGORIES:
DESCRIPTION:This time is taken with cleaning the church
GEO:0.900218;51.725003
LOCATION:St Thomas’ church Bradwell-on-Sea
URL:https://www.achurchnearyou.com/church/6203/service-and-events/events/1
 115695/
END:VEVENT
BEGIN:VEVENT
SUMMARY:Church Cleaning
DTSTART;TZID=Europe/London:20250228T080000
DTEND;TZID=Europe/London:20250228T100000
DTSTAMP:20260426T041440Z
UID:11156952025-02-28 08:00:00+00:00achurchnearyou
CATEGORIES:
DESCRIPTION:This time is taken with cleaning the church
GEO:0.900218;51.725003
LOCATION:St Thomas’ church Bradwell-on-Sea
URL:https://www.achurchnearyou.com/church/6203/service-and-events/events/1
 115695/
END:VEVENT
BEGIN:VEVENT
SUMMARY:Church Cleaning
DTSTART;TZID=Europe/London:20250307T080000
DTEND;TZID=Europe/London:20250307T100000
DTSTAMP:20260426T041440Z
UID:11156952025-03-07 08:00:00+00:00achurchnearyou
CATEGORIES:
DESCRIPTION:This time is taken with cleaning the church
GEO:0.900218;51.725003
LOCATION:St Thomas’ church Bradwell-on-Sea
URL:https://www.achurchnearyou.com/church/6203/service-and-events/events/1
 115695/
END:VEVENT
BEGIN:VEVENT
SUMMARY:Church Cleaning
DTSTART;TZID=Europe/London:20250314T080000
DTEND;TZID=Europe/London:20250314T100000
DTSTAMP:20260426T041440Z
UID:11156952025-03-14 08:00:00+00:00achurchnearyou
CATEGORIES:
DESCRIPTION:This time is taken with cleaning the church
GEO:0.900218;51.725003
LOCATION:St Thomas’ church Bradwell-on-Sea
URL:https://www.achurchnearyou.com/church/6203/service-and-events/events/1
 115695/
END:VEVENT
BEGIN:VEVENT
SUMMARY:Church Cleaning
DTSTART;TZID=Europe/London:20250321T080000
DTEND;TZID=Europe/London:20250321T100000
DTSTAMP:20260426T041440Z
UID:11156952025-03-21 08:00:00+00:00achurchnearyou
CATEGORIES:
DESCRIPTION:This time is taken with cleaning the church
GEO:0.900218;51.725003
LOCATION:St Thomas’ church Bradwell-on-Sea
URL:https://www.achurchnearyou.com/church/6203/service-and-events/events/1
 115695/
END:VEVENT
BEGIN:VEVENT
SUMMARY:Church Cleaning
DTSTART;TZID=Europe/London:20250328T080000
DTEND;TZID=Europe/London:20250328T100000
DTSTAMP:20260426T041440Z
UID:11156952025-03-28 08:00:00+00:00achurchnearyou
CATEGORIES:
DESCRIPTION:This time is taken with cleaning the church
GEO:0.900218;51.725003
LOCATION:St Thomas’ church Bradwell-on-Sea
URL:https://www.achurchnearyou.com/church/6203/service-and-events/events/1
 115695/
END:VEVENT
BEGIN:VEVENT
SUMMARY:Church Cleaning
DTSTART;TZID=Europe/London:20250404T080000
DTEND;TZID=Europe/London:20250404T100000
DTSTAMP:20260426T041440Z
UID:11156952025-04-04 08:00:00+01:00achurchnearyou
CATEGORIES:
DESCRIPTION:This time is taken with cleaning the church
GEO:0.900218;51.725003
LOCATION:St Thomas’ church Bradwell-on-Sea
URL:https://www.achurchnearyou.com/church/6203/service-and-events/events/1
 115695/
END:VEVENT
BEGIN:VEVENT
SUMMARY:Church Cleaning
DTSTART;TZID=Europe/London:20250411T080000
DTEND;TZID=Europe/London:20250411T100000
DTSTAMP:20260426T041440Z
UID:11156952025-04-11 08:00:00+01:00achurchnearyou
CATEGORIES:
DESCRIPTION:This time is taken with cleaning the church
GEO:0.900218;51.725003
LOCATION:St Thomas’ church Bradwell-on-Sea
URL:https://www.achurchnearyou.com/church/6203/service-and-events/events/1
 115695/
END:VEVENT
BEGIN:VEVENT
SUMMARY:Church Cleaning
DTSTART;TZID=Europe/London:20250418T080000
DTEND;TZID=Europe/London:20250418T100000
DTSTAMP:20260426T041440Z
UID:11156952025-04-18 08:00:00+01:00achurchnearyou
CATEGORIES:
DESCRIPTION:This time is taken with cleaning the church
GEO:0.900218;51.725003
LOCATION:St Thomas’ church Bradwell-on-Sea
URL:https://www.achurchnearyou.com/church/6203/service-and-events/events/1
 115695/
END:VEVENT
BEGIN:VEVENT
SUMMARY:Church Cleaning
DTSTART;TZID=Europe/London:20250425T080000
DTEND;TZID=Europe/London:20250425T100000
DTSTAMP:20260426T041440Z
UID:11156952025-04-25 08:00:00+01:00achurchnearyou
CATEGORIES:
DESCRIPTION:This time is taken with cleaning the church
GEO:0.900218;51.725003
LOCATION:St Thomas’ church Bradwell-on-Sea
URL:https://www.achurchnearyou.com/church/6203/service-and-events/events/1
 115695/
END:VEVENT
BEGIN:VEVENT
SUMMARY:Church Cleaning
DTSTART;TZID=Europe/London:20250502T080000
DTEND;TZID=Europe/London:20250502T100000
DTSTAMP:20260426T041440Z
UID:11156952025-05-02 08:00:00+01:00achurchnearyou
CATEGORIES:
DESCRIPTION:This time is taken with cleaning the church
GEO:0.900218;51.725003
LOCATION:St Thomas’ church Bradwell-on-Sea
URL:https://www.achurchnearyou.com/church/6203/service-and-events/events/1
 115695/
END:VEVENT
BEGIN:VEVENT
SUMMARY:Church Cleaning
DTSTART;TZID=Europe/London:20250509T080000
DTEND;TZID=Europe/London:20250509T100000
DTSTAMP:20260426T041440Z
UID:11156952025-05-09 08:00:00+01:00achurchnearyou
CATEGORIES:
DESCRIPTION:This time is taken with cleaning the church
GEO:0.900218;51.725003
LOCATION:St Thomas’ church Bradwell-on-Sea
URL:https://www.achurchnearyou.com/church/6203/service-and-events/events/1
 115695/
END:VEVENT
BEGIN:VEVENT
SUMMARY:Church Cleaning
DTSTART;TZID=Europe/London:20250516T080000
DTEND;TZID=Europe/London:20250516T100000
DTSTAMP:20260426T041440Z
UID:11156952025-05-16 08:00:00+01:00achurchnearyou
CATEGORIES:
DESCRIPTION:This time is taken with cleaning the church
GEO:0.900218;51.725003
LOCATION:St Thomas’ church Bradwell-on-Sea
URL:https://www.achurchnearyou.com/church/6203/service-and-events/events/1
 115695/
END:VEVENT
BEGIN:VEVENT
SUMMARY:Church Cleaning
DTSTART;TZID=Europe/London:20250523T080000
DTEND;TZID=Europe/London:20250523T100000
DTSTAMP:20260426T041440Z
UID:11156952025-05-23 08:00:00+01:00achurchnearyou
CATEGORIES:
DESCRIPTION:This time is taken with cleaning the church
GEO:0.900218;51.725003
LOCATION:St Thomas’ church Bradwell-on-Sea
URL:https://www.achurchnearyou.com/church/6203/service-and-events/events/1
 115695/
END:VEVENT
BEGIN:VEVENT
SUMMARY:Church Cleaning
DTSTART;TZID=Europe/London:20250530T080000
DTEND;TZID=Europe/London:20250530T100000
DTSTAMP:20260426T041440Z
UID:11156952025-05-30 08:00:00+01:00achurchnearyou
CATEGORIES:
DESCRIPTION:This time is taken with cleaning the church
GEO:0.900218;51.725003
LOCATION:St Thomas’ church Bradwell-on-Sea
URL:https://www.achurchnearyou.com/church/6203/service-and-events/events/1
 115695/
END:VEVENT
BEGIN:VEVENT
SUMMARY:Church Cleaning
DTSTART;TZID=Europe/London:20250606T080000
DTEND;TZID=Europe/London:20250606T100000
DTSTAMP:20260426T041440Z
UID:11156952025-06-06 08:00:00+01:00achurchnearyou
CATEGORIES:
DESCRIPTION:This time is taken with cleaning the church
GEO:0.900218;51.725003
LOCATION:St Thomas’ church Bradwell-on-Sea
URL:https://www.achurchnearyou.com/church/6203/service-and-events/events/1
 115695/
END:VEVENT
BEGIN:VEVENT
SUMMARY:Church Cleaning
DTSTART;TZID=Europe/London:20250613T080000
DTEND;TZID=Europe/London:20250613T100000
DTSTAMP:20260426T041440Z
UID:11156952025-06-13 08:00:00+01:00achurchnearyou
CATEGORIES:
DESCRIPTION:This time is taken with cleaning the church
GEO:0.900218;51.725003
LOCATION:St Thomas’ church Bradwell-on-Sea
URL:https://www.achurchnearyou.com/church/6203/service-and-events/events/1
 115695/
END:VEVENT
BEGIN:VEVENT
SUMMARY:Church Cleaning
DTSTART;TZID=Europe/London:20250620T080000
DTEND;TZID=Europe/London:20250620T100000
DTSTAMP:20260426T041440Z
UID:11156952025-06-20 08:00:00+01:00achurchnearyou
CATEGORIES:
DESCRIPTION:This time is taken with cleaning the church
GEO:0.900218;51.725003
LOCATION:St Thomas’ church Bradwell-on-Sea
URL:https://www.achurchnearyou.com/church/6203/service-and-events/events/1
 115695/
END:VEVENT
BEGIN:VEVENT
SUMMARY:Church Cleaning
DTSTART;TZID=Europe/London:20250627T080000
DTEND;TZID=Europe/London:20250627T100000
DTSTAMP:20260426T041440Z
UID:11156952025-06-27 08:00:00+01:00achurchnearyou
CATEGORIES:
DESCRIPTION:This time is taken with cleaning the church
GEO:0.900218;51.725003
LOCATION:St Thomas’ church Bradwell-on-Sea
URL:https://www.achurchnearyou.com/church/6203/service-and-events/events/1
 115695/
END:VEVENT
BEGIN:VEVENT
SUMMARY:Church Cleaning
DTSTART;TZID=Europe/London:20250704T080000
DTEND;TZID=Europe/London:20250704T100000
DTSTAMP:20260426T041440Z
UID:11156952025-07-04 08:00:00+01:00achurchnearyou
CATEGORIES:
DESCRIPTION:This time is taken with cleaning the church
GEO:0.900218;51.725003
LOCATION:St Thomas’ church Bradwell-on-Sea
URL:https://www.achurchnearyou.com/church/6203/service-and-events/events/1
 115695/
END:VEVENT
BEGIN:VEVENT
SUMMARY:Church Cleaning
DTSTART;TZID=Europe/London:20250711T080000
DTEND;TZID=Europe/London:20250711T100000
DTSTAMP:20260426T041440Z
UID:11156952025-07-11 08:00:00+01:00achurchnearyou
CATEGORIES:
DESCRIPTION:This time is taken with cleaning the church
GEO:0.900218;51.725003
LOCATION:St Thomas’ church Bradwell-on-Sea
URL:https://www.achurchnearyou.com/church/6203/service-and-events/events/1
 115695/
END:VEVENT
BEGIN:VEVENT
SUMMARY:Church Cleaning
DTSTART;TZID=Europe/London:20250718T080000
DTEND;TZID=Europe/London:20250718T100000
DTSTAMP:20260426T041440Z
UID:11156952025-07-18 08:00:00+01:00achurchnearyou
CATEGORIES:
DESCRIPTION:This time is taken with cleaning the church
GEO:0.900218;51.725003
LOCATION:St Thomas’ church Bradwell-on-Sea
URL:https://www.achurchnearyou.com/church/6203/service-and-events/events/1
 115695/
END:VEVENT
BEGIN:VEVENT
SUMMARY:Church Cleaning
DTSTART;TZID=Europe/London:20250725T080000
DTEND;TZID=Europe/London:20250725T100000
DTSTAMP:20260426T041440Z
UID:11156952025-07-25 08:00:00+01:00achurchnearyou
CATEGORIES:
DESCRIPTION:This time is taken with cleaning the church
GEO:0.900218;51.725003
LOCATION:St Thomas’ church Bradwell-on-Sea
URL:https://www.achurchnearyou.com/church/6203/service-and-events/events/1
 115695/
END:VEVENT
BEGIN:VEVENT
SUMMARY:Church Cleaning
DTSTART;TZID=Europe/London:20250801T080000
DTEND;TZID=Europe/London:20250801T100000
DTSTAMP:20260426T041440Z
UID:11156952025-08-01 08:00:00+01:00achurchnearyou
CATEGORIES:
DESCRIPTION:This time is taken with cleaning the church
GEO:0.900218;51.725003
LOCATION:St Thomas’ church Bradwell-on-Sea
URL:https://www.achurchnearyou.com/church/6203/service-and-events/events/1
 115695/
END:VEVENT
BEGIN:VEVENT
SUMMARY:Church Cleaning
DTSTART;TZID=Europe/London:20250808T080000
DTEND;TZID=Europe/London:20250808T100000
DTSTAMP:20260426T041440Z
UID:11156952025-08-08 08:00:00+01:00achurchnearyou
CATEGORIES:
DESCRIPTION:This time is taken with cleaning the church
GEO:0.900218;51.725003
LOCATION:St Thomas’ church Bradwell-on-Sea
URL:https://www.achurchnearyou.com/church/6203/service-and-events/events/1
 115695/
END:VEVENT
BEGIN:VEVENT
SUMMARY:Church Cleaning
DTSTART;TZID=Europe/London:20250815T080000
DTEND;TZID=Europe/London:20250815T100000
DTSTAMP:20260426T041440Z
UID:11156952025-08-15 08:00:00+01:00achurchnearyou
CATEGORIES:
DESCRIPTION:This time is taken with cleaning the church
GEO:0.900218;51.725003
LOCATION:St Thomas’ church Bradwell-on-Sea
URL:https://www.achurchnearyou.com/church/6203/service-and-events/events/1
 115695/
END:VEVENT
BEGIN:VEVENT
SUMMARY:Church Cleaning
DTSTART;TZID=Europe/London:20250822T080000
DTEND;TZID=Europe/London:20250822T100000
DTSTAMP:20260426T041440Z
UID:11156952025-08-22 08:00:00+01:00achurchnearyou
CATEGORIES:
DESCRIPTION:This time is taken with cleaning the church
GEO:0.900218;51.725003
LOCATION:St Thomas’ church Bradwell-on-Sea
URL:https://www.achurchnearyou.com/church/6203/service-and-events/events/1
 115695/
END:VEVENT
BEGIN:VEVENT
SUMMARY:Church Cleaning
DTSTART;TZID=Europe/London:20250829T080000
DTEND;TZID=Europe/London:20250829T100000
DTSTAMP:20260426T041440Z
UID:11156952025-08-29 08:00:00+01:00achurchnearyou
CATEGORIES:
DESCRIPTION:This time is taken with cleaning the church
GEO:0.900218;51.725003
LOCATION:St Thomas’ church Bradwell-on-Sea
URL:https://www.achurchnearyou.com/church/6203/service-and-events/events/1
 115695/
END:VEVENT
BEGIN:VEVENT
SUMMARY:Church Cleaning
DTSTART;TZID=Europe/London:20250905T080000
DTEND;TZID=Europe/London:20250905T100000
DTSTAMP:20260426T041440Z
UID:11156952025-09-05 08:00:00+01:00achurchnearyou
CATEGORIES:
DESCRIPTION:This time is taken with cleaning the church
GEO:0.900218;51.725003
LOCATION:St Thomas’ church Bradwell-on-Sea
URL:https://www.achurchnearyou.com/church/6203/service-and-events/events/1
 115695/
END:VEVENT
BEGIN:VEVENT
SUMMARY:Church Cleaning
DTSTART;TZID=Europe/London:20250912T080000
DTEND;TZID=Europe/London:20250912T100000
DTSTAMP:20260426T041440Z
UID:11156952025-09-12 08:00:00+01:00achurchnearyou
CATEGORIES:
DESCRIPTION:This time is taken with cleaning the church
GEO:0.900218;51.725003
LOCATION:St Thomas’ church Bradwell-on-Sea
URL:https://www.achurchnearyou.com/church/6203/service-and-events/events/1
 115695/
END:VEVENT
BEGIN:VEVENT
SUMMARY:Church Cleaning
DTSTART;TZID=Europe/London:20250919T080000
DTEND;TZID=Europe/London:20250919T100000
DTSTAMP:20260426T041440Z
UID:11156952025-09-19 08:00:00+01:00achurchnearyou
CATEGORIES:
DESCRIPTION:This time is taken with cleaning the church
GEO:0.900218;51.725003
LOCATION:St Thomas’ church Bradwell-on-Sea
URL:https://www.achurchnearyou.com/church/6203/service-and-events/events/1
 115695/
END:VEVENT
BEGIN:VEVENT
SUMMARY:Church Cleaning
DTSTART;TZID=Europe/London:20250926T080000
DTEND;TZID=Europe/London:20250926T100000
DTSTAMP:20260426T041440Z
UID:11156952025-09-26 08:00:00+01:00achurchnearyou
CATEGORIES:
DESCRIPTION:This time is taken with cleaning the church
GEO:0.900218;51.725003
LOCATION:St Thomas’ church Bradwell-on-Sea
URL:https://www.achurchnearyou.com/church/6203/service-and-events/events/1
 115695/
END:VEVENT
BEGIN:VEVENT
SUMMARY:Church Cleaning
DTSTART;TZID=Europe/London:20251003T080000
DTEND;TZID=Europe/London:20251003T100000
DTSTAMP:20260426T041440Z
UID:11156952025-10-03 08:00:00+01:00achurchnearyou
CATEGORIES:
DESCRIPTION:This time is taken with cleaning the church
GEO:0.900218;51.725003
LOCATION:St Thomas’ church Bradwell-on-Sea
URL:https://www.achurchnearyou.com/church/6203/service-and-events/events/1
 115695/
END:VEVENT
BEGIN:VEVENT
SUMMARY:Church Cleaning
DTSTART;TZID=Europe/London:20251010T080000
DTEND;TZID=Europe/London:20251010T100000
DTSTAMP:20260426T041440Z
UID:11156952025-10-10 08:00:00+01:00achurchnearyou
CATEGORIES:
DESCRIPTION:This time is taken with cleaning the church
GEO:0.900218;51.725003
LOCATION:St Thomas’ church Bradwell-on-Sea
URL:https://www.achurchnearyou.com/church/6203/service-and-events/events/1
 115695/
END:VEVENT
BEGIN:VEVENT
SUMMARY:Church Cleaning
DTSTART;TZID=Europe/London:20251017T080000
DTEND;TZID=Europe/London:20251017T100000
DTSTAMP:20260426T041440Z
UID:11156952025-10-17 08:00:00+01:00achurchnearyou
CATEGORIES:
DESCRIPTION:This time is taken with cleaning the church
GEO:0.900218;51.725003
LOCATION:St Thomas’ church Bradwell-on-Sea
URL:https://www.achurchnearyou.com/church/6203/service-and-events/events/1
 115695/
END:VEVENT
BEGIN:VEVENT
SUMMARY:Church Cleaning
DTSTART;TZID=Europe/London:20251024T080000
DTEND;TZID=Europe/London:20251024T100000
DTSTAMP:20260426T041440Z
UID:11156952025-10-24 08:00:00+01:00achurchnearyou
CATEGORIES:
DESCRIPTION:This time is taken with cleaning the church
GEO:0.900218;51.725003
LOCATION:St Thomas’ church Bradwell-on-Sea
URL:https://www.achurchnearyou.com/church/6203/service-and-events/events/1
 115695/
END:VEVENT
BEGIN:VEVENT
SUMMARY:Church Cleaning
DTSTART;TZID=Europe/London:20251031T080000
DTEND;TZID=Europe/London:20251031T100000
DTSTAMP:20260426T041440Z
UID:11156952025-10-31 08:00:00+00:00achurchnearyou
CATEGORIES:
DESCRIPTION:This time is taken with cleaning the church
GEO:0.900218;51.725003
LOCATION:St Thomas’ church Bradwell-on-Sea
URL:https://www.achurchnearyou.com/church/6203/service-and-events/events/1
 115695/
END:VEVENT
BEGIN:VEVENT
SUMMARY:Church Cleaning
DTSTART;TZID=Europe/London:20251107T080000
DTEND;TZID=Europe/London:20251107T100000
DTSTAMP:20260426T041440Z
UID:11156952025-11-07 08:00:00+00:00achurchnearyou
CATEGORIES:
DESCRIPTION:This time is taken with cleaning the church
GEO:0.900218;51.725003
LOCATION:St Thomas’ church Bradwell-on-Sea
URL:https://www.achurchnearyou.com/church/6203/service-and-events/events/1
 115695/
END:VEVENT
BEGIN:VEVENT
SUMMARY:Church Cleaning
DTSTART;TZID=Europe/London:20251114T080000
DTEND;TZID=Europe/London:20251114T100000
DTSTAMP:20260426T041440Z
UID:11156952025-11-14 08:00:00+00:00achurchnearyou
CATEGORIES:
DESCRIPTION:This time is taken with cleaning the church
GEO:0.900218;51.725003
LOCATION:St Thomas’ church Bradwell-on-Sea
URL:https://www.achurchnearyou.com/church/6203/service-and-events/events/1
 115695/
END:VEVENT
BEGIN:VEVENT
SUMMARY:Church Cleaning
DTSTART;TZID=Europe/London:20251121T080000
DTEND;TZID=Europe/London:20251121T100000
DTSTAMP:20260426T041440Z
UID:11156952025-11-21 08:00:00+00:00achurchnearyou
CATEGORIES:
DESCRIPTION:This time is taken with cleaning the church
GEO:0.900218;51.725003
LOCATION:St Thomas’ church Bradwell-on-Sea
URL:https://www.achurchnearyou.com/church/6203/service-and-events/events/1
 115695/
END:VEVENT
BEGIN:VEVENT
SUMMARY:Church Cleaning
DTSTART;TZID=Europe/London:20251128T080000
DTEND;TZID=Europe/London:20251128T100000
DTSTAMP:20260426T041440Z
UID:11156952025-11-28 08:00:00+00:00achurchnearyou
CATEGORIES:
DESCRIPTION:This time is taken with cleaning the church
GEO:0.900218;51.725003
LOCATION:St Thomas’ church Bradwell-on-Sea
URL:https://www.achurchnearyou.com/church/6203/service-and-events/events/1
 115695/
END:VEVENT
BEGIN:VEVENT
SUMMARY:Church Cleaning
DTSTART;TZID=Europe/London:20251205T080000
DTEND;TZID=Europe/London:20251205T100000
DTSTAMP:20260426T041440Z
UID:11156952025-12-05 08:00:00+00:00achurchnearyou
CATEGORIES:
DESCRIPTION:This time is taken with cleaning the church
GEO:0.900218;51.725003
LOCATION:St Thomas’ church Bradwell-on-Sea
URL:https://www.achurchnearyou.com/church/6203/service-and-events/events/1
 115695/
END:VEVENT
BEGIN:VEVENT
SUMMARY:Church Cleaning
DTSTART;TZID=Europe/London:20251212T080000
DTEND;TZID=Europe/London:20251212T100000
DTSTAMP:20260426T041440Z
UID:11156952025-12-12 08:00:00+00:00achurchnearyou
CATEGORIES:
DESCRIPTION:This time is taken with cleaning the church
GEO:0.900218;51.725003
LOCATION:St Thomas’ church Bradwell-on-Sea
URL:https://www.achurchnearyou.com/church/6203/service-and-events/events/1
 115695/
END:VEVENT
BEGIN:VEVENT
SUMMARY:Church Cleaning
DTSTART;TZID=Europe/London:20251219T080000
DTEND;TZID=Europe/London:20251219T100000
DTSTAMP:20260426T041440Z
UID:11156952025-12-19 08:00:00+00:00achurchnearyou
CATEGORIES:
DESCRIPTION:This time is taken with cleaning the church
GEO:0.900218;51.725003
LOCATION:St Thomas’ church Bradwell-on-Sea
URL:https://www.achurchnearyou.com/church/6203/service-and-events/events/1
 115695/
END:VEVENT
END:VCALENDAR
