BEGIN:VCALENDAR
VERSION:2.0
PRODID:-//achurchnearyou.com//eventfeed//EN
CALSCALE:GREGORIAN
METHOD:PUBLISH
X-WR-TIMEZONE:UTC
BEGIN:VEVENT
SUMMARY:Christmas Crib Service
DTSTART:20251224T163000Z
DTEND:20251224T171500Z
DTSTAMP:20260426T041227Z
UID:12750152025-12-24 16:30:00+00:00achurchnearyou
CATEGORIES:
DESCRIPTION:For families and children\, a lovely service to start Christma
 s and sing favourite carols and hear the Christmas Story
GEO:0.900218;51.725003
LOCATION:St Thomas’ church Bradwell-on-Sea
URL:https://www.achurchnearyou.com/church/6203/service-and-events/events/1
 275015/
END:VEVENT
END:VCALENDAR
