BEGIN:VCALENDAR
VERSION:2.0
PRODID:-//achurchnearyou.com//eventfeed//EN
CALSCALE:GREGORIAN
METHOD:PUBLISH
X-WR-TIMEZONE:UTC
BEGIN:VEVENT
SUMMARY:Village Carol Service
DTSTART:20251221T180000Z
DTEND:20251221T190000Z
DTSTAMP:20260422T170254Z
UID:12696012025-12-21 18:00:00+00:00achurchnearyou
CATEGORIES:
DESCRIPTION:Sunday 21st December at 6pm.  A traditional Carol service foll
 owed by refreshments.  All Welcome!
GEO:0.469823;51.766976
LOCATION:St Mary w St Leonard\, The Parish Church of Broomfield
URL:https://www.achurchnearyou.com/church/6211/service-and-events/events/1
 269601/
END:VEVENT
END:VCALENDAR
