BEGIN:VCALENDAR
VERSION:2.0
PRODID:-//achurchnearyou.com//eventfeed//EN
CALSCALE:GREGORIAN
METHOD:PUBLISH
X-WR-TIMEZONE:UTC
BEGIN:VEVENT
SUMMARY:Ascension
DTSTART:20250529T083000Z
DTEND:20250529T093000Z
DTSTAMP:20260419T135254Z
UID:1688652025-05-29 08:30:00+00:00achurchnearyou
CATEGORIES:
DESCRIPTION:Eucharist
GEO:0.577318;51.520359
LOCATION:St Nicholas
URL:https://www.achurchnearyou.com/church/6225/service-and-events/events/1
 68865/
END:VEVENT
END:VCALENDAR
